
BEGIN:VCALENDAR
VERSION:2.0
PRODID:-//Family Life Radio - ECPv6.15.20//NONSGML v1.0//EN
CALSCALE:GREGORIAN
METHOD:PUBLISH
X-WR-CALNAME:Family Life Radio
X-ORIGINAL-URL:https://myflr.org
X-WR-CALDESC:Events for Family Life Radio
REFRESH-INTERVAL;VALUE=DURATION:PT1H
X-Robots-Tag:noindex
X-PUBLISHED-TTL:PT1H
BEGIN:VTIMEZONE
TZID:America/Phoenix
BEGIN:STANDARD
TZOFFSETFROM:-0700
TZOFFSETTO:-0700
TZNAME:MST
DTSTART:20230101T000000
END:STANDARD
END:VTIMEZONE
BEGIN:VEVENT
DTSTART;TZID=America/Phoenix:20240603T183000
DTEND;TZID=America/Phoenix:20240603T203000
DTSTAMP:20260421T154442
CREATED:20240521T125046Z
LAST-MODIFIED:20240521T125046Z
UID:10026485-1717439400-1717446600@myflr.org
SUMMARY:Conservative Candidate Forum
DESCRIPTION:Muskegon County Conservative Women’s Caucus is hosting a candidate forum for local and state candidates to share their values Ana goals of elected. Please join us to familiarize yourself with these candidates to ensure you are making informed choices at the voting booth. We will also have a Q and A time to ask any questions you may have.
URL:https://myflr.org/event/conservative-candidate-forum/
LOCATION:Collegiate Hall\, Muskegon Community College (Muskegon\, MI)\, 221 S. Quarterline Road\, Muskegon\, MI\, 49442\, United States
CATEGORIES:Michigan
ATTACH;FMTTYPE=image/jpeg:https://eadn-wc05-15902914.nxedge.io/wp-content/uploads/2024/05/8C57171A-0497-4E72-90B1-4ECBD64FCA05.jpeg
END:VEVENT
END:VCALENDAR