
BEGIN:VCALENDAR
VERSION:2.0
PRODID:-//Family Life Radio - ECPv6.15.20//NONSGML v1.0//EN
CALSCALE:GREGORIAN
METHOD:PUBLISH
X-WR-CALNAME:Family Life Radio
X-ORIGINAL-URL:https://myflr.org
X-WR-CALDESC:Events for Family Life Radio
REFRESH-INTERVAL;VALUE=DURATION:PT1H
X-Robots-Tag:noindex
X-PUBLISHED-TTL:PT1H
BEGIN:VTIMEZONE
TZID:America/Detroit
BEGIN:DAYLIGHT
TZOFFSETFROM:-0500
TZOFFSETTO:-0400
TZNAME:EDT
DTSTART:20230312T070000
END:DAYLIGHT
BEGIN:STANDARD
TZOFFSETFROM:-0400
TZOFFSETTO:-0500
TZNAME:EST
DTSTART:20231105T060000
END:STANDARD
BEGIN:DAYLIGHT
TZOFFSETFROM:-0500
TZOFFSETTO:-0400
TZNAME:EDT
DTSTART:20240310T070000
END:DAYLIGHT
BEGIN:STANDARD
TZOFFSETFROM:-0400
TZOFFSETTO:-0500
TZNAME:EST
DTSTART:20241103T060000
END:STANDARD
BEGIN:DAYLIGHT
TZOFFSETFROM:-0500
TZOFFSETTO:-0400
TZNAME:EDT
DTSTART:20250309T070000
END:DAYLIGHT
BEGIN:STANDARD
TZOFFSETFROM:-0400
TZOFFSETTO:-0500
TZNAME:EST
DTSTART:20251102T060000
END:STANDARD
BEGIN:DAYLIGHT
TZOFFSETFROM:-0500
TZOFFSETTO:-0400
TZNAME:EDT
DTSTART:20260308T070000
END:DAYLIGHT
BEGIN:STANDARD
TZOFFSETFROM:-0400
TZOFFSETTO:-0500
TZNAME:EST
DTSTART:20261101T060000
END:STANDARD
BEGIN:DAYLIGHT
TZOFFSETFROM:-0500
TZOFFSETTO:-0400
TZNAME:EDT
DTSTART:20270314T070000
END:DAYLIGHT
BEGIN:STANDARD
TZOFFSETFROM:-0400
TZOFFSETTO:-0500
TZNAME:EST
DTSTART:20271107T060000
END:STANDARD
END:VTIMEZONE
BEGIN:VEVENT
DTSTART;TZID=America/Detroit:20260122T173000
DTEND;TZID=America/Detroit:20260122T193000
DTSTAMP:20260420T023152
CREATED:20260106T172050Z
LAST-MODIFIED:20260106T172050Z
UID:10057911-1769103000-1769110200@myflr.org
SUMMARY:Home Plate Detroit Informational Event - Detroit
DESCRIPTION:Calling all Pastors and Ministry Leaders! The Detroit Tigers’ Faith and Family Day at Comerica Park is returning in 2026\, and we can’t wait to see congregations from across Michigan and beyond join us for the event! As a precursor to Home Plate Detroit on June 6th\, we will be hosting an informational event for church leaders to learn more about the program’s history and what it will look like for 2026! We will have food and drinks avalible as well as a panel consisting of our Detroit Tigers team Chaplain and a couple of former Detroit Tigers Players! \nFor information on the event\, please reach out to Jackson Billings at Jackson.Billings@Tigers.com. \nSee You There!
URL:https://myflr.org/event/home-plate-detroit-informational-event-detroit/
LOCATION:Comerica Park\, 2100 Woodward Avenue\, Detroit\, MI\, 48201\, United States
CATEGORIES:Michigan
ATTACH;FMTTYPE=image/png:https://eadn-wc05-15902914.nxedge.io/wp-content/uploads/2026/01/Homeplate-Detroit-Logo.png
ORGANIZER;CN="Detroit Tigers":MAILTO:Jackson.Billings@Tigers.com
END:VEVENT
BEGIN:VEVENT
DTSTART;TZID=America/Detroit:20240622T093000
DTEND;TZID=America/Detroit:20240622T160000
DTSTAMP:20260420T023152
CREATED:20240320T152754Z
LAST-MODIFIED:20240417T144101Z
UID:10022809-1719048600-1719072000@myflr.org
SUMMARY:Home Plate 2024 – Detroit
DESCRIPTION:Join Tiger pitchers Will Vest\, Tyler Holton\, & Mason Englert\, outfielder Kerry Carpenter\, White Sox 1st baseman/rightfielder Gavin Sheets\, retired Tiger Frank Tanana\, and Christian Recording Artist Matt Hammitt for a program that will include these athletes speaking about their careers in professional sports and their faith in Jesus Christ. \nTicket location options are Upper Grandstands and Mezzanine in the Upper Deck and Right Field Bleachers\, Pavilion\, Outfield Box\, and Infield Box in the Lower Deck. For a “Schedule for the Day”\, ticket pricing options\, and updates\, please visit: www.HomePlateDetroit.Org \n\n            Home Plate Program: 9:30 AM (Gates Open at 8:30 AM)\n            Game Time:  1:10 PM (Should conclude around 4:00 PM)\n\n\n 3 OPTIONS TO ORDER TICKETS: \n\n  Order Blocks of 9 or Less Digital Tickets at: https://fevo-enterprise.com/event/Homeplate24\n  Order Blocks of 10 or More Digital or Printed Tickets by Contacting Nick McClure (313) 471-7178 Nick.McClure@tigers.com\n  Order Any Amount of Printed Tickets with a Mail-In Order Form at the HOME PLATE 2024 website – www.HomePlateDetroit.Org
URL:https://myflr.org/event/home-plate-2024-detroit/
LOCATION:Comerica Park\, 2100 Woodward Avenue\, Detroit\, MI\, 48201\, United States
CATEGORIES:Featured,Michigan
ATTACH;FMTTYPE=image/png:https://eadn-wc05-15902914.nxedge.io/wp-content/uploads/2024/03/24DTI_Homeplate_Graphic_1080x1080_SL_V140.png
ORGANIZER;CN="Home Plate Detroit":MAILTO:HomePlateDetroit@AOL.Com
END:VEVENT
END:VCALENDAR