
BEGIN:VCALENDAR
VERSION:2.0
PRODID:-//Family Life Radio - ECPv6.15.20//NONSGML v1.0//EN
CALSCALE:GREGORIAN
METHOD:PUBLISH
X-WR-CALNAME:Family Life Radio
X-ORIGINAL-URL:https://myflr.org
X-WR-CALDESC:Events for Family Life Radio
REFRESH-INTERVAL;VALUE=DURATION:PT1H
X-Robots-Tag:noindex
X-PUBLISHED-TTL:PT1H
BEGIN:VTIMEZONE
TZID:America/Detroit
BEGIN:DAYLIGHT
TZOFFSETFROM:-0500
TZOFFSETTO:-0400
TZNAME:EDT
DTSTART:20250309T070000
END:DAYLIGHT
BEGIN:STANDARD
TZOFFSETFROM:-0400
TZOFFSETTO:-0500
TZNAME:EST
DTSTART:20251102T060000
END:STANDARD
BEGIN:DAYLIGHT
TZOFFSETFROM:-0500
TZOFFSETTO:-0400
TZNAME:EDT
DTSTART:20260308T070000
END:DAYLIGHT
BEGIN:STANDARD
TZOFFSETFROM:-0400
TZOFFSETTO:-0500
TZNAME:EST
DTSTART:20261101T060000
END:STANDARD
BEGIN:DAYLIGHT
TZOFFSETFROM:-0500
TZOFFSETTO:-0400
TZNAME:EDT
DTSTART:20270314T070000
END:DAYLIGHT
BEGIN:STANDARD
TZOFFSETFROM:-0400
TZOFFSETTO:-0500
TZNAME:EST
DTSTART:20271107T060000
END:STANDARD
END:VTIMEZONE
BEGIN:VEVENT
DTSTART;TZID=America/Detroit:20260320T190000
DTEND;TZID=America/Detroit:20260320T213000
DTSTAMP:20260420T052247
CREATED:20260204T161119Z
LAST-MODIFIED:20260204T161119Z
UID:10058925-1774033200-1774042200@myflr.org
SUMMARY:Warrior Prayer Boards ✨ Spring Equinox Potluck + Gathering - Detroit
DESCRIPTION:Warrior Prayer Boards ✨ Spring Equinox Potluck + Gathering\nJoin us in person for a soulful evening as we celebrate the Spring Equinox together! Bring your energy and a gluten-free + plant-based dish to share for our fun potluck. \nThe Spring Equinox marks a sacred moment of balance—equal light and dark—and the official energetic reset of the year.\nYou’re invited to gather with fellow Wellness Warriors\, Cleanse Clubbers\, and the Sunshine community for an intentional evening of nourishment\, prayer\, and vision as we step into the new season together. \nThis is a community-centered experience rooted in presence and forward movement.\nTogether we will:\n• Create Warrior Prayer Boards—a visual and written expression of prayers\, gratitude\, hopes\, and direction\n• Share a gluten-free\, vegan potluck designed to nourish the body and the collective\n• Step into the new season feeling supported\, aligned\, and clear\n• Connect in an intimate\, welcoming circle in Corktown \nThis experience centers authenticity\, reflection\, and intentional living. Come connect\, create\, and vibe with like-minded warriors. Can’t wait to see you there!
URL:https://myflr.org/event/warrior-prayer-boards-%e2%9c%a8-spring-equinox-potluck-gathering-detroit/
LOCATION:Commune Detroit\, 1535 Spruce St\, #5\, Detroit\, MI\, 48216\, United States
CATEGORIES:Michigan
ATTACH;FMTTYPE=image/png:https://eadn-wc05-15902914.nxedge.io/wp-content/uploads/2026/02/Prayer-Board.png
ORGANIZER;CN="Wellness Warrior Collective":MAILTO:Hello@WellnessWarriorCollective.com
END:VEVENT
BEGIN:VEVENT
DTSTART;TZID=America/Detroit:20260306T190000
DTEND;TZID=America/Detroit:20260306T213000
DTSTAMP:20260420T052247
CREATED:20260204T161055Z
LAST-MODIFIED:20260204T161055Z
UID:10058924-1772823600-1772832600@myflr.org
SUMMARY:Detroit Worship | An Intimate Evening of Praise - Detroit
DESCRIPTION:Detroit Worship is an intimate\, spirit-led gathering created for Christians and worshippers of all denominations who feel called to lift their voices\, bodies\, and hearts in praise. \nThis evening is a space to come together in unity — to celebrate the love of Jesus through song\, movement\, prayer\, and community. \n🕊 What to Expect\nA worship experience led by local worship leaders and musicians\nA blend of standing\, singing\, and joyful movement\nCommunity Prayer\nCommunity Connection + Tea Time\n(Chairs available for those who prefer to be seated)\nClosing connection time
URL:https://myflr.org/event/detroit-worship-an-intimate-evening-of-praise-detroit/
LOCATION:Commune Detroit\, 1535 Spruce St\, #5\, Detroit\, MI\, 48216\, United States
CATEGORIES:Michigan
ATTACH;FMTTYPE=image/png:https://eadn-wc05-15902914.nxedge.io/wp-content/uploads/2026/02/Detroit-Worship-copy.png
ORGANIZER;CN="Detroit Worship":MAILTO:DetroitWorship@gmail.com
END:VEVENT
END:VCALENDAR