
BEGIN:VCALENDAR
VERSION:2.0
PRODID:-//Family Life Radio - ECPv6.15.20//NONSGML v1.0//EN
CALSCALE:GREGORIAN
METHOD:PUBLISH
X-WR-CALNAME:Family Life Radio
X-ORIGINAL-URL:https://myflr.org
X-WR-CALDESC:Events for Family Life Radio
REFRESH-INTERVAL;VALUE=DURATION:PT1H
X-Robots-Tag:noindex
X-PUBLISHED-TTL:PT1H
BEGIN:VTIMEZONE
TZID:America/Detroit
BEGIN:DAYLIGHT
TZOFFSETFROM:-0500
TZOFFSETTO:-0400
TZNAME:EDT
DTSTART:20250309T070000
END:DAYLIGHT
BEGIN:STANDARD
TZOFFSETFROM:-0400
TZOFFSETTO:-0500
TZNAME:EST
DTSTART:20251102T060000
END:STANDARD
BEGIN:DAYLIGHT
TZOFFSETFROM:-0500
TZOFFSETTO:-0400
TZNAME:EDT
DTSTART:20260308T070000
END:DAYLIGHT
BEGIN:STANDARD
TZOFFSETFROM:-0400
TZOFFSETTO:-0500
TZNAME:EST
DTSTART:20261101T060000
END:STANDARD
BEGIN:DAYLIGHT
TZOFFSETFROM:-0500
TZOFFSETTO:-0400
TZNAME:EDT
DTSTART:20270314T070000
END:DAYLIGHT
BEGIN:STANDARD
TZOFFSETFROM:-0400
TZOFFSETTO:-0500
TZNAME:EST
DTSTART:20271107T060000
END:STANDARD
END:VTIMEZONE
BEGIN:VEVENT
DTSTART;TZID=America/Detroit:20260613T110000
DTEND;TZID=America/Detroit:20260613T140000
DTSTAMP:20260421T041059
CREATED:20260420T191622Z
LAST-MODIFIED:20260420T191643Z
UID:10060351-1781348400-1781359200@myflr.org
SUMMARY:ULTIMATE BABY SHOWER BBQ – Compassion Pregnancy Center – Fraser
DESCRIPTION:We’re having a baby shower barbecue and the whole family is invited! \nJoin us for a FREE baby shower inspired cook-out to support Compassion Pregnancy Center in Fraser. It’ll be a time of games\, giveaways\, hot dogs and pulled pork at Compassion Pregnancy Center on Utica\, Saturday\, June 13th from 11:00 to 2:00. We’ll be there playing music and collecting new baby items and diapers for mothers and babies in need. \nStop by for an exclusive chance to win tickets to see Needtobreathe at Meadowbrooke! \nWe’d love to see you there!
URL:https://myflr.org/event/ultimate-baby-shower-bbq-compassion-pregnancy-center-fraser/
LOCATION:Compassion Pregnancy Center\, 31900 Utica Rd\, Fraser\, MI\, 48026\, United States
CATEGORIES:Featured,Michigan
ATTACH;FMTTYPE=image/png:https://eadn-wc05-15902914.nxedge.io/wp-content/uploads/2026/04/Compassion-Pregnancy-Center.png
END:VEVENT
END:VCALENDAR