
BEGIN:VCALENDAR
VERSION:2.0
PRODID:-//Family Life Radio - ECPv6.15.20//NONSGML v1.0//EN
CALSCALE:GREGORIAN
METHOD:PUBLISH
X-ORIGINAL-URL:https://myflr.org
X-WR-CALDESC:Events for Family Life Radio
REFRESH-INTERVAL;VALUE=DURATION:PT1H
X-Robots-Tag:noindex
X-PUBLISHED-TTL:PT1H
BEGIN:VTIMEZONE
TZID:America/Phoenix
BEGIN:STANDARD
TZOFFSETFROM:-0700
TZOFFSETTO:-0700
TZNAME:MST
DTSTART:20220101T000000
END:STANDARD
END:VTIMEZONE
BEGIN:VEVENT
DTSTART;TZID=America/Phoenix:20231202T180000
DTEND;TZID=America/Phoenix:20231202T210000
DTSTAMP:20260421T203211
CREATED:20231009T165125Z
LAST-MODIFIED:20231009T165125Z
UID:10016360-1701540000-1701550800@myflr.org
SUMMARY:GAITHER VOCAL BAND – NEW STAR SHINING CHRISTMAS TOUR 2023
DESCRIPTION:GAITHER VOCAL BAND – NEW STAR SHINING CHRISTMAS TOUR 2023\nSaturday\, December 2\, 2023\nVenue: Connection Point Church\n\n\n in Kansas City (Raytown)\, MO\n\n\n\n\n\nStarts: 6:00PM\n\n\nDoors Open: 5:00PM\n\n\nFamily Life Radio & Fill in the Gap presents: Bill Gaither & The Gaither Vocal Band\, Mark Lowry\, The Nelons\, Lynda Randle\, The Sound\, Gene McDonald\, Layde Love Smith\, Kevin Williams\n\n\nGet your tickets: https://www.itickets.com/register/new/474613
URL:https://myflr.org/event/gaither-vocal-band-new-star-shining-christmas-tour-2023/
LOCATION:Connection Point Church\, 10500 E State Route 350\, Raytown\, MO\, 64138\, United States
CATEGORIES:Featured,Kansas,Missouri
ATTACH;FMTTYPE=image/jpeg:https://eadn-wc05-15902914.nxedge.io/wp-content/uploads/2023/10/GaitherChristmas2023KJTY.jpeg
END:VEVENT
END:VCALENDAR