
BEGIN:VCALENDAR
VERSION:2.0
PRODID:-//Family Life Radio - ECPv6.15.20//NONSGML v1.0//EN
CALSCALE:GREGORIAN
METHOD:PUBLISH
X-ORIGINAL-URL:https://myflr.org
X-WR-CALDESC:Events for Family Life Radio
REFRESH-INTERVAL;VALUE=DURATION:PT1H
X-Robots-Tag:noindex
X-PUBLISHED-TTL:PT1H
BEGIN:VTIMEZONE
TZID:America/Detroit
BEGIN:DAYLIGHT
TZOFFSETFROM:-0500
TZOFFSETTO:-0400
TZNAME:EDT
DTSTART:20240310T070000
END:DAYLIGHT
BEGIN:STANDARD
TZOFFSETFROM:-0400
TZOFFSETTO:-0500
TZNAME:EST
DTSTART:20241103T060000
END:STANDARD
BEGIN:DAYLIGHT
TZOFFSETFROM:-0500
TZOFFSETTO:-0400
TZNAME:EDT
DTSTART:20250309T070000
END:DAYLIGHT
BEGIN:STANDARD
TZOFFSETFROM:-0400
TZOFFSETTO:-0500
TZNAME:EST
DTSTART:20251102T060000
END:STANDARD
BEGIN:DAYLIGHT
TZOFFSETFROM:-0500
TZOFFSETTO:-0400
TZNAME:EDT
DTSTART:20260308T070000
END:DAYLIGHT
BEGIN:STANDARD
TZOFFSETFROM:-0400
TZOFFSETTO:-0500
TZNAME:EST
DTSTART:20261101T060000
END:STANDARD
END:VTIMEZONE
BEGIN:VEVENT
DTSTART;TZID=America/Detroit:20250201T190000
DTEND;TZID=America/Detroit:20250201T210000
DTSTAMP:20260421T193221
CREATED:20250106T144608Z
LAST-MODIFIED:20250106T144608Z
UID:10038730-1738436400-1738443600@myflr.org
SUMMARY:AN EVENING WITH PETER FURLER
DESCRIPTION:Join us on February 1st as Peter Furler\, the former lead singer of the Newsboys\, brings an incredible night of worship to Americus\, GA with support from Bryan Olesen. You won’t want to miss it! Each ticket purchase before 11 pm EST on 01/30/2025 will include a Chick-fil-A dinner of a sandwich\, chips\, and a drink.
URL:https://myflr.org/event/an-evening-with-peter-furler-2/
LOCATION:Cornerstone Church (Americus\, GA)\, 245 Southland Rd\, Americus\, GA\, 31709\, United States
CATEGORIES:Featured,Georgia
ATTACH;FMTTYPE=image/jpeg:https://eadn-wc05-15902914.nxedge.io/wp-content/uploads/2025/01/Peter-Furler-SQ.jpg
END:VEVENT
END:VCALENDAR