
BEGIN:VCALENDAR
VERSION:2.0
PRODID:-//Family Life Radio - ECPv6.15.20//NONSGML v1.0//EN
CALSCALE:GREGORIAN
METHOD:PUBLISH
X-ORIGINAL-URL:https://myflr.org
X-WR-CALDESC:Events for Family Life Radio
REFRESH-INTERVAL;VALUE=DURATION:PT1H
X-Robots-Tag:noindex
X-PUBLISHED-TTL:PT1H
BEGIN:VTIMEZONE
TZID:America/Detroit
BEGIN:DAYLIGHT
TZOFFSETFROM:-0500
TZOFFSETTO:-0400
TZNAME:EDT
DTSTART:20240310T070000
END:DAYLIGHT
BEGIN:STANDARD
TZOFFSETFROM:-0400
TZOFFSETTO:-0500
TZNAME:EST
DTSTART:20241103T060000
END:STANDARD
BEGIN:DAYLIGHT
TZOFFSETFROM:-0500
TZOFFSETTO:-0400
TZNAME:EDT
DTSTART:20250309T070000
END:DAYLIGHT
BEGIN:STANDARD
TZOFFSETFROM:-0400
TZOFFSETTO:-0500
TZNAME:EST
DTSTART:20251102T060000
END:STANDARD
BEGIN:DAYLIGHT
TZOFFSETFROM:-0500
TZOFFSETTO:-0400
TZNAME:EDT
DTSTART:20260308T070000
END:DAYLIGHT
BEGIN:STANDARD
TZOFFSETFROM:-0400
TZOFFSETTO:-0500
TZNAME:EST
DTSTART:20261101T060000
END:STANDARD
END:VTIMEZONE
BEGIN:VTIMEZONE
TZID:America/Phoenix
BEGIN:STANDARD
TZOFFSETFROM:-0700
TZOFFSETTO:-0700
TZNAME:MST
DTSTART:20230101T000000
END:STANDARD
END:VTIMEZONE
BEGIN:VEVENT
DTSTART;TZID=America/Detroit:20250307T180000
DTEND;TZID=America/Detroit:20250308T123000
DTSTAMP:20260420T050537
CREATED:20250122T211306Z
LAST-MODIFIED:20250122T211306Z
UID:10038894-1741370400-1741437000@myflr.org
SUMMARY:Man Up Conference – Highland
DESCRIPTION:THE WORLD WANTS TO DEFINE WHAT A MAN IS BUT OUR GOD SAYS SOMETHING DIFFERENT. GOD IS LOOKING THROUGHOUT THE EARTH FOR MEN WHO KNOW THEY ARE A SON OF GOD AND FOLLOW GOD WITH ALL THEIR HEART. \nAT MAN UP 2025 OUR FOCUS IS “TAKE MY WEAKNESS”. THE MEN WILL BE ENCOURAGED TO BE AND LIVE AS WHO GOD SAYS THEY ARE. STRONG IN THE POWER OF WHO JESUS IS AND WHO HE DIED TO MAKE US\, SONS OF GOD.\nTHIS MULTIGENERATIONAL EVENT IS FOR MEN SIXTH GRADE AND UP. \nCOME AND BE EQUIPPED BY THE WORD AND SPIRIT TO WALK OUT THIS LIFE IN THE POWER OF GOD.
URL:https://myflr.org/event/man-up-conference-highland/
LOCATION:Cornerstone Church of Highland (Highland\, MI)\, 4995 N Hickory Ridge Road\, Highland\, MI\, 48357\, United States
CATEGORIES:Michigan
ATTACH;FMTTYPE=image/jpeg:https://eadn-wc05-15902914.nxedge.io/wp-content/uploads/2025/01/Flyer-5-x-5-in.jpeg
ORGANIZER;CN="Cornerstone Church of Highland.":MAILTO:scone@cornerstonehighland.com
END:VEVENT
BEGIN:VEVENT
DTSTART;TZID=America/Phoenix:20241101T190000
DTEND;TZID=America/Phoenix:20241102T120000
DTSTAMP:20260420T050537
CREATED:20240522T193752Z
LAST-MODIFIED:20240522T193752Z
UID:10026884-1730487600-1730548800@myflr.org
SUMMARY:Princess Warrior XV – Highland
DESCRIPTION:Princess Warrior 15 is a multi-generational event held at Cornerstone Church of Highland\, on November 1st and 2nd for women 7th grade and up. A A Princess Warrior has a courageous devotion\, courageous commitment to his will and she never turns back.”\nJoin us at “Princess Warrior” November 1st\, 7 PM-10 pm and November 2nd at 9 AM to12 PM. You’ll be challenged and sharpened in your perspective as you see women of all generations responding to the powerful call of God from guest speakers Karen Wheaton\, who has appeared on Christian television and Hannah Ouellette who is known for her young women’s conferences in Michigan and Denver Colorado. You’ll leave strengthened\, with a clear vision of who God is\, and who you are called to be…a Princess Warrior. Princess Warrior at Cornerstone Church of Highland\, November 1st and 2nd. For more\, go to cornerstonehighland dot com/pw15
URL:https://myflr.org/event/princess-warrior-xv-highland/
LOCATION:Cornerstone Church of Highland (Highland\, MI)\, 4995 N Hickory Ridge Road\, Highland\, MI\, 48357\, United States
CATEGORIES:Michigan
ATTACH;FMTTYPE=image/jpeg:https://eadn-wc05-15902914.nxedge.io/wp-content/uploads/2024/05/IMG_6926-copy.jpg
ORGANIZER;CN="Cornerstone Church of Highland.":MAILTO:scone@cornerstonehighland.com
END:VEVENT
BEGIN:VEVENT
DTSTART;TZID=America/Phoenix:20240308T183000
DTEND;TZID=America/Phoenix:20240310T123000
DTSTAMP:20260420T050537
CREATED:20240226T221314Z
LAST-MODIFIED:20240226T221314Z
UID:10020713-1709922600-1710073800@myflr.org
SUMMARY:Man Up
DESCRIPTION:A multi-generational gathering of men who will be challenged to be all that they are created to be.\nYou were meant for mre than just going through the motion. You were meant for more than being overcome. You were meant to be an overcomer.\nCome and hear powerful messages\, enjoy great food and community.\nMen 7th grade and up\, join us and be sharpened and strengthen in the Lord.\nFriday March 8 6:30 – 10 PM\nSaturday March 9 8:30 PM – 12:30 PM\nTickets avaible at cornerstonehighland.com/men
URL:https://myflr.org/event/man-up/2024-03-08/2/
LOCATION:Cornerstone Church of Highland (Highland\, MI)\, 4995 N Hickory Ridge Road\, Highland\, MI\, 48357\, United States
CATEGORIES:Michigan
ATTACH;FMTTYPE=image/jpeg:https://eadn-wc05-15902914.nxedge.io/wp-content/uploads/2024/02/Flyer-Man-Up-Conference-2024-1.jpg
END:VEVENT
END:VCALENDAR