
BEGIN:VCALENDAR
VERSION:2.0
PRODID:-//Family Life Radio - ECPv6.15.20//NONSGML v1.0//EN
CALSCALE:GREGORIAN
METHOD:PUBLISH
X-ORIGINAL-URL:https://myflr.org
X-WR-CALDESC:Events for Family Life Radio
REFRESH-INTERVAL;VALUE=DURATION:PT1H
X-Robots-Tag:noindex
X-PUBLISHED-TTL:PT1H
BEGIN:VTIMEZONE
TZID:America/Phoenix
BEGIN:STANDARD
TZOFFSETFROM:-0700
TZOFFSETTO:-0700
TZNAME:MST
DTSTART:20240101T000000
END:STANDARD
END:VTIMEZONE
BEGIN:VEVENT
DTSTART;TZID=America/Phoenix:20250724T183000
DTEND;TZID=America/Phoenix:20250728T200000
DTSTAMP:20260421T195610
CREATED:20250717T233910Z
LAST-MODIFIED:20250717T233910Z
UID:10048403-1753381800-1753732800@myflr.org
SUMMARY:5 Day Club - Back to School Blast Off! (Los Lunas)
DESCRIPTION:Join us for a FUNtastic\, Faith-filled adventure in the park\, with: Bible Lessons\, Crafts\, Games\, Snacks\, Music and More!
URL:https://myflr.org/event/5-day-club-back-to-school-blast-off-los-lunas-2/2025-07-24/
LOCATION:Daniel Fernandez Park\, 1103 Highway 314 SW\, Los Lunas\, NM\, 87031\, United States
CATEGORIES:New Mexico
ATTACH;FMTTYPE=image/png:https://eadn-wc05-15902914.nxedge.io/wp-content/uploads/2025/07/5-Day-Club_LL.png
ORGANIZER;CN="Child Evangelism Fellowship of NM":MAILTO:CEFofABQnewmexico@gmail.com
END:VEVENT
BEGIN:VEVENT
DTSTART;TZID=America/Phoenix:20250721T183000
DTEND;TZID=America/Phoenix:20250721T200000
DTSTAMP:20260421T195610
CREATED:20250717T233111Z
LAST-MODIFIED:20250717T233111Z
UID:10048400-1753122600-1753128000@myflr.org
SUMMARY:5 Day Club - Back to School Blast Off! (Los Lunas)
DESCRIPTION:Join us for a FUNtastic\, Faith-filled adventure in the park\, with: Bible Lessons\, Crafts\, Games\, Snacks\, Music and More!
URL:https://myflr.org/event/5-day-club-back-to-school-blast-off-los-lunas/
LOCATION:Daniel Fernandez Park\, 1103 Highway 314 SW\, Los Lunas\, NM\, 87031\, United States
CATEGORIES:New Mexico
ATTACH;FMTTYPE=image/png:https://eadn-wc05-15902914.nxedge.io/wp-content/uploads/2025/07/5-Day-Club_LL.png
ORGANIZER;CN="Child Evangelism Fellowship of NM":MAILTO:CEFofABQnewmexico@gmail.com
END:VEVENT
END:VCALENDAR