
BEGIN:VCALENDAR
VERSION:2.0
PRODID:-//Family Life Radio - ECPv6.15.20//NONSGML v1.0//EN
CALSCALE:GREGORIAN
METHOD:PUBLISH
X-ORIGINAL-URL:https://myflr.org
X-WR-CALDESC:Events for Family Life Radio
REFRESH-INTERVAL;VALUE=DURATION:PT1H
X-Robots-Tag:noindex
X-PUBLISHED-TTL:PT1H
BEGIN:VTIMEZONE
TZID:America/Detroit
BEGIN:DAYLIGHT
TZOFFSETFROM:-0500
TZOFFSETTO:-0400
TZNAME:EDT
DTSTART:20240310T070000
END:DAYLIGHT
BEGIN:STANDARD
TZOFFSETFROM:-0400
TZOFFSETTO:-0500
TZNAME:EST
DTSTART:20241103T060000
END:STANDARD
BEGIN:DAYLIGHT
TZOFFSETFROM:-0500
TZOFFSETTO:-0400
TZNAME:EDT
DTSTART:20250309T070000
END:DAYLIGHT
BEGIN:STANDARD
TZOFFSETFROM:-0400
TZOFFSETTO:-0500
TZNAME:EST
DTSTART:20251102T060000
END:STANDARD
BEGIN:DAYLIGHT
TZOFFSETFROM:-0500
TZOFFSETTO:-0400
TZNAME:EDT
DTSTART:20260308T070000
END:DAYLIGHT
BEGIN:STANDARD
TZOFFSETFROM:-0400
TZOFFSETTO:-0500
TZNAME:EST
DTSTART:20261101T060000
END:STANDARD
END:VTIMEZONE
BEGIN:VEVENT
DTSTART;TZID=America/Detroit:20251121T180000
DTEND;TZID=America/Detroit:20251124T120000
DTSTAMP:20260421T195645
CREATED:20250917T174148Z
LAST-MODIFIED:20251016T132457Z
UID:10056280-1763748000-1763985600@myflr.org
SUMMARY:Weekend to Remember - Detroit
DESCRIPTION:No marriage is static. Each day\, each choice — you’re either moving closer together\, toward oneness … or drifting farther apart. At the intersection of a faith-based marriage conference and romantic retreat from everyday life\, Weekend to Remember helps couples do just that — choose oneness. Whether you’re sending up an SOS for marital rescue or looking to foster an already flourishing connection\, Weekend to Remember is your best next step toward being\, and staying\, one. \nEnter code WEEKEND to save $100 off regular price couple’s registrations to Detroit or any other event nationwide at: WeekendtoRemember.com.
URL:https://myflr.org/event/weekend-to-remember-detroit/
LOCATION:Detroit Marriott at the Renaissance Center\, 400 Renaissance Dr W\, Detroit\, MI\, 48243\, United States
CATEGORIES:Featured,Michigan
ATTACH;FMTTYPE=image/jpeg:https://eadn-wc05-15902914.nxedge.io/wp-content/uploads/2025/09/539588361_1371812528277956_4292521359057615_n.jpg
END:VEVENT
END:VCALENDAR