
BEGIN:VCALENDAR
VERSION:2.0
PRODID:-//Family Life Radio - ECPv6.15.20//NONSGML v1.0//EN
CALSCALE:GREGORIAN
METHOD:PUBLISH
X-ORIGINAL-URL:https://myflr.org
X-WR-CALDESC:Events for Family Life Radio
REFRESH-INTERVAL;VALUE=DURATION:PT1H
X-Robots-Tag:noindex
X-PUBLISHED-TTL:PT1H
BEGIN:VTIMEZONE
TZID:America/Phoenix
BEGIN:STANDARD
TZOFFSETFROM:-0700
TZOFFSETTO:-0700
TZNAME:MST
DTSTART:20240101T000000
END:STANDARD
END:VTIMEZONE
BEGIN:VEVENT
DTSTART;TZID=America/Phoenix:20250404T183000
DTEND;TZID=America/Phoenix:20250404T203000
DTSTAMP:20260421T210144
CREATED:20250312T145534Z
LAST-MODIFIED:20250312T145534Z
UID:10040319-1743791400-1743798600@myflr.org
SUMMARY:Bill Strickler in Concert
DESCRIPTION:Please join us for a night of music\, laughter and fun as Bill Strickler will be in concert at Durand Church of God\, 10411 Newburg Road\, Durand\, MI on Friday\, April 4\, 2025 at 6:30 PM. Bill will be featuring songs from his recently released albums\, “Any Day Now” and “Jesus is Coming.” Other artists performing will be Amy Tait and Amanda Charvat along with various other musicians.
URL:https://myflr.org/event/bill-strickler-in-concert/
LOCATION:Durand Church of God (Durand\, MI)\, 10411 Newburg Road\, Durand\, MI\, 48429\, United States
CATEGORIES:Michigan
ATTACH;FMTTYPE=image/jpeg:https://eadn-wc05-15902914.nxedge.io/wp-content/uploads/2025/03/Messenger_creation_A1431744-9DB1-4E18-9382-D94619CC0D2A.jpeg
END:VEVENT
END:VCALENDAR