
BEGIN:VCALENDAR
VERSION:2.0
PRODID:-//Family Life Radio - ECPv6.15.19//NONSGML v1.0//EN
CALSCALE:GREGORIAN
METHOD:PUBLISH
X-WR-CALNAME:Family Life Radio
X-ORIGINAL-URL:https://myflr.org
X-WR-CALDESC:Events for Family Life Radio
REFRESH-INTERVAL;VALUE=DURATION:PT1H
X-Robots-Tag:noindex
X-PUBLISHED-TTL:PT1H
BEGIN:VTIMEZONE
TZID:America/Detroit
BEGIN:DAYLIGHT
TZOFFSETFROM:-0500
TZOFFSETTO:-0400
TZNAME:EDT
DTSTART:20250309T070000
END:DAYLIGHT
BEGIN:STANDARD
TZOFFSETFROM:-0400
TZOFFSETTO:-0500
TZNAME:EST
DTSTART:20251102T060000
END:STANDARD
BEGIN:DAYLIGHT
TZOFFSETFROM:-0500
TZOFFSETTO:-0400
TZNAME:EDT
DTSTART:20260308T070000
END:DAYLIGHT
BEGIN:STANDARD
TZOFFSETFROM:-0400
TZOFFSETTO:-0500
TZNAME:EST
DTSTART:20261101T060000
END:STANDARD
BEGIN:DAYLIGHT
TZOFFSETFROM:-0500
TZOFFSETTO:-0400
TZNAME:EDT
DTSTART:20270314T070000
END:DAYLIGHT
BEGIN:STANDARD
TZOFFSETFROM:-0400
TZOFFSETTO:-0500
TZNAME:EST
DTSTART:20271107T060000
END:STANDARD
END:VTIMEZONE
BEGIN:VEVENT
DTSTART;TZID=America/Detroit:20260422T050000
DTEND;TZID=America/Detroit:20260422T060000
DTSTAMP:20260419T102025
CREATED:20260408T120501Z
LAST-MODIFIED:20260408T120501Z
UID:10060223-1776834000-1776837600@myflr.org
SUMMARY:CBRT The Business Round Table
DESCRIPTION:Our monthly Round Table meetings are small groups of 8 to 12 professionals\, impacting today’s workplace through in-depth discussion on timely topics. Real people come together to share real solutions and collaborate on challenges–receiving insight from others who have been in their shoes. Scroll down to find the group that is the best fit for you.. Events feature discussion topics related to the theme of the most recent Leadership Event. The theme for April is Creating Ripples of Impact! The Topic is: Effective Use of AI in your Business.
URL:https://myflr.org/event/cbrt-the-business-round-table/2026-04-22/
LOCATION:Dwelling Coffee (Dewitt\, MI)\, 116 N Bridge St\, Dewitt\, MI\, 48912\, United States
CATEGORIES:Michigan
ATTACH;FMTTYPE=image/jpeg:https://eadn-wc05-15902914.nxedge.io/wp-content/uploads/2026/04/557908103_1447626314039753_522099149560581502_n-1.jpg
ORGANIZER;CN="Lisa Fisher Associates":MAILTO:coachlisafisher@gmail.com
END:VEVENT
END:VCALENDAR