
BEGIN:VCALENDAR
VERSION:2.0
PRODID:-//Family Life Radio - ECPv6.15.20//NONSGML v1.0//EN
CALSCALE:GREGORIAN
METHOD:PUBLISH
X-ORIGINAL-URL:https://myflr.org
X-WR-CALDESC:Events for Family Life Radio
REFRESH-INTERVAL;VALUE=DURATION:PT1H
X-Robots-Tag:noindex
X-PUBLISHED-TTL:PT1H
BEGIN:VTIMEZONE
TZID:America/Phoenix
BEGIN:STANDARD
TZOFFSETFROM:-0700
TZOFFSETTO:-0700
TZNAME:MST
DTSTART:20220101T000000
END:STANDARD
END:VTIMEZONE
BEGIN:VEVENT
DTSTART;TZID=America/Phoenix:20231217T140000
DTEND;TZID=America/Phoenix:20231217T153000
DTSTAMP:20260421T150547
CREATED:20231207T135238Z
LAST-MODIFIED:20231207T135238Z
UID:10018648-1702821600-1702827000@myflr.org
SUMMARY:The Ratcracker
DESCRIPTION:Greater Lansing Ballet Company is performing a twist on the classic Nutcracker. It is sure to delight with a re-imaged look at what might have happened if things had turned out differently for Fritz and Clara on that fateful night. \nJoin us at Eastern High School.
URL:https://myflr.org/event/the-ratcracker/2023-12-17/
LOCATION:Eastern High School (Lansing\, MI)\, 626 Marshall St\, Lansing\, MI\, 48912\, United States
CATEGORIES:Michigan
ATTACH;FMTTYPE=image/png:https://eadn-wc05-15902914.nxedge.io/wp-content/uploads/2023/12/Screenshot-2023-12-03-154854.png
END:VEVENT
END:VCALENDAR