
BEGIN:VCALENDAR
VERSION:2.0
PRODID:-//Family Life Radio - ECPv6.15.19//NONSGML v1.0//EN
CALSCALE:GREGORIAN
METHOD:PUBLISH
X-ORIGINAL-URL:https://myflr.org
X-WR-CALDESC:Events for Family Life Radio
REFRESH-INTERVAL;VALUE=DURATION:PT1H
X-Robots-Tag:noindex
X-PUBLISHED-TTL:PT1H
BEGIN:VTIMEZONE
TZID:America/Detroit
BEGIN:DAYLIGHT
TZOFFSETFROM:-0500
TZOFFSETTO:-0400
TZNAME:EDT
DTSTART:20250309T070000
END:DAYLIGHT
BEGIN:STANDARD
TZOFFSETFROM:-0400
TZOFFSETTO:-0500
TZNAME:EST
DTSTART:20251102T060000
END:STANDARD
BEGIN:DAYLIGHT
TZOFFSETFROM:-0500
TZOFFSETTO:-0400
TZNAME:EDT
DTSTART:20260308T070000
END:DAYLIGHT
BEGIN:STANDARD
TZOFFSETFROM:-0400
TZOFFSETTO:-0500
TZNAME:EST
DTSTART:20261101T060000
END:STANDARD
BEGIN:DAYLIGHT
TZOFFSETFROM:-0500
TZOFFSETTO:-0400
TZNAME:EDT
DTSTART:20270314T070000
END:DAYLIGHT
BEGIN:STANDARD
TZOFFSETFROM:-0400
TZOFFSETTO:-0500
TZNAME:EST
DTSTART:20271107T060000
END:STANDARD
END:VTIMEZONE
BEGIN:VEVENT
DTSTART;TZID=America/Detroit:20260418T190000
DTEND;TZID=America/Detroit:20260418T203000
DTSTAMP:20260419T120447
CREATED:20260409T111326Z
LAST-MODIFIED:20260409T111326Z
UID:10060246-1776538800-1776544200@myflr.org
SUMMARY:ASCEND At Eden
DESCRIPTION:17 to 30 years old get together forworship\, short sermon\, small discussion groups and mingle. Let’s start a Jesus Revolution
URL:https://myflr.org/event/ascend-at-eden-2/
LOCATION:Eden United Brethren Church (Mason\, MI)\, 1938 Eden Rd\, Mason\, MI\, 48854\, United States
CATEGORIES:Michigan
ATTACH;FMTTYPE=image/jpeg:https://eadn-wc05-15902914.nxedge.io/wp-content/uploads/2026/04/1000012178.jpg
ORGANIZER;CN="Eden UB Church":MAILTO:Lanej@edenubchurch.com
END:VEVENT
BEGIN:VEVENT
DTSTART;TZID=America/Detroit:20260404T100000
DTEND;TZID=America/Detroit:20260404T120000
DTSTAMP:20260419T120447
CREATED:20260304T221018Z
LAST-MODIFIED:20260304T221018Z
UID:10059501-1775296800-1775304000@myflr.org
SUMMARY:Egg Hunt
DESCRIPTION:Easter story\, egg hunt (until eggs are gone)\, games\, prizes and door prizes. \nEden UB Church\, 1938 Eden Rd\, Mason\, MI. 48854
URL:https://myflr.org/event/egg-hunt/
LOCATION:Eden United Brethren Church (Mason\, MI)\, 1938 Eden Rd\, Mason\, MI\, 48854\, United States
CATEGORIES:Michigan
ORGANIZER;CN="Eden UB Church":MAILTO:Lanej@edenubchurch.com
END:VEVENT
BEGIN:VEVENT
DTSTART;TZID=America/Detroit:20260321T190000
DTEND;TZID=America/Detroit:20260321T200000
DTSTAMP:20260419T120447
CREATED:20260304T215424Z
LAST-MODIFIED:20260304T215424Z
UID:10059502-1774119600-1774123200@myflr.org
SUMMARY:ASCEND At Eden
DESCRIPTION:Life after high school (18 to 30 tears old).Worship\, Word\, Real\, Talk\, Real People. Find your purpose\, Grow your Faith\, Build real community. Come as you are and bring friends.
URL:https://myflr.org/event/ascend-at-eden/
LOCATION:Eden United Brethren Church (Mason\, MI)\, 1938 Eden Rd\, Mason\, MI\, 48854\, United States
CATEGORIES:Michigan
ATTACH;FMTTYPE=image/jpeg:https://eadn-wc05-15902914.nxedge.io/wp-content/uploads/2026/03/1000012155.jpg
ORGANIZER;CN="Eden United Brethren Church (Mason":MAILTO:Lanej@edenubchurch.com no
END:VEVENT
BEGIN:VEVENT
DTSTART;TZID=America/Detroit:20260117T190000
DTEND;TZID=America/Detroit:20260117T210000
DTSTAMP:20260419T120447
CREATED:20251222T195917Z
LAST-MODIFIED:20251222T195917Z
UID:10057852-1768676400-1768683600@myflr.org
SUMMARY:CHOSEN Worship Night
DESCRIPTION:FREE concert. CHOSEN worship band will be performing live at Eden United Brethren Church in Mason sponsored by Ascend at Eden Church.
URL:https://myflr.org/event/chosen-worship-night/
LOCATION:Eden United Brethren Church (Mason\, MI)\, 1938 Eden Rd\, Mason\, MI\, 48854\, United States
CATEGORIES:Michigan
ATTACH;FMTTYPE=image/png:https://eadn-wc05-15902914.nxedge.io/wp-content/uploads/2025/12/1646.png
END:VEVENT
END:VCALENDAR