
BEGIN:VCALENDAR
VERSION:2.0
PRODID:-//Family Life Radio - ECPv6.15.20//NONSGML v1.0//EN
CALSCALE:GREGORIAN
METHOD:PUBLISH
X-WR-CALNAME:Family Life Radio
X-ORIGINAL-URL:https://myflr.org
X-WR-CALDESC:Events for Family Life Radio
REFRESH-INTERVAL;VALUE=DURATION:PT1H
X-Robots-Tag:noindex
X-PUBLISHED-TTL:PT1H
BEGIN:VTIMEZONE
TZID:America/Phoenix
BEGIN:STANDARD
TZOFFSETFROM:-0700
TZOFFSETTO:-0700
TZNAME:MST
DTSTART:20250101T000000
END:STANDARD
END:VTIMEZONE
BEGIN:VEVENT
DTSTART;TZID=America/Phoenix:20260328T100000
DTEND;TZID=America/Phoenix:20260328T120000
DTSTAMP:20260421T065852
CREATED:20260326T154803Z
LAST-MODIFIED:20260326T154803Z
UID:10059998-1774692000-1774699200@myflr.org
SUMMARY:Tea for Two
DESCRIPTION:Tea for Two – Supporting a restorative maternity home for mothers and babies in the Albuquerque area\nJoin us for tea\, treats\, and meaningful conversation as we gather to support the vision of Nevaeh Living\, a restorative maternity home for mothers and babies seeking safety\, stability\, and hope. \nAll proceeds support the creation of a restorative maternity home.
URL:https://myflr.org/event/tea-for-two/2026-03-28/
LOCATION:Escape in Time\, 1100 San Mateo Blvd NE suite 21\, Albuquerque\, NM\, 87110\, United States
CATEGORIES:New Mexico
ATTACH;FMTTYPE=image/jpeg:https://eadn-wc05-15902914.nxedge.io/wp-content/uploads/2026/03/7667.jpg
ORGANIZER;CN="nevaehliving":MAILTO:ktschmierer@gmail.com
END:VEVENT
END:VCALENDAR