
BEGIN:VCALENDAR
VERSION:2.0
PRODID:-//Family Life Radio - ECPv6.15.20//NONSGML v1.0//EN
CALSCALE:GREGORIAN
METHOD:PUBLISH
X-WR-CALNAME:Family Life Radio
X-ORIGINAL-URL:https://myflr.org
X-WR-CALDESC:Events for Family Life Radio
REFRESH-INTERVAL;VALUE=DURATION:PT1H
X-Robots-Tag:noindex
X-PUBLISHED-TTL:PT1H
BEGIN:VTIMEZONE
TZID:America/Phoenix
BEGIN:STANDARD
TZOFFSETFROM:-0700
TZOFFSETTO:-0700
TZNAME:MST
DTSTART:20250101T000000
END:STANDARD
END:VTIMEZONE
BEGIN:VEVENT
DTSTART;TZID=America/Phoenix:20260128T110000
DTEND;TZID=America/Phoenix:20260520T050000
DTSTAMP:20260420T101353
CREATED:20260109T222321Z
LAST-MODIFIED:20260109T222321Z
UID:10057927-1769598000-1779253200@myflr.org
SUMMARY:Aging in Place with Grace\, A FREE community lecture series (Rio Rancho)
DESCRIPTION:This is a free community lecture series. The “Aging in Place with Grace” topics are designed to facilitate senior’s understanding the unique challenges that arise as we age. These challenges can be\, and often are\, changes in our physical\, emotional\, spiritual\, and financial health and well being. Our hope is that by discussing this information over a WIDE variety of topics\, we can enhance your enjoyment of aging in your selected place; bring you new knowledge to comfort and inform you about aging and employ the grace that God gives to all of us in offering you support and advice as you age.\nThe faculty are local and nationally recognized healthcare and healthcare-related service providers who are donating their time and talent to improve the lives of seniors in New Mexico. This series is being hosted by the Rio Rancho Public Library at the Esther Bone Memorial Library in Rio Rancho. A short informative lecture will be given by a local or nationally recognized speaker EVERY WEDNESDAY from 930 am to 11am from Jan. 28th through March 25\, 2026. These lectures are be given by a group of nurses\, doctors\, lawyers\, and computer scientists who are retired or soon to retire and want to help seniors live better more productive and healthier lives as they age. There is nothing for sale and no profit to the participants.\nThe community lecture series is coordinated by Gail Levine RN\, MBA\, MSN-Ed. and her colleagues and professional associates who want to improve healthcare to seniors directly to New Mexicans through this grassroots effort
URL:https://myflr.org/event/aging-in-place-with-grace-a-free-community-lecture-series-rio-rancho/2026-01-28/
LOCATION:Esther Bone Memorial Library\, 950 Pinetree Rd. SE\, Rio Rancho\, NM\, 87124\, United States
CATEGORIES:New Mexico
ORGANIZER;CN="Aging in Place With Grace / G. Levine":MAILTO:glevine947@gmail.com
END:VEVENT
END:VCALENDAR