
BEGIN:VCALENDAR
VERSION:2.0
PRODID:-//Family Life Radio - ECPv6.15.20//NONSGML v1.0//EN
CALSCALE:GREGORIAN
METHOD:PUBLISH
X-ORIGINAL-URL:https://myflr.org
X-WR-CALDESC:Events for Family Life Radio
REFRESH-INTERVAL;VALUE=DURATION:PT1H
X-Robots-Tag:noindex
X-PUBLISHED-TTL:PT1H
BEGIN:VTIMEZONE
TZID:America/Detroit
BEGIN:DAYLIGHT
TZOFFSETFROM:-0500
TZOFFSETTO:-0400
TZNAME:EDT
DTSTART:20240310T070000
END:DAYLIGHT
BEGIN:STANDARD
TZOFFSETFROM:-0400
TZOFFSETTO:-0500
TZNAME:EST
DTSTART:20241103T060000
END:STANDARD
BEGIN:DAYLIGHT
TZOFFSETFROM:-0500
TZOFFSETTO:-0400
TZNAME:EDT
DTSTART:20250309T070000
END:DAYLIGHT
BEGIN:STANDARD
TZOFFSETFROM:-0400
TZOFFSETTO:-0500
TZNAME:EST
DTSTART:20251102T060000
END:STANDARD
BEGIN:DAYLIGHT
TZOFFSETFROM:-0500
TZOFFSETTO:-0400
TZNAME:EDT
DTSTART:20260308T070000
END:DAYLIGHT
BEGIN:STANDARD
TZOFFSETFROM:-0400
TZOFFSETTO:-0500
TZNAME:EST
DTSTART:20261101T060000
END:STANDARD
END:VTIMEZONE
BEGIN:VTIMEZONE
TZID:America/Phoenix
BEGIN:STANDARD
TZOFFSETFROM:-0700
TZOFFSETTO:-0700
TZNAME:MST
DTSTART:20240101T000000
END:STANDARD
END:VTIMEZONE
BEGIN:VEVENT
DTSTART;TZID=America/Detroit:20251220T103000
DTEND;TZID=America/Detroit:20251221T223000
DTSTAMP:20260421T154426
CREATED:20251112T163426Z
LAST-MODIFIED:20251112T163426Z
UID:10057266-1766226600-1766356200@myflr.org
SUMMARY:A Festival of Carols
DESCRIPTION:Community friends\, you are invited to join us for this FREE event\, which features traditional carols of Christmas arranged for our fifty-voice choir\, orchestra\, and congregation. These carols are accompanied by readings from Scripture that will direct our hearts and minds to the birth of Christ\, the true joy of Christmas. \nThere are two performances of “A Festival of Carols\,” and you are welcome at either presentation… or both! \nSaturday\, December 20\, 2025 | 7:00pm\nSunday\, December 21\, 2025 | 10:30am
URL:https://myflr.org/event/a-festival-of-carols/2025-12-20/1/
LOCATION:Faith Baptist Church\, 6002 66th St\, Lubbock\, TX\, 79424\, United States
CATEGORIES:Michigan
ATTACH;FMTTYPE=image/png:https://eadn-wc05-15902914.nxedge.io/wp-content/uploads/2025/11/Screenshot_20251107-152005.png
END:VEVENT
BEGIN:VEVENT
DTSTART;TZID=America/Phoenix:20251101T120000
DTEND;TZID=America/Phoenix:20251101T140000
DTSTAMP:20260421T154426
CREATED:20250909T180414Z
LAST-MODIFIED:20250909T180414Z
UID:10051916-1761998400-1762005600@myflr.org
SUMMARY:Veteran's Appreciation Lunch
DESCRIPTION:The Faith Baptist Church youth group (Ground Zero) is inviting all veterans to come enjoy a lunch with us on 11/1/2025 between 12 and 2. We would like to show our appreciation by serving those who served in the U.S. forces. There will hamburgers\, chips\, drinks\, and camaraderie.
URL:https://myflr.org/event/veterans-appreciation-lunch/
LOCATION:Faith Baptist Church\, 6002 66th St\, Lubbock\, TX\, 79424\, United States
CATEGORIES:Texas
ATTACH;FMTTYPE=image/jpeg:https://eadn-wc05-15902914.nxedge.io/wp-content/uploads/2025/09/Veterans-Day-2025-scaled.jpg
END:VEVENT
END:VCALENDAR