
BEGIN:VCALENDAR
VERSION:2.0
PRODID:-//Family Life Radio - ECPv6.15.20//NONSGML v1.0//EN
CALSCALE:GREGORIAN
METHOD:PUBLISH
X-ORIGINAL-URL:https://myflr.org
X-WR-CALDESC:Events for Family Life Radio
REFRESH-INTERVAL;VALUE=DURATION:PT1H
X-Robots-Tag:noindex
X-PUBLISHED-TTL:PT1H
BEGIN:VTIMEZONE
TZID:America/Phoenix
BEGIN:STANDARD
TZOFFSETFROM:-0700
TZOFFSETTO:-0700
TZNAME:MST
DTSTART:20220101T000000
END:STANDARD
END:VTIMEZONE
BEGIN:VEVENT
DTSTART;TZID=America/Phoenix:20240420T160000
DTEND;TZID=America/Phoenix:20240420T180000
DTSTAMP:20260421T193238
CREATED:20240403T120433Z
LAST-MODIFIED:20240403T120433Z
UID:10022941-1713628800-1713636000@myflr.org
SUMMARY:Drive Through BBQ Pork Dinner Fundraiser
DESCRIPTION:Faith United Methodist Church Drive is hosting a Drive Through BBQ Pulled Pork Dinner with proceeds to benefit the Coleman School Band. \nSaturday\, April 20\, 2024 4pm to 6pm\n$12 per meal \nMenu\nPulled BBQ Pork\nBaked Potato\nColeslaw\nRoll\nDessert \nParking lot of Faith United Methodist Church\n203 Jefferson Street\, Coleman \nTickets available at Faith United Methodist Church or via PayPal. Include your name and phone number and number of tickets in your PayPal transaction. \nAdvance ticket sales greatly appreciated but not mandatory.
URL:https://myflr.org/event/drive-through-bbq-pork-dinner-fundraiser/
LOCATION:Faith United Methodist Church (Coleman\, MI)\, 209 E Jefferson\, Coleman\, MI\, 48618\, United States
CATEGORIES:Michigan
ATTACH;FMTTYPE=image/jpeg:https://eadn-wc05-15902914.nxedge.io/wp-content/uploads/2024/04/IMG_8076.jpeg
END:VEVENT
BEGIN:VEVENT
DTSTART;TZID=America/Phoenix:20231104T160000
DTEND;TZID=America/Phoenix:20231104T183000
DTSTAMP:20260421T193238
CREATED:20231004T121152Z
LAST-MODIFIED:20231004T121152Z
UID:10015956-1699113600-1699122600@myflr.org
SUMMARY:Harvest Dinner at Faith UMC
DESCRIPTION:You’re invited to celebrate and support our local missions with a Harvest Dinner. Donations will benefit local missions and ministries of Faith UMC including the food bank\, sharing tree and disaster relief. The menu includes roasted pork and chicken along with various sides and dessert.
URL:https://myflr.org/event/harvest-dinner-at-faith-umc/
LOCATION:Faith United Methodist Church (Coleman\, MI)\, 209 E Jefferson\, Coleman\, MI\, 48618\, United States
CATEGORIES:Michigan
ATTACH;FMTTYPE=image/jpeg:https://eadn-wc05-15902914.nxedge.io/wp-content/uploads/2023/10/E3BB17FD-51DF-4AB6-9CF5-E7179AEF793D.jpeg
END:VEVENT
BEGIN:VEVENT
DTSTART;TZID=America/Phoenix:20230731T180000
DTEND;TZID=America/Phoenix:20230803T200000
DTSTAMP:20260421T193238
CREATED:20230703T165303Z
LAST-MODIFIED:20230703T165303Z
UID:10011716-1690826400-1691092800@myflr.org
SUMMARY:Coleman Faith UMC Food Truck Party VBS
DESCRIPTION:Join us for four nights of Faith and Fun! Food Truck Party VBS teaches us to get on a roll with God! \n7/31-8/3\n5:15 dinner for all\n6-8pm VBS \nKids ages 3-12 are invited to join us as we learn how God meets all our needs. \nBased on Matthew 6:11; “Give us this day our daily bread”\, children are invited to pray as Jesus teaches. These words serve as a reminder that everything we have comes from God – and our daily needs are met by God.
URL:https://myflr.org/event/coleman-faith-umc-food-truck-party-vbs/
LOCATION:Faith United Methodist Church (Coleman\, MI)\, 209 E Jefferson\, Coleman\, MI\, 48618\, United States
CATEGORIES:Michigan
ATTACH;FMTTYPE=image/jpeg:https://eadn-wc05-15902914.nxedge.io/wp-content/uploads/2023/07/40633586-1797-4088-A869-5FE195BCCA45.jpeg
END:VEVENT
END:VCALENDAR