
BEGIN:VCALENDAR
VERSION:2.0
PRODID:-//Family Life Radio - ECPv6.15.20//NONSGML v1.0//EN
CALSCALE:GREGORIAN
METHOD:PUBLISH
X-WR-CALNAME:Family Life Radio
X-ORIGINAL-URL:https://myflr.org
X-WR-CALDESC:Events for Family Life Radio
REFRESH-INTERVAL;VALUE=DURATION:PT1H
X-Robots-Tag:noindex
X-PUBLISHED-TTL:PT1H
BEGIN:VTIMEZONE
TZID:America/Phoenix
BEGIN:STANDARD
TZOFFSETFROM:-0700
TZOFFSETTO:-0700
TZNAME:MST
DTSTART:20230101T000000
END:STANDARD
END:VTIMEZONE
BEGIN:VEVENT
DTSTART;TZID=America/Phoenix:20240820T083000
DTEND;TZID=America/Phoenix:20240820T100000
DTSTAMP:20260421T093819
CREATED:20240813T185908Z
LAST-MODIFIED:20240813T185908Z
UID:10032682-1724142600-1724148000@myflr.org
SUMMARY:Greater Phoenix Chamber Presents AZ in Focus Ballot Breakdown on Aug. 20
DESCRIPTION:WHAT: Join the Greater Phoenix Chamber for a critical conversation around key propositions impacting Arizona businesses\, including transportation\, wages and more. \nWHO: Members of the Greater Phoenix Chamber\, local employers\, and professionals. \nWHEN: Tuesday\, August 20\, 2024\nCheck-in from 8:30 – 9:00 a.m.\nProgram from 9:00 – 10:00 a.m. \nWHERE: Fennemore- S1/S2 Conference Space\, 2394 E. Camelback Rd.\, Ste. 600\, Phoenix \nWHY: This event aims to provide local business owners\, investors\, and stakeholders with clear and comprehensive insights into the key propositions and measures on the upcoming ballot. Gain a deeper understanding of how these proposals could influence the business landscape in Arizona and prepare to make informed choices that will shape the future of our local economy. \nThe speakers for this event are Marcus Dell’Artino\, partner at First Strategic\, Lorna Romero Ferguson\, owner of Elevate Strategies\, LLC\, and Roy Herrera\, founding partner at Herrera Arellano\, LLP. \nThey will cover propositions and topics including transportation\, tipped and minimum wages\, initiative signature collection processes\, immigration and more. \nThe AZ in Focus community conversation series convenes community leaders for an intimate opportunity to connect with high-level Valley business and public policy professionals to learn about discuss insider information\, and smart\, sustainable solutions to critical economic and policy issues in our state. \nThis event is complimentary for Greater Phoenix Chamber Premier Members\, $15 per person for Chamber Members\, and $50 per person for non-members. \nTo learn more or register\, visit business.phoenixchamber.com/events/details/az-in-focus-presents-ballot-breakdown-key-propositions-impacting-az-business-7444.
URL:https://myflr.org/event/greater-phoenix-chamber-presents-az-in-focus-ballot-breakdown-on-aug-20/
LOCATION:Fennemore\, 2394 E. Camelback Rd.\, Ste. 600\, Phoenix\, AZ\, United States
CATEGORIES:Arizona
ATTACH;FMTTYPE=image/png:https://eadn-wc05-15902914.nxedge.io/wp-content/uploads/2024/08/unnamed-7.png
END:VEVENT
END:VCALENDAR