
BEGIN:VCALENDAR
VERSION:2.0
PRODID:-//Family Life Radio - ECPv6.15.20//NONSGML v1.0//EN
CALSCALE:GREGORIAN
METHOD:PUBLISH
X-WR-CALNAME:Family Life Radio
X-ORIGINAL-URL:https://myflr.org
X-WR-CALDESC:Events for Family Life Radio
REFRESH-INTERVAL;VALUE=DURATION:PT1H
X-Robots-Tag:noindex
X-PUBLISHED-TTL:PT1H
BEGIN:VTIMEZONE
TZID:America/Chicago
BEGIN:DAYLIGHT
TZOFFSETFROM:-0600
TZOFFSETTO:-0500
TZNAME:CDT
DTSTART:20250309T080000
END:DAYLIGHT
BEGIN:STANDARD
TZOFFSETFROM:-0500
TZOFFSETTO:-0600
TZNAME:CST
DTSTART:20251102T070000
END:STANDARD
BEGIN:DAYLIGHT
TZOFFSETFROM:-0600
TZOFFSETTO:-0500
TZNAME:CDT
DTSTART:20260308T080000
END:DAYLIGHT
BEGIN:STANDARD
TZOFFSETFROM:-0500
TZOFFSETTO:-0600
TZNAME:CST
DTSTART:20261101T070000
END:STANDARD
BEGIN:DAYLIGHT
TZOFFSETFROM:-0600
TZOFFSETTO:-0500
TZNAME:CDT
DTSTART:20270314T080000
END:DAYLIGHT
BEGIN:STANDARD
TZOFFSETFROM:-0500
TZOFFSETTO:-0600
TZNAME:CST
DTSTART:20271107T070000
END:STANDARD
END:VTIMEZONE
BEGIN:VEVENT
DTSTART;TZID=America/Chicago:20260503T140000
DTEND;TZID=America/Chicago:20260503T170000
DTSTAMP:20260419T204914
CREATED:20260416T180138Z
LAST-MODIFIED:20260416T180138Z
UID:10060298-1777816800-1777827600@myflr.org
SUMMARY:Mad City Badgers Wheelchair Basketball Demonstration Day/Showcase Game
DESCRIPTION:The Mad City Badgers Wheelchair Basketball Team is coming to town! \nJoin us Sunday\, May 3rd at the Fennimore High School Gymnasium. \n Doors open at 1:00 PM\, with the event running from 2:00–5:00 PM. \nThis free\, family-friendly Demonstration Day will feature an exciting showcase game with area basketball players from Fennimore and Lancaster taking on the Badgers. \nAttendees will also have the opportunity to meet the athletes and even try wheelchair basketball. Plus\, enjoy a basket raffle\, silent auction\, and 50/50 raffle to support the team. \nAll ages and abilities are welcome!
URL:https://myflr.org/event/mad-city-badgers-wheelchair-basketball-demonstration-day-showcase-game/
LOCATION:Fennimore High School\, 510 7th Street\, Fennimore\, WI\, 53809\, United States
CATEGORIES:Wisconsin
ATTACH;FMTTYPE=image/jpeg:https://eadn-wc05-15902914.nxedge.io/wp-content/uploads/2026/04/IMG_4104.jpeg
ORGANIZER;CN="Mad City Wheelchair Sports":MAILTO:brett.natasha@hotmail.com
END:VEVENT
END:VCALENDAR