
BEGIN:VCALENDAR
VERSION:2.0
PRODID:-//Family Life Radio - ECPv6.15.20//NONSGML v1.0//EN
CALSCALE:GREGORIAN
METHOD:PUBLISH
X-ORIGINAL-URL:https://myflr.org
X-WR-CALDESC:Events for Family Life Radio
REFRESH-INTERVAL;VALUE=DURATION:PT1H
X-Robots-Tag:noindex
X-PUBLISHED-TTL:PT1H
BEGIN:VTIMEZONE
TZID:America/Detroit
BEGIN:DAYLIGHT
TZOFFSETFROM:-0500
TZOFFSETTO:-0400
TZNAME:EDT
DTSTART:20230312T070000
END:DAYLIGHT
BEGIN:STANDARD
TZOFFSETFROM:-0400
TZOFFSETTO:-0500
TZNAME:EST
DTSTART:20231105T060000
END:STANDARD
BEGIN:DAYLIGHT
TZOFFSETFROM:-0500
TZOFFSETTO:-0400
TZNAME:EDT
DTSTART:20240310T070000
END:DAYLIGHT
BEGIN:STANDARD
TZOFFSETFROM:-0400
TZOFFSETTO:-0500
TZNAME:EST
DTSTART:20241103T060000
END:STANDARD
BEGIN:DAYLIGHT
TZOFFSETFROM:-0500
TZOFFSETTO:-0400
TZNAME:EDT
DTSTART:20250309T070000
END:DAYLIGHT
BEGIN:STANDARD
TZOFFSETFROM:-0400
TZOFFSETTO:-0500
TZNAME:EST
DTSTART:20251102T060000
END:STANDARD
END:VTIMEZONE
BEGIN:VEVENT
DTSTART;TZID=America/Detroit:20240424T190000
DTEND;TZID=America/Detroit:20240424T200000
DTSTAMP:20260421T191335
CREATED:20240403T113225Z
LAST-MODIFIED:20240403T114328Z
UID:10022958-1713985200-1713988800@myflr.org
SUMMARY:Scripture on Creation – Davison
DESCRIPTION:We’re excited to have Dr. Ben Scripture (www.scriptureoncreation.org) joining us again on April 21-24! \nApril 21 @ 10:30am: When Time Began\nApril 21 @ 7pm: Evolution\, Creation and Intelligent Design: What’s the Difference?\nApril 22 @ 7pm: Doubting Darwinism\nApril 23 @ 7pm: Man Made in the Maker’s Image\nApril 24 @ 7pm: The Stones Will Cry Out
URL:https://myflr.org/event/scripture-on-creation/2024-04-24/
LOCATION:First Baptist Church (Davison\, MI)\, 208 E. Fourth St.\, Davison\, MI\, 48423\, United States
CATEGORIES:Michigan
ATTACH;FMTTYPE=image/png:https://eadn-wc05-15902914.nxedge.io/wp-content/uploads/2024/04/Scripture-on-Creation_2024_newspaper.png
END:VEVENT
END:VCALENDAR