
BEGIN:VCALENDAR
VERSION:2.0
PRODID:-//Family Life Radio - ECPv6.15.20//NONSGML v1.0//EN
CALSCALE:GREGORIAN
METHOD:PUBLISH
X-ORIGINAL-URL:https://myflr.org
X-WR-CALDESC:Events for Family Life Radio
REFRESH-INTERVAL;VALUE=DURATION:PT1H
X-Robots-Tag:noindex
X-PUBLISHED-TTL:PT1H
BEGIN:VTIMEZONE
TZID:America/Phoenix
BEGIN:STANDARD
TZOFFSETFROM:-0700
TZOFFSETTO:-0700
TZNAME:MST
DTSTART:20230101T000000
END:STANDARD
END:VTIMEZONE
BEGIN:VEVENT
DTSTART;TZID=America/Phoenix:20240406T090000
DTEND;TZID=America/Phoenix:20240406T120000
DTSTAMP:20260421T175827
CREATED:20240222T152004Z
LAST-MODIFIED:20240222T152004Z
UID:10020057-1712394000-1712404800@myflr.org
SUMMARY:Women Together Spring Event
DESCRIPTION:Ladies! Mark your calendars for the Women Together Spring Event. You are invited to spend this time with us for “Preparing to Meet Our Lord”. There will be a time of worship and several ladies will be sharing their personal testimony about how they are preparing to meet Jesus. \nTickets go on sale Sunday\, March 10\, in the Worship Center Lobby or you may register online for $10. Ticket price includes breakfast snacks and a devotional book from Anne Graham Lotz. Childcare will not be available for this event. \nJesus is coming back and we need to be prepared for His glorious coming! Join us\, and bring someone with you!
URL:https://myflr.org/event/women-together-spring-event/
LOCATION:First Baptist Church (Panama City\, FL)\, 640 Grace Ave\, Panama City\, FL\, 32401\, United States
CATEGORIES:Florida
ATTACH;FMTTYPE=image/png:https://eadn-wc05-15902914.nxedge.io/wp-content/uploads/2024/02/WomenTogetherSpringEventSlide5.png
END:VEVENT
END:VCALENDAR