
BEGIN:VCALENDAR
VERSION:2.0
PRODID:-//Family Life Radio - ECPv6.15.20//NONSGML v1.0//EN
CALSCALE:GREGORIAN
METHOD:PUBLISH
X-ORIGINAL-URL:https://myflr.org
X-WR-CALDESC:Events for Family Life Radio
REFRESH-INTERVAL;VALUE=DURATION:PT1H
X-Robots-Tag:noindex
X-PUBLISHED-TTL:PT1H
BEGIN:VTIMEZONE
TZID:America/Chicago
BEGIN:DAYLIGHT
TZOFFSETFROM:-0600
TZOFFSETTO:-0500
TZNAME:CDT
DTSTART:20250309T080000
END:DAYLIGHT
BEGIN:STANDARD
TZOFFSETFROM:-0500
TZOFFSETTO:-0600
TZNAME:CST
DTSTART:20251102T070000
END:STANDARD
BEGIN:DAYLIGHT
TZOFFSETFROM:-0600
TZOFFSETTO:-0500
TZNAME:CDT
DTSTART:20260308T080000
END:DAYLIGHT
BEGIN:STANDARD
TZOFFSETFROM:-0500
TZOFFSETTO:-0600
TZNAME:CST
DTSTART:20261101T070000
END:STANDARD
BEGIN:DAYLIGHT
TZOFFSETFROM:-0600
TZOFFSETTO:-0500
TZNAME:CDT
DTSTART:20270314T080000
END:DAYLIGHT
BEGIN:STANDARD
TZOFFSETFROM:-0500
TZOFFSETTO:-0600
TZNAME:CST
DTSTART:20271107T070000
END:STANDARD
END:VTIMEZONE
BEGIN:VTIMEZONE
TZID:America/Phoenix
BEGIN:STANDARD
TZOFFSETFROM:-0700
TZOFFSETTO:-0700
TZNAME:MST
DTSTART:20230101T000000
END:STANDARD
END:VTIMEZONE
BEGIN:VEVENT
DTSTART;TZID=America/Chicago:20260415T070000
DTEND;TZID=America/Chicago:20260415T090000
DTSTAMP:20260420T133257
CREATED:20260116T154907Z
LAST-MODIFIED:20260116T154907Z
UID:10058104-1776236400-1776243600@myflr.org
SUMMARY:Grief Share
DESCRIPTION:Come join a support group for those hurting after the death of a loved one. You will receive valuable guidance and tips\, leading you to relief\, comfort\, and peace of mind. We meet every Wednesday morning\, 8:30 to 10:00\, Jan 14 through April 15.
URL:https://myflr.org/event/grief-share-4/2026-04-15/
LOCATION:First Baptist Church Panama City (Panama City\, FL)\, 640 Grace Ave\, Panama City\, Florida\, 32401
CATEGORIES:Florida
ORGANIZER;CN="First Baptist Church (Panama City%2C FL)":MAILTO:cquinn@firstbaptistpc.com
END:VEVENT
BEGIN:VEVENT
DTSTART;TZID=America/Phoenix:20240224T183000
DTEND;TZID=America/Phoenix:20240224T210000
DTSTAMP:20260420T133257
CREATED:20240214T214239Z
LAST-MODIFIED:20240214T214239Z
UID:10020006-1708799400-1708808400@myflr.org
SUMMARY:True Girl Crazy Hair Tour
DESCRIPTION:Join us for live games\, vibrant worship\, fun fashion\, solid Bible teaching\, opportunities for special mom+daughter connections\, and a clear presentation of the Gospel of Jesus Christ. Our hope and prayer are that every mom+daughter will leave the True Girl Crazy Hair Tour filled up with courage to radically live for Jesus! \nOver years of doing events for tween girls and their moms\, we’ve heard countless stories of how God uses the events to set girls on a trajectory of living for Jesus\, no matter what’s going on around them. This message is especially critical these days\, isn’t it? \nJoin us\, it’s the most fun you’ll have digging into God’s word together.
URL:https://myflr.org/event/true-girl-crazy-hair-tour/
LOCATION:First Baptist Church Panama City (Panama City\, FL)\, 640 Grace Ave\, Panama City\, Florida\, 32401
CATEGORIES:Florida
ATTACH;FMTTYPE=image/jpeg:https://eadn-wc05-15902914.nxedge.io/wp-content/uploads/2024/02/CHT_Slide_1920x1080_First-Baptist-Church-Panama-scaled.jpg
END:VEVENT
END:VCALENDAR