
BEGIN:VCALENDAR
VERSION:2.0
PRODID:-//Family Life Radio - ECPv6.15.20//NONSGML v1.0//EN
CALSCALE:GREGORIAN
METHOD:PUBLISH
X-ORIGINAL-URL:https://myflr.org
X-WR-CALDESC:Events for Family Life Radio
REFRESH-INTERVAL;VALUE=DURATION:PT1H
X-Robots-Tag:noindex
X-PUBLISHED-TTL:PT1H
BEGIN:VTIMEZONE
TZID:America/Detroit
BEGIN:DAYLIGHT
TZOFFSETFROM:-0500
TZOFFSETTO:-0400
TZNAME:EDT
DTSTART:20230312T070000
END:DAYLIGHT
BEGIN:STANDARD
TZOFFSETFROM:-0400
TZOFFSETTO:-0500
TZNAME:EST
DTSTART:20231105T060000
END:STANDARD
BEGIN:DAYLIGHT
TZOFFSETFROM:-0500
TZOFFSETTO:-0400
TZNAME:EDT
DTSTART:20240310T070000
END:DAYLIGHT
BEGIN:STANDARD
TZOFFSETFROM:-0400
TZOFFSETTO:-0500
TZNAME:EST
DTSTART:20241103T060000
END:STANDARD
BEGIN:DAYLIGHT
TZOFFSETFROM:-0500
TZOFFSETTO:-0400
TZNAME:EDT
DTSTART:20250309T070000
END:DAYLIGHT
BEGIN:STANDARD
TZOFFSETFROM:-0400
TZOFFSETTO:-0500
TZNAME:EST
DTSTART:20251102T060000
END:STANDARD
BEGIN:DAYLIGHT
TZOFFSETFROM:-0500
TZOFFSETTO:-0400
TZNAME:EDT
DTSTART:20260308T070000
END:DAYLIGHT
BEGIN:STANDARD
TZOFFSETFROM:-0400
TZOFFSETTO:-0500
TZNAME:EST
DTSTART:20261101T060000
END:STANDARD
END:VTIMEZONE
BEGIN:VEVENT
DTSTART;TZID=America/Detroit:20251201T190000
DTEND;TZID=America/Detroit:20251201T223000
DTSTAMP:20260421T195627
CREATED:20250819T163244Z
LAST-MODIFIED:20250819T163244Z
UID:10051173-1764615600-1764628200@myflr.org
SUMMARY:Christmas Together with Amy Grant\, Michael W. Smith and CeCe Winans - Detroit
DESCRIPTION:Christmas Together \nFeaturing Amy Grant\, Michael W. Smith and CeCe Winans \nDecember 1 – Fox Theatre \nTickets on sale now at 313presents.com and Ticketmaster \nThe highly anticipated Christmas Together Tour will feature selections spanning the artists’ expansive Christmas repertoires and combine the vast collection of traditional classics and critically acclaimed holiday albums between them. Grant’s five studio Christmas albums have produced such holiday favorites as “Breath of Heaven\,” “My Grown Up Christmas List” and “Tennessee Christmas\,” among many more. Smith’s numerous chart-topping holiday offerings have also been staples of the season with favorites like “All Is Well\,” “Welcome To Our World\,” “Christmas Day” and more. Winans released the critically acclaimed Joyful\, Joyful: A Christmas Album last year\, featuring her rendition of “Joy to the World\,” which rose to No. 6 on Billboard’s Hot Gospel Songs chart.
URL:https://myflr.org/event/christmas-together-with-amy-grant-michael-w-smith-and-cece-winans-detroit/
LOCATION:Fox Theatre (Detroit\, MI)\, 2211 Woodward Ave\, Detroit\, MI\, 48201\, United States
CATEGORIES:Featured,Michigan
ATTACH;FMTTYPE=image/png:https://eadn-wc05-15902914.nxedge.io/wp-content/uploads/2025/08/2025_ChristmasTogether_1080X1080.png
END:VEVENT
BEGIN:VEVENT
DTSTART;TZID=America/Detroit:20241020T190000
DTEND;TZID=America/Detroit:20241020T220000
DTSTAMP:20260421T195627
CREATED:20241015T163101Z
LAST-MODIFIED:20241015T163101Z
UID:10036883-1729450800-1729461600@myflr.org
SUMMARY:THE THORN – DETROIT
DESCRIPTION:The Thorn tells the epic story of God’s love for the world and the spiritual battle for all humanity. Often described as cirque meets the passion of Jesus\, The Thorn is an immersive show featuring live music\, drama\, aerial acts\, movement arts\, modern dance\, and big visual effects. Join our more than 1 million fans that have experienced The Thorn live! \nSun • Oct 20\, 2024 • 7:00 PM \nFox Theatre Detroit\, Detroit\, MI
URL:https://myflr.org/event/the-thorn-detroit/
LOCATION:Fox Theatre (Detroit\, MI)\, 2211 Woodward Ave\, Detroit\, MI\, 48201\, United States
CATEGORIES:Featured,Michigan
ATTACH;FMTTYPE=image/jpeg:https://eadn-wc05-15902914.nxedge.io/wp-content/uploads/2024/10/TheThorn_DETMI_600x600_IMAGE-14dd40b2d8.jpg
END:VEVENT
BEGIN:VEVENT
DTSTART;TZID=America/Detroit:20240321T190000
DTEND;TZID=America/Detroit:20240321T220000
DTSTAMP:20260421T195627
CREATED:20231221T145254Z
LAST-MODIFIED:20240213T202716Z
UID:10018726-1711047600-1711058400@myflr.org
SUMMARY:CECE WINANS – THE GOODNESS TOUR – DETROIT
DESCRIPTION:CeCe Winans’ The Goodness Tour is an all new worship experience that will feature the biggest songs from CeCe’s album\, Believe For It and debut brand new songs that will release in April\, including Holy Forever and many other new surprises. \nTicket Prices (Additional taxes & fees may apply; ticket prices subject to change) \nVIP: $150.00\nVIP includes premium seating\, a VIP laminate signed by CeCe\, early access to Merchandise shopping\, AND $5 off voucher for CeCe Merchandise. VIP doors open at 5:45pm. Show starts at 7:00pm. \nReserved : $35.00 – $75.00\nReserved seating. Doors open at 6:00PM Concert begins at 7PM \nSCHEDULE (subject to change):\n5:45PM – VIP doors open\n6:00PM – Doors open\n7:00PM – Concert begins \nEvent info @ https://transparentproductions.com/events/cece-winans-the-goodness-tour-detroit-mi-march-21-2024/ \nTicket info @https://www.ticketmaster.com/event/08005F85E74739C1?CAMEFROM=CFC_TRANSPARENT_PRODUCTIONS_WEB_RADIO_1
URL:https://myflr.org/event/cece-winans-the-goodness-tour-detroit/
LOCATION:Fox Theatre (Detroit\, MI)\, 2211 Woodward Ave\, Detroit\, MI\, 48201\, United States
CATEGORIES:Featured,Michigan
ATTACH;FMTTYPE=image/jpeg:https://eadn-wc05-15902914.nxedge.io/wp-content/uploads/2023/12/CeCe-Winans-The-Goodness-Tour-2023-with-LOGO.jpg
ORGANIZER;CN="Transparent Productions":MAILTO:info@transparentproductions.com
END:VEVENT
END:VCALENDAR