
BEGIN:VCALENDAR
VERSION:2.0
PRODID:-//Family Life Radio - ECPv6.15.20//NONSGML v1.0//EN
CALSCALE:GREGORIAN
METHOD:PUBLISH
X-WR-CALNAME:Family Life Radio
X-ORIGINAL-URL:https://myflr.org
X-WR-CALDESC:Events for Family Life Radio
REFRESH-INTERVAL;VALUE=DURATION:PT1H
X-Robots-Tag:noindex
X-PUBLISHED-TTL:PT1H
BEGIN:VTIMEZONE
TZID:America/Phoenix
BEGIN:STANDARD
TZOFFSETFROM:-0700
TZOFFSETTO:-0700
TZNAME:MST
DTSTART:20230101T000000
END:STANDARD
END:VTIMEZONE
BEGIN:VEVENT
DTSTART;TZID=America/Phoenix:20251029T080000
DTEND;TZID=America/Phoenix:20251029T170000
DTSTAMP:20260421T193222
CREATED:20250916T171543Z
LAST-MODIFIED:20250916T171543Z
UID:10052257-1761724800-1761757200@myflr.org
SUMMARY:Full Circle 2025- The Be Kind People Project
DESCRIPTION:The Be Kind People Project® is proud to announce FULL CIRCLE 2025\, its annual signature fundraiser\, will take place on Wednesday\, October 29\, 2025\, at the renowned ASU Gammage Theater. This inspirational evening will recognize extraordinary community leaders\, celebrate kindness in action\, showcase the heart and soul of the program’s success with performances by THE BE KIND CREW and raise vital funds to provide character education programs that empower Arizona’s students\, educators\, schools\, and families. \nThis year’s distinguished BE KIND Community Impact Award will be presented to Erika and Russ Dickey\, beloved philanthropists and tireless advocates for the arts\, youth\, wellness\, and innovation. Their longstanding commitment to uplifting the community exemplifies the values at the heart of The Be Kind People Project.
URL:https://myflr.org/event/full-circle-2025-the-be-kind-people-project/
LOCATION:Gammage Auditorium (ASU)\, 1200 S Forest Ave.\, Tempe\, 85281\, United States
CATEGORIES:Arizona
ATTACH;FMTTYPE=image/jpeg:https://eadn-wc05-15902914.nxedge.io/wp-content/uploads/2025/09/Full-circle-2025-The-Be-Kind-People-Project.jpg
ORGANIZER;CN="The Be Kind People Project":MAILTO:lora.golke@bkpp.org
END:VEVENT
BEGIN:VEVENT
DTSTART;TZID=America/Phoenix:20241210T190000
DTEND;TZID=America/Phoenix:20241210T220000
DTSTAMP:20260421T193222
CREATED:20241015T222945Z
LAST-MODIFIED:20241015T222945Z
UID:10036890-1733857200-1733868000@myflr.org
SUMMARY:Phoenix: Michael W Smith – Every Christmas Tour with Riley Clemmons
DESCRIPTION:Multi-Platinum singer-songwriter\, Michael W. Smith\, is excited to come to Phoenix\, AZ with his EVERY CHRISTMAS concert tour. Concert audiences will be engulfed in the joy and true meaning of the season as Michael W. Smith and\, his award-winning very special guest\, Riley Clemmons perform their most popular Christmas classics in a night for the whole family.
URL:https://myflr.org/event/michael-w-smith-every-christmas-tour-with-riley-clemmons-2/
LOCATION:Gammage Auditorium (ASU)\, 1200 S Forest Ave.\, Tempe\, 85281\, United States
CATEGORIES:Arizona,Featured
ATTACH;FMTTYPE=image/jpeg:https://eadn-wc05-15902914.nxedge.io/wp-content/uploads/2024/10/Michael-W-Smith-2024.jpg
END:VEVENT
END:VCALENDAR