
BEGIN:VCALENDAR
VERSION:2.0
PRODID:-//Family Life Radio - ECPv6.15.20//NONSGML v1.0//EN
CALSCALE:GREGORIAN
METHOD:PUBLISH
X-ORIGINAL-URL:https://myflr.org
X-WR-CALDESC:Events for Family Life Radio
REFRESH-INTERVAL;VALUE=DURATION:PT1H
X-Robots-Tag:noindex
X-PUBLISHED-TTL:PT1H
BEGIN:VTIMEZONE
TZID:America/Detroit
BEGIN:DAYLIGHT
TZOFFSETFROM:-0500
TZOFFSETTO:-0400
TZNAME:EDT
DTSTART:20250309T070000
END:DAYLIGHT
BEGIN:STANDARD
TZOFFSETFROM:-0400
TZOFFSETTO:-0500
TZNAME:EST
DTSTART:20251102T060000
END:STANDARD
BEGIN:DAYLIGHT
TZOFFSETFROM:-0500
TZOFFSETTO:-0400
TZNAME:EDT
DTSTART:20260308T070000
END:DAYLIGHT
BEGIN:STANDARD
TZOFFSETFROM:-0400
TZOFFSETTO:-0500
TZNAME:EST
DTSTART:20261101T060000
END:STANDARD
BEGIN:DAYLIGHT
TZOFFSETFROM:-0500
TZOFFSETTO:-0400
TZNAME:EDT
DTSTART:20270314T070000
END:DAYLIGHT
BEGIN:STANDARD
TZOFFSETFROM:-0400
TZOFFSETTO:-0500
TZNAME:EST
DTSTART:20271107T060000
END:STANDARD
END:VTIMEZONE
BEGIN:VEVENT
DTSTART;TZID=America/Detroit:20260516T090000
DTEND;TZID=America/Detroit:20260516T160000
DTSTAMP:20260421T044054
CREATED:20260330T151804Z
LAST-MODIFIED:20260330T151804Z
UID:10059978-1778922000-1778947200@myflr.org
SUMMARY:Nazarene Fun Festival
DESCRIPTION:16th annual fundraiser for 2 community programs \nincludes hug silent auction\nvenders both nonprofit & profit\nhug bake sale\nlots of free\, hands on activities for kids: bounce house\, petting zoo\, helium ballons\, etc…
URL:https://myflr.org/event/nazarene-fun-festival/
LOCATION:Gladwin Church of the Nazarene (Gladwin\, MI)\, 560 M-61\, Gladwin\, MI\, 48624\, United States
CATEGORIES:Michigan
END:VEVENT
END:VCALENDAR