
BEGIN:VCALENDAR
VERSION:2.0
PRODID:-//Family Life Radio - ECPv6.15.20//NONSGML v1.0//EN
CALSCALE:GREGORIAN
METHOD:PUBLISH
X-ORIGINAL-URL:https://myflr.org
X-WR-CALDESC:Events for Family Life Radio
REFRESH-INTERVAL;VALUE=DURATION:PT1H
X-Robots-Tag:noindex
X-PUBLISHED-TTL:PT1H
BEGIN:VTIMEZONE
TZID:America/Detroit
BEGIN:DAYLIGHT
TZOFFSETFROM:-0500
TZOFFSETTO:-0400
TZNAME:EDT
DTSTART:20230312T070000
END:DAYLIGHT
BEGIN:STANDARD
TZOFFSETFROM:-0400
TZOFFSETTO:-0500
TZNAME:EST
DTSTART:20231105T060000
END:STANDARD
BEGIN:DAYLIGHT
TZOFFSETFROM:-0500
TZOFFSETTO:-0400
TZNAME:EDT
DTSTART:20240310T070000
END:DAYLIGHT
BEGIN:STANDARD
TZOFFSETFROM:-0400
TZOFFSETTO:-0500
TZNAME:EST
DTSTART:20241103T060000
END:STANDARD
BEGIN:DAYLIGHT
TZOFFSETFROM:-0500
TZOFFSETTO:-0400
TZNAME:EDT
DTSTART:20250309T070000
END:DAYLIGHT
BEGIN:STANDARD
TZOFFSETFROM:-0400
TZOFFSETTO:-0500
TZNAME:EST
DTSTART:20251102T060000
END:STANDARD
BEGIN:DAYLIGHT
TZOFFSETFROM:-0500
TZOFFSETTO:-0400
TZNAME:EDT
DTSTART:20260308T070000
END:DAYLIGHT
BEGIN:STANDARD
TZOFFSETFROM:-0400
TZOFFSETTO:-0500
TZNAME:EST
DTSTART:20261101T060000
END:STANDARD
END:VTIMEZONE
BEGIN:VTIMEZONE
TZID:America/Phoenix
BEGIN:STANDARD
TZOFFSETFROM:-0700
TZOFFSETTO:-0700
TZNAME:MST
DTSTART:20240101T000000
END:STANDARD
END:VTIMEZONE
BEGIN:VEVENT
DTSTART;TZID=America/Detroit:20250913T093000
DTEND;TZID=America/Detroit:20250913T110000
DTSTAMP:20260421T193137
CREATED:20250827T172848Z
LAST-MODIFIED:20250827T172848Z
UID:10051222-1757755800-1757761200@myflr.org
SUMMARY:11th Annual Gladwin New Dawn Shelter 5k Run/Walk
DESCRIPTION:New Dawn Shelter strives to help the homeless in our area hope and dream anew by providing shelter\, case management\, and life skills training to equip guests to thrive while living independently. The 11th Annual 5k is an event to raise proceeds for New Dawn Shelter as well as raise awareness about homelessness in our community.
URL:https://myflr.org/event/11th-annual-gladwin-new-dawn-shelter-5k-run-walk/
LOCATION:Gladwin North Park (Gladwin\, MI)\, Gladwin\, MI\, 48624\, United States
CATEGORIES:Michigan
ATTACH;FMTTYPE=image/jpeg:https://eadn-wc05-15902914.nxedge.io/wp-content/uploads/2025/08/5K3-2-scaled.jpg
ORGANIZER;CN="Gladwin Free Methodist Church":MAILTO:office@gladwinfmc.org
END:VEVENT
BEGIN:VEVENT
DTSTART;TZID=America/Phoenix:20250712T080000
DTEND;TZID=America/Phoenix:20250712T110000
DTSTAMP:20260421T193137
CREATED:20250509T210048Z
LAST-MODIFIED:20250509T210048Z
UID:10041049-1752307200-1752318000@myflr.org
SUMMARY:FFNRC Fast & Fosterous k & .5k
DESCRIPTION:We are thrilled to announce the FIRST EVER Fast & Fosterous 5K & .5K hosted by Foster Families Navigation & Resource Center! ???? \n???? Date: July 12\, 2025\n???? Location: Gladwin North Park \nWhether you’re a seasoned runner or just in it for the fun\, we’ve got a race for everyone! Lace up your sneakers\, bring your friends and family\, and join us for a day filled with energy\, community spirit\, and support for foster families. ???? \n???? 5K for the runners\n???? .5K for the fun-lovers (costumes highly encouraged!) \n✨ Music\, prizes\, and lots of surprises await! ✨ \nLet’s make history together — one step\, one sprint\, and one smile at a time. \nTag your running buddy and let’s make it a day to remember! ????\n#FastAndFosterous #FFNRC5K #FosterTheFuture #RunForACause
URL:https://myflr.org/event/ffnrc-fast-fosterous-k-5k/
LOCATION:Gladwin North Park (Gladwin\, MI)\, Gladwin\, MI\, 48624\, United States
CATEGORIES:Michigan
ATTACH;FMTTYPE=image/png:https://eadn-wc05-15902914.nxedge.io/wp-content/uploads/2025/05/Fast-and-Fosterous.png
ORGANIZER;CN="Foster Families Navigation and Resource Center":MAILTO:sarah.h@fosterfamiliesnrc.org
END:VEVENT
BEGIN:VEVENT
DTSTART;TZID=America/Detroit:20240928T090000
DTEND;TZID=America/Detroit:20240928T103000
DTSTAMP:20260421T193137
CREATED:20240722T132025Z
LAST-MODIFIED:20240722T132025Z
UID:10031458-1727514000-1727519400@myflr.org
SUMMARY:New Dawn Shelter 5k Fun Run/Walk
DESCRIPTION:New Dawn Shelter is a homeless Shelter and ministry in Gladwin. Our annual 5k fun run/walk is an opportunity to build awareness of homelessness and raise funds for the operation of the shelter.
URL:https://myflr.org/event/new-dawn-shelter-5k-fun-run-walk/
LOCATION:Gladwin North Park (Gladwin\, MI)\, Gladwin\, MI\, 48624\, United States
CATEGORIES:Michigan
ORGANIZER;CN="Gladwin Free Methodist Church":MAILTO:office@gladwinfmc.org
END:VEVENT
END:VCALENDAR