
BEGIN:VCALENDAR
VERSION:2.0
PRODID:-//Family Life Radio - ECPv6.15.20//NONSGML v1.0//EN
CALSCALE:GREGORIAN
METHOD:PUBLISH
X-WR-CALNAME:Family Life Radio
X-ORIGINAL-URL:https://myflr.org
X-WR-CALDESC:Events for Family Life Radio
REFRESH-INTERVAL;VALUE=DURATION:PT1H
X-Robots-Tag:noindex
X-PUBLISHED-TTL:PT1H
BEGIN:VTIMEZONE
TZID:America/Phoenix
BEGIN:STANDARD
TZOFFSETFROM:-0700
TZOFFSETTO:-0700
TZNAME:MST
DTSTART:20230101T000000
END:STANDARD
END:VTIMEZONE
BEGIN:VEVENT
DTSTART;TZID=America/Phoenix:20241214T110000
DTEND;TZID=America/Phoenix:20241214T130000
DTSTAMP:20260421T210129
CREATED:20241204T063226Z
LAST-MODIFIED:20241204T063226Z
UID:10037553-1734174000-1734181200@myflr.org
SUMMARY:Hometown Christmas Parade 
DESCRIPTION:Join Your Family Life Radio Morning show friends Sally\, Mysti\, and Adam while they announce at the Hometown Christmas Parade on December 14th! The parade will take place in downtown Glendale\, AZ at 11am. The route proceeds west on Glendale Ave. to 58th Ave. filled with joy and wonder as we celebrate the true star of Christmas\, Jesus!!! There’ll also be a Family Life Radio Parade entry! So make sure stop by\, say Hi\, and wave at the Family Life Radio float too!\n*Proceeds from the parade will benefit Hope for Hunger.  Hope For Hunger Food Bank provides nutritional assistance with dignity and respect by providing emergency food assistance to those in need.
URL:https://myflr.org/event/hometown-christmas-parade/
LOCATION:Glendale to 58th Avenue\, 7020 N 55th Ave\, Glendale\, AZ\, AZ\, 85301-2512\, United States
CATEGORIES:Arizona,Featured
ATTACH;FMTTYPE=image/webp:https://eadn-wc05-15902914.nxedge.io/wp-content/uploads/2024/12/2024_6x9_HCParade_Postcard_Front_WEB.webp
ORGANIZER;CN="City Of Glendale":MAILTO:admin@hcparade.org
END:VEVENT
END:VCALENDAR