
BEGIN:VCALENDAR
VERSION:2.0
PRODID:-//Family Life Radio - ECPv6.15.20//NONSGML v1.0//EN
CALSCALE:GREGORIAN
METHOD:PUBLISH
X-ORIGINAL-URL:https://myflr.org
X-WR-CALDESC:Events for Family Life Radio
REFRESH-INTERVAL;VALUE=DURATION:PT1H
X-Robots-Tag:noindex
X-PUBLISHED-TTL:PT1H
BEGIN:VTIMEZONE
TZID:America/Phoenix
BEGIN:STANDARD
TZOFFSETFROM:-0700
TZOFFSETTO:-0700
TZNAME:MST
DTSTART:20220101T000000
END:STANDARD
END:VTIMEZONE
BEGIN:VEVENT
DTSTART;TZID=America/Phoenix:20250802T100000
DTEND;TZID=America/Phoenix:20250802T160000
DTSTAMP:20260421T135140
CREATED:20250509T231520Z
LAST-MODIFIED:20250530T201110Z
UID:10041092-1754128800-1754150400@myflr.org
SUMMARY:Glorieta Camps Community Retreat Day - Aug 2
DESCRIPTION:Glorieta Camps Community Retreat Day (Aug 2 2025) \n11 State Route 50 \nGlorieta\, New Mexico 87535 \n10am-4pm$10/car (if you pre-register)$15 activities passes (optional)Bring a picnic lunch or check out some local food trucks we will have onsite. \nEvery summer\, Glorieta Camps and Family Life Radio 91.5 FM\, want to host YOU\, our neighbors and friends for a day of ADVENTURE! Come play for the day\, and in 2025 we are excited to offer 2 days to play! \nEnjoy a day filled with fun and adventure!\n10:00 AM – 4:00 PM \nSAVE TIME & PRE-REGISTER HERE! \n*91.5 FM will be there on August 2nd with a tent\, games\, music and fun for the family from 1pm-4pm! \nLook for our FLR Tent\, Music\, Games and fun!
URL:https://myflr.org/event/glorieta-camps-community-retreat-day-may-24-aug-2-2025/2025-08-02/
LOCATION:Glorieta Adventure Camps (Glorieta\, NM)\, 11 State Route 50\, Glorieta\, NM\, 87535\, United States
CATEGORIES:Featured,New Mexico
ATTACH;FMTTYPE=image/jpeg:https://eadn-wc05-15902914.nxedge.io/wp-content/uploads/2025/05/Glorieta-Community-Day-2025-Graphic.jpg
ORGANIZER;CN="Glorieta Adventure Camps":MAILTO:info@glorieta.org
END:VEVENT
BEGIN:VEVENT
DTSTART;TZID=America/Phoenix:20240612T073000
DTEND;TZID=America/Phoenix:20240616T170000
DTSTAMP:20260421T135140
CREATED:20240501T220115Z
LAST-MODIFIED:20240501T220337Z
UID:10024743-1718177400-1718557200@myflr.org
SUMMARY:Glorieta Summer Day Camp
DESCRIPTION:Day Camp is a 5-day camp experience unlike any other! Kids\, ages 6-13\, are invited to our fun-filled\, action-packed\, Christ-centered program that’s loaded with activities and learning experiences. Transportation there and back each day is offered as an add on with an upcharge. \nDrop-off Everyday 7:30-8AM\nPick-up Everyday 5:00-5:30PM \nScholarships available.
URL:https://myflr.org/event/glorieta-summer-day-camp/2024-06-12/
LOCATION:Glorieta Adventure Camps (Glorieta\, NM)\, 11 State Route 50\, Glorieta\, NM\, 87535\, United States
CATEGORIES:New Mexico
ATTACH;FMTTYPE=image/png:https://eadn-wc05-15902914.nxedge.io/wp-content/uploads/2024/04/MECH-Camps-Badges-Glorieta-R2_6.Day-Camp.png
END:VEVENT
BEGIN:VEVENT
DTSTART;TZID=America/Phoenix:20230805T100000
DTEND;TZID=America/Phoenix:20230805T160000
DTSTAMP:20260421T135140
CREATED:20230711T181031Z
LAST-MODIFIED:20230711T222018Z
UID:10012423-1691229600-1691251200@myflr.org
SUMMARY:Glorieta Adventures Camp-Family Fun Day
DESCRIPTION:You’re invited to Glorieta Adventures Camp- For Family Fun Day \nOnce a year we open our gates and welcome all of our friends and neighbors from the local communities to come visit with us. \nEnjoy a day filled with fun and adventure! \nSave time and pre-register online: https://glorieta.org/retreats/fun-day/  \nAugust 5th from 10 AM to 4 PM  \n11 State Route 50\nGlorieta\, NM 87535 \n91.5 FM Family Life Radio will be at this FREE FAMILY DAY from 1:00pm-4pm\, playing music\, games and having FAMILY FUN with YOU! \nIf you aren’t interested in purchasing an Activity Pass\, there are still many activities you can participate in for free! \nGlorieta’s Adventure Camp has: waterfront\, gaga ball pits\, hiking trails\, basketball courts\, volleyball courts\, disc golf course (bring your own discs)\, and mini golf course (balls available for purchase at $1 or you can bring your own)\, will all be open and free for you to use! Bring a picnic or enjoy the food trucks! \nRegister online parking is $15 and the extra activity band is $25.   \nActivities included with parking are waterfront\, mini golf\, disc golf\, hiking\, and sports courts. \nActivity band is for Zip Drop\, Via Feratta\, BMX\, Snow Tubing Hill. At the gate parking is $20 and activity passes are $30 cash only.
URL:https://myflr.org/event/glorieta-adventures-camp-family-fun-day/
LOCATION:Glorieta Adventure Camps (Glorieta\, NM)\, 11 State Route 50\, Glorieta\, NM\, 87535\, United States
CATEGORIES:Featured,New Mexico
ATTACH;FMTTYPE=image/png:https://eadn-wc05-15902914.nxedge.io/wp-content/uploads/2023/07/ComDayMailing-01.png
END:VEVENT
END:VCALENDAR