
BEGIN:VCALENDAR
VERSION:2.0
PRODID:-//Family Life Radio - ECPv6.15.20//NONSGML v1.0//EN
CALSCALE:GREGORIAN
METHOD:PUBLISH
X-WR-CALNAME:Family Life Radio
X-ORIGINAL-URL:https://myflr.org
X-WR-CALDESC:Events for Family Life Radio
REFRESH-INTERVAL;VALUE=DURATION:PT1H
X-Robots-Tag:noindex
X-PUBLISHED-TTL:PT1H
BEGIN:VTIMEZONE
TZID:America/Phoenix
BEGIN:STANDARD
TZOFFSETFROM:-0700
TZOFFSETTO:-0700
TZNAME:MST
DTSTART:20250101T000000
END:STANDARD
END:VTIMEZONE
BEGIN:VEVENT
DTSTART;TZID=America/Phoenix:20260430T190000
DTEND;TZID=America/Phoenix:20260430T213000
DTSTAMP:20260421T141821
CREATED:20260218T233143Z
LAST-MODIFIED:20260310T214241Z
UID:10059039-1777575600-1777584600@myflr.org
SUMMARY:Colton Dixon Presents The Love I Have For You Tour - Midland\, TX
DESCRIPTION:Get ready for an unforgettable night of music and inspiration as TPR and Family Life Radio presents… \nColton Dixon’s The Love I Have For You Tour hits 15 cities this spring!\nColton brings his signature energy and powerful vocals to the stage\, sharing new music along with fan favorites. \nHe’s joined by special guests Tasha Layton and Bodie\, making this a stacked lineup of worship and moments you’ll remember long after the night is over. Don’t miss it!\nThursday\, April 30\, 2026\nGolf Course Road Church of Christ-Midland\, TX\nSCHEDULE (subject to change):\n5:30pm – VIP Doors Open\n6:15pm – Early Entry Doors Open\n6:30pm – General Admission Doors Open\n7:00pm – Show begins \nGet your tickets HERE!
URL:https://myflr.org/event/colton-dixon-presents-the-love-i-have-for-you-tour-midland-tx/
LOCATION:Golf Course Road Church of Christ\, 3500 W Golf Course Road\, Midland\, TX\, 79703\, United States
CATEGORIES:Featured,Texas
ATTACH;FMTTYPE=image/jpeg:https://eadn-wc05-15902914.nxedge.io/wp-content/uploads/2026/02/Colton-Dixon_TLIHFY-Tour_Local_1080x1350_Midland.jpg
ORGANIZER;CN="TPR.":MAILTO:info@tprlive.co
END:VEVENT
END:VCALENDAR