
BEGIN:VCALENDAR
VERSION:2.0
PRODID:-//Family Life Radio - ECPv6.15.20//NONSGML v1.0//EN
CALSCALE:GREGORIAN
METHOD:PUBLISH
X-WR-CALNAME:Family Life Radio
X-ORIGINAL-URL:https://myflr.org
X-WR-CALDESC:Events for Family Life Radio
REFRESH-INTERVAL;VALUE=DURATION:PT1H
X-Robots-Tag:noindex
X-PUBLISHED-TTL:PT1H
BEGIN:VTIMEZONE
TZID:America/Phoenix
BEGIN:STANDARD
TZOFFSETFROM:-0700
TZOFFSETTO:-0700
TZNAME:MST
DTSTART:20240101T000000
END:STANDARD
END:VTIMEZONE
BEGIN:VEVENT
DTSTART;TZID=America/Phoenix:20251031T180000
DTEND;TZID=America/Phoenix:20251031T200000
DTSTAMP:20260421T195454
CREATED:20251022T192100Z
LAST-MODIFIED:20251022T192100Z
UID:10057050-1761933600-1761940800@myflr.org
SUMMARY:Harvest Festival
DESCRIPTION:Harvest Festival with Trunk or Treat\, jumping castles\, a visit from Drexel Heights Fire Department\, popcorn and more!
URL:https://myflr.org/event/harvest-festival-10/
LOCATION:GracePointe Tucson\, 2555 W. Valencia\, Tucson\, AZ\, 85746\, United States
CATEGORIES:Arizona
ATTACH;FMTTYPE=image/png:https://eadn-wc05-15902914.nxedge.io/wp-content/uploads/2025/10/HarvestFestival.png
END:VEVENT
END:VCALENDAR