
BEGIN:VCALENDAR
VERSION:2.0
PRODID:-//Family Life Radio - ECPv6.15.20//NONSGML v1.0//EN
CALSCALE:GREGORIAN
METHOD:PUBLISH
X-ORIGINAL-URL:https://myflr.org
X-WR-CALDESC:Events for Family Life Radio
REFRESH-INTERVAL;VALUE=DURATION:PT1H
X-Robots-Tag:noindex
X-PUBLISHED-TTL:PT1H
BEGIN:VTIMEZONE
TZID:America/Detroit
BEGIN:DAYLIGHT
TZOFFSETFROM:-0500
TZOFFSETTO:-0400
TZNAME:EDT
DTSTART:20250309T070000
END:DAYLIGHT
BEGIN:STANDARD
TZOFFSETFROM:-0400
TZOFFSETTO:-0500
TZNAME:EST
DTSTART:20251102T060000
END:STANDARD
BEGIN:DAYLIGHT
TZOFFSETFROM:-0500
TZOFFSETTO:-0400
TZNAME:EDT
DTSTART:20260308T070000
END:DAYLIGHT
BEGIN:STANDARD
TZOFFSETFROM:-0400
TZOFFSETTO:-0500
TZNAME:EST
DTSTART:20261101T060000
END:STANDARD
BEGIN:DAYLIGHT
TZOFFSETFROM:-0500
TZOFFSETTO:-0400
TZNAME:EDT
DTSTART:20270314T070000
END:DAYLIGHT
BEGIN:STANDARD
TZOFFSETFROM:-0400
TZOFFSETTO:-0500
TZNAME:EST
DTSTART:20271107T060000
END:STANDARD
END:VTIMEZONE
BEGIN:VEVENT
DTSTART;TZID=America/Detroit:20260504T153000
DTEND;TZID=America/Detroit:20260504T173000
DTSTAMP:20260420T110814
CREATED:20260408T130308Z
LAST-MODIFIED:20260408T130308Z
UID:10060065-1777908600-1777915800@myflr.org
SUMMARY:Creative Icons Launch Party and Episode 3 Premiere
DESCRIPTION:Join us for the premiere of episode 3 of Creative Icons\, our art and faith docuseries! We will recap Episodes 1 & 2\, showcase local artists and celebrate the release of our new companion study guide!\nGrand Ledge Sun Theatre – FREE admission\nDoors open at 6pm\, event starts at 6:30p (lightsabers optional)\nConcessions available for purchase\nSpace is limited\, so RSVP on our website www.creativeicons.tv – in-person and online options are available!
URL:https://myflr.org/event/creative-icons-launch-party-and-episode-3-premiere/
LOCATION:Grand Ledge Sun Theatre (Grand Ledge\, MI)\, 316 S Bridge Street\, Grand Ledge\, MI\, 48837\, United States
CATEGORIES:Michigan
ATTACH;FMTTYPE=image/png:https://eadn-wc05-15902914.nxedge.io/wp-content/uploads/2026/03/Creative-Icons-docuseries-logo-1-scaled.png
END:VEVENT
END:VCALENDAR