
BEGIN:VCALENDAR
VERSION:2.0
PRODID:-//Family Life Radio - ECPv6.15.20//NONSGML v1.0//EN
CALSCALE:GREGORIAN
METHOD:PUBLISH
X-ORIGINAL-URL:https://myflr.org
X-WR-CALDESC:Events for Family Life Radio
REFRESH-INTERVAL;VALUE=DURATION:PT1H
X-Robots-Tag:noindex
X-PUBLISHED-TTL:PT1H
BEGIN:VTIMEZONE
TZID:America/Chicago
BEGIN:DAYLIGHT
TZOFFSETFROM:-0600
TZOFFSETTO:-0500
TZNAME:CDT
DTSTART:20250309T080000
END:DAYLIGHT
BEGIN:STANDARD
TZOFFSETFROM:-0500
TZOFFSETTO:-0600
TZNAME:CST
DTSTART:20251102T070000
END:STANDARD
BEGIN:DAYLIGHT
TZOFFSETFROM:-0600
TZOFFSETTO:-0500
TZNAME:CDT
DTSTART:20260308T080000
END:DAYLIGHT
BEGIN:STANDARD
TZOFFSETFROM:-0500
TZOFFSETTO:-0600
TZNAME:CST
DTSTART:20261101T070000
END:STANDARD
BEGIN:DAYLIGHT
TZOFFSETFROM:-0600
TZOFFSETTO:-0500
TZNAME:CDT
DTSTART:20270314T080000
END:DAYLIGHT
BEGIN:STANDARD
TZOFFSETFROM:-0500
TZOFFSETTO:-0600
TZNAME:CST
DTSTART:20271107T070000
END:STANDARD
END:VTIMEZONE
BEGIN:VEVENT
DTSTART;TZID=America/Chicago:20260219T183000
DTEND;TZID=America/Chicago:20260219T193000
DTSTAMP:20260420T083421
CREATED:20260119T151948Z
LAST-MODIFIED:20260119T151948Z
UID:10058132-1771525800-1771529400@myflr.org
SUMMARY:Square Dance Lessons
DESCRIPTION:Free Open House Feb 12 & 19\, 2026. Come visit us and see what fun we have. Then Beginner lessons start on Feb 26 @ $6. Family Friendly\, all ages welcome. No experience necessary. Wear casual clothes and comfy shoes. This is not your Granny’s square dance. We dance to a variety of music. Learn Something New. Good for balance. Increase brain activity. Spend more time with family doing a group activity. Meet new people. Have fun while doing all that @Grand Square Hall. 1105 Bob Little Rd\, Panama City\, FL. Visit our Facebook page and website.
URL:https://myflr.org/event/square-dance-lessons/2026-02-19/
LOCATION:Grand Square Hall (Panama City\, FL)\, 1105 Bob Little Rd\, Panama City\, FL\, 32404\, United States
CATEGORIES:Florida
ATTACH;FMTTYPE=image/jpeg:https://eadn-wc05-15902914.nxedge.io/wp-content/uploads/2026/01/Open-House-Class-Feb-2026-scaled.jpg
ORGANIZER;CN="Swinging Squares Square Dancers Panama City":MAILTO:swingingsquaresgshpc@gmail.com
END:VEVENT
END:VCALENDAR