
BEGIN:VCALENDAR
VERSION:2.0
PRODID:-//Family Life Radio - ECPv6.15.20//NONSGML v1.0//EN
CALSCALE:GREGORIAN
METHOD:PUBLISH
X-ORIGINAL-URL:https://myflr.org
X-WR-CALDESC:Events for Family Life Radio
REFRESH-INTERVAL;VALUE=DURATION:PT1H
X-Robots-Tag:noindex
X-PUBLISHED-TTL:PT1H
BEGIN:VTIMEZONE
TZID:America/Detroit
BEGIN:DAYLIGHT
TZOFFSETFROM:-0500
TZOFFSETTO:-0400
TZNAME:EDT
DTSTART:20240310T070000
END:DAYLIGHT
BEGIN:STANDARD
TZOFFSETFROM:-0400
TZOFFSETTO:-0500
TZNAME:EST
DTSTART:20241103T060000
END:STANDARD
BEGIN:DAYLIGHT
TZOFFSETFROM:-0500
TZOFFSETTO:-0400
TZNAME:EDT
DTSTART:20250309T070000
END:DAYLIGHT
BEGIN:STANDARD
TZOFFSETFROM:-0400
TZOFFSETTO:-0500
TZNAME:EST
DTSTART:20251102T060000
END:STANDARD
BEGIN:DAYLIGHT
TZOFFSETFROM:-0500
TZOFFSETTO:-0400
TZNAME:EDT
DTSTART:20260308T070000
END:DAYLIGHT
BEGIN:STANDARD
TZOFFSETFROM:-0400
TZOFFSETTO:-0500
TZNAME:EST
DTSTART:20261101T060000
END:STANDARD
END:VTIMEZONE
BEGIN:VTIMEZONE
TZID:America/Phoenix
BEGIN:STANDARD
TZOFFSETFROM:-0700
TZOFFSETTO:-0700
TZNAME:MST
DTSTART:20220101T000000
END:STANDARD
END:VTIMEZONE
BEGIN:VEVENT
DTSTART;TZID=America/Detroit:20251115T090000
DTEND;TZID=America/Detroit:20251116T140000
DTSTAMP:20260421T165729
CREATED:20251103T192951Z
LAST-MODIFIED:20251103T192951Z
UID:10057121-1763197200-1763301600@myflr.org
SUMMARY:Churches & Charity | Ministry Support Gala and Conference
DESCRIPTION:Fundraising & Capacity Building to Empower Leaders – Get ahead of 2026 and secure support to meet the holistic needs of families!\nAre you a leader at a church\, nonprofit\, or simply looking for more support to serve your congregation or community?\nDo you need support for Ministry programs\, Food pantries\, Mission trips\, Charity partnerships\, Mens/Womens/Youth groups\, or more?\nJoin us for a weekend filled with interactive workshops\, networking opportunities\, and recognition of outstanding ministry collaborations. Whether you’re a seasoned leader or curious to learn\, this event is perfect for anyone looking to learn more about funding or volunteer resources.\nGet ahead for 2026 and secure the support you need to meet the holistic needs of families!\n♨️𓌉◯𓇋 Friday\, November 14th\nOn day one\, dress up for our 3rd annual dinner to network & recognize community impact and raise funds for charitable causes that meet the spiritual and practical needs of families.\n🔥✧ Saturday\, November 15th\nDay two\, come back comfortable to improve your skills to identify needs\, secure funding\, start a nonprofit\, budgeting\, marketing\, learn AI tools\, and establish a roadmap to your next steps. By the end\, you will be prepped to apply for our $1\,000 seed funding\, receive local referrals\, and connect directly with others (churches\, leaders\, volunteers\, and nonprofits) who have identified your same goals!\nBONUS: Join our partners on Sunday for the 3rd annual Gospel Brunch! Get your tickets before they sell out fast: https://www.eventbrite.com/e/3rd-annual-ultimate-sunday-gospel-brunch-tickets-1722527920379?aff=ebdssbdestsearch\nPowered by Missionsfilled.org – Stay connected with our conference app to get monthly peer coaching\, courses\, podcast stories\, promotion\, & funding opportunities!
URL:https://myflr.org/event/churches-charity-ministry-support-gala-and-conference/2025-11-15/
LOCATION:Great Lakes Christian College (Lansing\, MI)\, 6211 W Willow Hwy\, Lansing\, MI\, 48917\, United States
CATEGORIES:Michigan
ATTACH;FMTTYPE=image/jpeg:https://eadn-wc05-15902914.nxedge.io/wp-content/uploads/2025/11/mfgala25.jpg
ORGANIZER;CN="Missions Filled":MAILTO:casandrac1023@gmail.com
END:VEVENT
BEGIN:VEVENT
DTSTART;TZID=America/Phoenix:20250405T100000
DTEND;TZID=America/Phoenix:20250406T150000
DTSTAMP:20260421T165729
CREATED:20250312T145130Z
LAST-MODIFIED:20250312T145130Z
UID:10040322-1743847200-1743951600@myflr.org
SUMMARY:ACTivate 517 Outreach Summit
DESCRIPTION:JOIN US FOR A LIFE-CHANGING EVENT!\nThis powerful two-day event is designed to empower pastors\, students\, community leaders\, members\, and volunteers to network to serve their communities with a higher purpose!\nDay 1 | Analyzing Community Needs & Asset Mapping Local Resources\nDay 2 | Connecting Volunteers and Leaders with Community Partners and Charity Tools\nFor additional info on exhibitor or sponsorship opportunities\, contact us at info@missionsfilled.org
URL:https://myflr.org/event/activate-517-outreach-summit/2025-04-05/
LOCATION:Great Lakes Christian College (Lansing\, MI)\, 6211 W Willow Hwy\, Lansing\, MI\, 48917\, United States
CATEGORIES:Michigan
ATTACH;FMTTYPE=image/jpeg:https://eadn-wc05-15902914.nxedge.io/wp-content/uploads/2025/03/MF-517-acts.jpg
ORGANIZER;CN="Missions Filled":MAILTO:casandrac1023@gmail.com
END:VEVENT
BEGIN:VEVENT
DTSTART;TZID=America/Phoenix:20230829T183000
DTEND;TZID=America/Phoenix:20230829T200000
DTSTAMP:20260421T165729
CREATED:20230818T004316Z
LAST-MODIFIED:20230818T004316Z
UID:10013563-1693333800-1693339200@myflr.org
SUMMARY:“The All American” Book Release Party – Susie Finkbeiner
DESCRIPTION:The All-American Book Release Party with Great Lakes Christian College’s Alumna and CBA bestselling author\, Susie Finkbeiner.
URL:https://myflr.org/event/the-all-american-book-release-party-susie-finkbeiner/
LOCATION:Great Lakes Christian College (Lansing\, MI)\, 6211 W Willow Hwy\, Lansing\, MI\, 48917\, United States
CATEGORIES:Michigan
ATTACH;FMTTYPE=image/jpeg:https://eadn-wc05-15902914.nxedge.io/wp-content/uploads/2023/08/Finkbeiner-book-signing-scaled.jpg
END:VEVENT
BEGIN:VEVENT
DTSTART;VALUE=DATE:20230421
DTEND;VALUE=DATE:20230423
DTSTAMP:20260421T165729
CREATED:20230410T123304Z
LAST-MODIFIED:20230410T123304Z
UID:10008711-1682035200-1682207999@myflr.org
SUMMARY:Michigan Christian Convention
DESCRIPTION:The Convention is held April 21 & 22 at Great Lakes Christian College\, Lansing\, MI. The theme is “Inside Out\, being the church the other 167.” Main sessions and breakouts are designed to challenge churches when it comes to evangelism and discipleship outside of the hour we meet together on Sundays. Check website for more details\, schedule\, and registration. Youth programming available for infants through 5th grade.
URL:https://myflr.org/event/michigan-christian-convention/
LOCATION:Great Lakes Christian College (Lansing\, MI)\, 6211 W Willow Hwy\, Lansing\, MI\, 48917\, United States
CATEGORIES:Michigan
ATTACH;FMTTYPE=image/png:https://eadn-wc05-15902914.nxedge.io/wp-content/uploads/2023/04/Inside-Out-Logo.png
END:VEVENT
END:VCALENDAR