
BEGIN:VCALENDAR
VERSION:2.0
PRODID:-//Family Life Radio - ECPv6.15.20//NONSGML v1.0//EN
CALSCALE:GREGORIAN
METHOD:PUBLISH
X-ORIGINAL-URL:https://myflr.org
X-WR-CALDESC:Events for Family Life Radio
REFRESH-INTERVAL;VALUE=DURATION:PT1H
X-Robots-Tag:noindex
X-PUBLISHED-TTL:PT1H
BEGIN:VTIMEZONE
TZID:America/Phoenix
BEGIN:STANDARD
TZOFFSETFROM:-0700
TZOFFSETTO:-0700
TZNAME:MST
DTSTART:20240101T000000
END:STANDARD
END:VTIMEZONE
BEGIN:VEVENT
DTSTART;TZID=America/Phoenix:20260414T180000
DTEND;TZID=America/Phoenix:20260414T203000
DTSTAMP:20260420T183102
CREATED:20260414T170617Z
LAST-MODIFIED:20260414T170719Z
UID:10060045-1776189600-1776198600@myflr.org
SUMMARY:Gospel Skate at Great Skate
DESCRIPTION:🎶 THE BIGGEST ROLLER SKATING GOSPEL NIGHT OF THE YEAR🎶 \nGet ready to roll\, worship\, and fellowship! We’re bringing the community together for a massive night of Christian and Gospel music at Great Skate Glendale. Whether you’re a pro on eight wheels or just here for the vibes\, you don’t want to miss this! \n📍 When: Tuesday\, April 14th\n⏰ Time: 6:00 PM – 8:30 PM\n💰 Admission: $10.00 (Skate rental $5.00)\n📍 Location: 10054 N 43rd Avenue\, Glendale\, AZ \nBring the whole family and let’s make some noise for the Lord! ✨
URL:https://myflr.org/event/gospel-skate-at-great-skate/
LOCATION:Great Skate\, 10054 N 43rd Avenue\, Glendale\, AZ\, 85302\, United States
CATEGORIES:Arizona
ATTACH;FMTTYPE=image/png:https://eadn-wc05-15902914.nxedge.io/wp-content/uploads/2026/03/Gospel-Skate-04.14.2026-scaled.png
ORGANIZER;CN="Great Skate":MAILTO:cthomas@usa-skating.com
END:VEVENT
BEGIN:VEVENT
DTSTART;TZID=America/Phoenix:20251031T183000
DTEND;TZID=America/Phoenix:20251031T210000
DTSTAMP:20260420T183102
CREATED:20251015T200445Z
LAST-MODIFIED:20251015T200445Z
UID:10056649-1761935400-1761944400@myflr.org
SUMMARY:Hallelujah Fall Festival Skate
DESCRIPTION:Great Skate in Glendale\, Az is hosting an amazing Christian and Gospel Roller Skate Night of Friday\, October 31\, 2025\, 6:30pm – 9:00pm! We will be playing the best Christian and Gospel music all session long. We will also have a candy scramble at the end of the session. This is great for families\, youth groups\, and churches to attend.\nFriday\, October 31\n6:30pm – 9:00pm\nAdmission: $12.00 | Skate Rental: $5.00 | Non-skating Parents: $4.00\nGroup rates available for youth groups!
URL:https://myflr.org/event/hallelujah-fall-festival-skate/
LOCATION:Great Skate\, 10054 N 43rd Avenue\, Glendale\, AZ\, 85302\, United States
CATEGORIES:Arizona
ATTACH;FMTTYPE=image/jpeg:https://eadn-wc05-15902914.nxedge.io/wp-content/uploads/2025/10/53-Hallelujah-Skate-8.5-x-11-in.jpg
END:VEVENT
END:VCALENDAR