
BEGIN:VCALENDAR
VERSION:2.0
PRODID:-//Family Life Radio - ECPv6.15.20//NONSGML v1.0//EN
CALSCALE:GREGORIAN
METHOD:PUBLISH
X-WR-CALNAME:Family Life Radio
X-ORIGINAL-URL:https://myflr.org
X-WR-CALDESC:Events for Family Life Radio
REFRESH-INTERVAL;VALUE=DURATION:PT1H
X-Robots-Tag:noindex
X-PUBLISHED-TTL:PT1H
BEGIN:VTIMEZONE
TZID:America/Phoenix
BEGIN:STANDARD
TZOFFSETFROM:-0700
TZOFFSETTO:-0700
TZNAME:MST
DTSTART:20230101T000000
END:STANDARD
END:VTIMEZONE
BEGIN:VEVENT
DTSTART;VALUE=DATE:20251010
DTEND;VALUE=DATE:20251019
DTSTAMP:20260421T141841
CREATED:20250825T195135Z
LAST-MODIFIED:20250825T195135Z
UID:10050370-1760054400-1760831999@myflr.org
SUMMARY:Tuck Everlasting (Musical Theater)
DESCRIPTION:Eleven-year-old Winnie Foster yearns for a life of adventure beyond her white picket fence\, but when she becomes unexpectedly entwined with the Tuck Family she gets more than she could have imagined. As her adventure unfolds\, Winnie faces an extraordinary choice.\nWhat would you choose if you were in her shoes?\n“The opportunities to act properly\, the potentialities to fulfill a meaning\, are affected by the irreversibility of our lives.” Viktor Frankl \nFor performance dates and times go to…. https://www.moezartproductions.org/communitytheatre
URL:https://myflr.org/event/tuck-everlasting-musical-theater/
LOCATION:Greenway High School: 3930 W Greenway Rd\, Phoenix\, AZ 85053\, 3930 W Greenway Rd\, Phoenix\, AZ 85053\, Phoenix\, AZ\, 85053\, United States
CATEGORIES:Arizona
ATTACH;FMTTYPE=image/jpeg:https://eadn-wc05-15902914.nxedge.io/wp-content/uploads/2025/08/Tuck-Everlasting-1080-x-1350-px.jpg
ORGANIZER;CN="MoezArt Productions%2C Inc.":MAILTO:ceo@moezartproductions.org
END:VEVENT
BEGIN:VEVENT
DTSTART;TZID=America/Phoenix:20240720T190000
DTEND;TZID=America/Phoenix:20240720T213000
DTSTAMP:20260421T141841
CREATED:20240702T200129Z
LAST-MODIFIED:20240702T200129Z
UID:10029113-1721502000-1721511000@myflr.org
SUMMARY:The SpongeBob Musical
DESCRIPTION:Plunge into this stunning all-singing\, all-dancing\, dynamic stage show! When the citizens of Bikini Bottom discover that a volcano will soon erupt and destroy their humble home\, SpongeBob and his friends must come together to save the fate of their undersea world. With lives hanging in the balance and all hope lost\, a most unexpected hero rises up. Bring the whole family for this wholesome tale about doing the right thing and loving your community.\nBoth Saturday Matinees will start with a fun craft time for children and children-at-heart. Plan to arrive 30 minutes early to join us for this fun time.
URL:https://myflr.org/event/the-spongebob-musical/2024-07-20/2/
LOCATION:Greenway High School: 3930 W Greenway Rd\, Phoenix\, AZ 85053\, 3930 W Greenway Rd\, Phoenix\, AZ 85053\, Phoenix\, AZ\, 85053\, United States
CATEGORIES:Arizona
ATTACH;FMTTYPE=image/jpeg:https://eadn-wc05-15902914.nxedge.io/wp-content/uploads/2024/06/mSpongeBobMusical820x320FB.jpg
END:VEVENT
END:VCALENDAR