
BEGIN:VCALENDAR
VERSION:2.0
PRODID:-//Family Life Radio - ECPv6.15.20//NONSGML v1.0//EN
CALSCALE:GREGORIAN
METHOD:PUBLISH
X-ORIGINAL-URL:https://myflr.org
X-WR-CALDESC:Events for Family Life Radio
REFRESH-INTERVAL;VALUE=DURATION:PT1H
X-Robots-Tag:noindex
X-PUBLISHED-TTL:PT1H
BEGIN:VTIMEZONE
TZID:America/Phoenix
BEGIN:STANDARD
TZOFFSETFROM:-0700
TZOFFSETTO:-0700
TZNAME:MST
DTSTART:20240101T000000
END:STANDARD
END:VTIMEZONE
BEGIN:VTIMEZONE
TZID:America/Detroit
BEGIN:DAYLIGHT
TZOFFSETFROM:-0500
TZOFFSETTO:-0400
TZNAME:EDT
DTSTART:20240310T070000
END:DAYLIGHT
BEGIN:STANDARD
TZOFFSETFROM:-0400
TZOFFSETTO:-0500
TZNAME:EST
DTSTART:20241103T060000
END:STANDARD
BEGIN:DAYLIGHT
TZOFFSETFROM:-0500
TZOFFSETTO:-0400
TZNAME:EDT
DTSTART:20250309T070000
END:DAYLIGHT
BEGIN:STANDARD
TZOFFSETFROM:-0400
TZOFFSETTO:-0500
TZNAME:EST
DTSTART:20251102T060000
END:STANDARD
BEGIN:DAYLIGHT
TZOFFSETFROM:-0500
TZOFFSETTO:-0400
TZNAME:EDT
DTSTART:20260308T070000
END:DAYLIGHT
BEGIN:STANDARD
TZOFFSETFROM:-0400
TZOFFSETTO:-0500
TZNAME:EST
DTSTART:20261101T060000
END:STANDARD
END:VTIMEZONE
BEGIN:VEVENT
DTSTART;TZID=America/Phoenix:20251008T180000
DTEND;TZID=America/Phoenix:20251008T203000
DTSTAMP:20260421T141830
CREATED:20250905T195247Z
LAST-MODIFIED:20250905T195247Z
UID:10051537-1759946400-1759955400@myflr.org
SUMMARY:Alternatives Care Centers Autumn Gala
DESCRIPTION:We would be delighted to have you join us for an incredible evening at beautiful Gull Lake Ministries. Guests will enjoy an elegant evening that honors God’s faithfulness and offers a powerful glimpse into the expanding partnerships\, new initiatives\, open doors\, and the growing impact throughout Kalamazoo and Calhoun Counties. \nWill you help us write the next chapter—one that shapes culture\, transforms hearts\, and leaves an eternal legacy? Choose the evening that is most convenient for you. \nRegistration opens August 5th with two identical evenings to choose from. Please RSVP no later than September 30th to reserve your seat. \n“The harvest is plentiful\, but the laborers are few. Therefore\, pray earnestly to the Lord of the harvest to send out laborers into His harvest.” Matthew 9:37-38
URL:https://myflr.org/event/alternatives-care-centers-autumn-gala-2/2025-10-08/
LOCATION:Gull Lake Ministries (Hickory Corners\, MI)\, 1800 Burlington Dr\, Hickory Corners\, MI\, 49060\, United States
CATEGORIES:Michigan
ATTACH;FMTTYPE=image/png:https://eadn-wc05-15902914.nxedge.io/wp-content/uploads/2025/09/Printable-Receipt-Flyer-1.png
ORGANIZER;CN="Alternatives Care Centers":MAILTO:monaya@alternativesofbc.org
END:VEVENT
BEGIN:VEVENT
DTSTART;TZID=America/Detroit:20251008T180000
DTEND;TZID=America/Detroit:20251008T203000
DTSTAMP:20260421T141830
CREATED:20250821T194204Z
LAST-MODIFIED:20250821T194204Z
UID:10051196-1759946400-1759955400@myflr.org
SUMMARY:Alternatives Care Centers Autumn Gala
DESCRIPTION:We would be delighted to have you join us for an incredible evening at beautiful Gull Lake Ministries. Guests will enjoy an elegant evening that honors God’s faithfulness and offers a powerful glimpse into the expanding partnerships\, new initiatives\, open doors\, and the growing impact throughout Kalamazoo and Calhoun Counties. \nWill you help us write the next chapter—one that shapes culture\, transforms hearts\, and leaves an eternal legacy? We will be hosting on both October 7th and October 8th from 6:00 – 8:30 p.m. Choose the evening that is most convenient for you. \nRegistration opens August 5th with two identical evenings to choose from. Please RSVP no later than September 30th to reserve your seat. \n“The harvest is plentiful\, but the laborers are few. Therefore\, pray earnestly to the Lord of the harvest to send out laborers into His harvest.” Matthew 9:37-38
URL:https://myflr.org/event/alternatives-care-centers-autumn-gala/2025-10-08/
LOCATION:Gull Lake Ministries (Hickory Corners\, MI)\, 1800 Burlington Dr\, Hickory Corners\, MI\, 49060\, United States
CATEGORIES:Michigan
ATTACH;FMTTYPE=image/jpeg:https://eadn-wc05-15902914.nxedge.io/wp-content/uploads/2025/08/Autumn-Galas.jpg
END:VEVENT
END:VCALENDAR