
BEGIN:VCALENDAR
VERSION:2.0
PRODID:-//Family Life Radio - ECPv6.15.20//NONSGML v1.0//EN
CALSCALE:GREGORIAN
METHOD:PUBLISH
X-WR-CALNAME:Family Life Radio
X-ORIGINAL-URL:https://myflr.org
X-WR-CALDESC:Events for Family Life Radio
REFRESH-INTERVAL;VALUE=DURATION:PT1H
X-Robots-Tag:noindex
X-PUBLISHED-TTL:PT1H
BEGIN:VTIMEZONE
TZID:America/Phoenix
BEGIN:STANDARD
TZOFFSETFROM:-0700
TZOFFSETTO:-0700
TZNAME:MST
DTSTART:20240101T000000
END:STANDARD
END:VTIMEZONE
BEGIN:VEVENT
DTSTART;TZID=America/Phoenix:20251101T080000
DTEND;TZID=America/Phoenix:20251101T120000
DTSTAMP:20260421T135650
CREATED:20250827T132234Z
LAST-MODIFIED:20250827T132234Z
UID:10049842-1761984000-1761998400@myflr.org
SUMMARY:Heroes for Happy Hour 5K and Fun Run - Warner Robins
DESCRIPTION:Happy Hour is a 501(c)(3) nonprofit empowering individuals with developmental\ndisabilities since 1956. We equip participants with life\, social\, and work skills that allow\nthem to thrive as active members of the community. \nThis 5K and Fun Run is our 2nd largest fundraiser of the year. \nWe desire to unite the community in support of our mission and promote healthy\, heroic\nfun for all ages!
URL:https://myflr.org/event/heroes-for-happy-hour-5k-and-fun-run-warner-robins/
LOCATION:Happy Hour Service Center\, 716 N. Young Ave.\, Warner Robins\, GA\, 31093\, United States
CATEGORIES:Georgia
ATTACH;FMTTYPE=image/png:https://eadn-wc05-15902914.nxedge.io/wp-content/uploads/2025/08/H4HH-2025-Header_Footer-Banner-Logo-002.png
ORGANIZER;CN="Bruce Hullett and Caroline Adams":MAILTO:bhullett@hcaec.com
END:VEVENT
END:VCALENDAR