
BEGIN:VCALENDAR
VERSION:2.0
PRODID:-//Family Life Radio - ECPv6.15.20//NONSGML v1.0//EN
CALSCALE:GREGORIAN
METHOD:PUBLISH
X-ORIGINAL-URL:https://myflr.org
X-WR-CALDESC:Events for Family Life Radio
REFRESH-INTERVAL;VALUE=DURATION:PT1H
X-Robots-Tag:noindex
X-PUBLISHED-TTL:PT1H
BEGIN:VTIMEZONE
TZID:America/Phoenix
BEGIN:STANDARD
TZOFFSETFROM:-0700
TZOFFSETTO:-0700
TZNAME:MST
DTSTART:20240101T000000
END:STANDARD
END:VTIMEZONE
BEGIN:VEVENT
DTSTART;TZID=America/Phoenix:20260321T100000
DTEND;TZID=America/Phoenix:20260321T170000
DTSTAMP:20260421T163919
CREATED:20260311T172421Z
LAST-MODIFIED:20260317T184730Z
UID:10059031-1774087200-1774112400@myflr.org
SUMMARY:Imagine Womens Conference
DESCRIPTION:Ten years ago\, God sparked a dream—a conference where women could gather for encouragement\, worship\, and prayer. A place where it’s okay to not be okay\, where messes become messages\, and where we laugh\, cry\, and grow together. And wow\, has God exceeded our expectations! \nThis year is going to be bigger and better than ever—think food trucks\, coffee trucks\, shopping\, games\, giveaways\, and more! But most of all\, it will be a life-changing day as we encounter the God who changes everything! ✨
URL:https://myflr.org/event/imagine-womens-conference/
LOCATION:Harvest Church\, 8340 W Northern Ave\, Glendale\,\, AZ\, 85305\, United States
CATEGORIES:Arizona,Featured
ATTACH;FMTTYPE=image/jpeg:https://eadn-wc05-15902914.nxedge.io/wp-content/uploads/2026/02/AZWM_2026_Email-1920-x-800_2_template.jpg
ORGANIZER;CN="Arizona Womens Ministry":MAILTO:women@azag.org
END:VEVENT
BEGIN:VEVENT
DTSTART;TZID=America/Phoenix:20250729T090000
DTEND;TZID=America/Phoenix:20250729T150000
DTSTAMP:20260421T163919
CREATED:20250717T232340Z
LAST-MODIFIED:20250717T232340Z
UID:10049182-1753779600-1753801200@myflr.org
SUMMARY:The Giant Leaf: A Noah’s ark Adventure
DESCRIPTION:3 Day camp designed for kids entering K-6th. Kids will enjoy team competitions\, talent tracks and an original music presentaiton Most importantly they will encounter the presence of God through daily worship experiences. Campers will be placed on fun\, animal themed teams and be guided by trusted adults and teen leaders in a safe high- energy environment. Lunch is provided each day.
URL:https://myflr.org/event/the-giant-leaf-a-noahs-ark-adventure/
LOCATION:Harvest Church\, 8340 W Northern Ave\, Glendale\,\, AZ\, 85305\, United States
CATEGORIES:New Mexico
ATTACH;FMTTYPE=image/jpeg:https://eadn-wc05-15902914.nxedge.io/wp-content/uploads/2025/07/IMG_8797-scaled.jpeg
END:VEVENT
END:VCALENDAR