
BEGIN:VCALENDAR
VERSION:2.0
PRODID:-//Family Life Radio - ECPv6.15.20//NONSGML v1.0//EN
CALSCALE:GREGORIAN
METHOD:PUBLISH
X-ORIGINAL-URL:https://myflr.org
X-WR-CALDESC:Events for Family Life Radio
REFRESH-INTERVAL;VALUE=DURATION:PT1H
X-Robots-Tag:noindex
X-PUBLISHED-TTL:PT1H
BEGIN:VTIMEZONE
TZID:America/Phoenix
BEGIN:STANDARD
TZOFFSETFROM:-0700
TZOFFSETTO:-0700
TZNAME:MST
DTSTART:20220101T000000
END:STANDARD
END:VTIMEZONE
BEGIN:VEVENT
DTSTART;TZID=America/Phoenix:20250315T100000
DTEND;TZID=America/Phoenix:20250315T113000
DTSTAMP:20260421T201920
CREATED:20250304T010048Z
LAST-MODIFIED:20250304T010048Z
UID:10040182-1742032800-1742038200@myflr.org
SUMMARY:Healing Hearts Ministries – Walk for Freedom
DESCRIPTION:YOU ARE INVITED to join Healing Hearts Ministries for\nour first annual Walk for Freedom event as we gather in\nChrist’s name to pray for and lift up the hurting and broken\n(seen and unseen) throughout Rio Rancho & Albuquerque. \nThe event kicks off at 10 AM with a short message from\nPastor Roy Weaver of Calvary Rio Rancho\, followed by\ntestimonies from Healing Hearts\, and a short time of worship\, before we split up to walk\naround Haynes Park and pray for God to work in our communities. Come fellowship and\nbe part of making a difference in the hearts and lives of your community! \nLearn more about helping us spread the word and\nraise funds at healinghearts.org/WalkRioRancho
URL:https://myflr.org/event/healing-hearts-ministries-walk-for-freedom/
LOCATION:Haynes Park\, 2006 Grande Blvd SE\, Rio Rancho\, 87124\, United States
CATEGORIES:New Mexico
END:VEVENT
BEGIN:VEVENT
DTSTART;TZID=America/Phoenix:20240818T120000
DTEND;TZID=America/Phoenix:20240818T160000
DTSTAMP:20260421T201920
CREATED:20240715T184741Z
LAST-MODIFIED:20240715T184741Z
UID:10031180-1723982400-1723996800@myflr.org
SUMMARY:Mayor’s Sunday Funday-Rio Rancho 2024
DESCRIPTION:This year’s Mayor’s Sunday is Funday will be the 19th annual event that brings our community together for an afternoon of fun and sharing what’s going on in Rio Rancho. In 2023\, well over 6000 of our neighbors came together to enjoy one of the coolest and most exciting events of the summer. Our theme this year is Community Unity. \nSunday\, August 18\, 2024 \n12PM-4PM \nHaynes  Park \nRio Rancho\, NM \nThe following information will be updated  for 2024 as organizations register: Booth Vendors and Map for the 2023 Map of the event\, Map for Parking in 2023 and List of participants which will be updated soon\,  and Entertainment for the schedule for 2023. Go to: https://rioranchofunday.com/ \nYou’ll find many exciting events and musical entertainment\, along with budget friendly food\, at this fun family style picnic. We are planning on fun yet safe events and activities. We had over 140 interesting vendor booths in 2023 that were a big part of the fun. \nIf you have questions about the event contact the Rio Rancho Kiwanis Club\, Dave Heil (daveheil16@man.com) or (505) 228-7189 \nTheMayor’s Sunday is Funday is sponsored and coordinated by the Rio Rancho Kiwanis Club and Community Service Partners. After paying event expenses\, proceeds will benefit youth programs in Rio Rancho.
URL:https://myflr.org/event/mayors-sunday-funday-rio-rancho-2024/
LOCATION:Haynes Park\, 2006 Grande Blvd SE\, Rio Rancho\, 87124\, United States
CATEGORIES:New Mexico
ATTACH;FMTTYPE=image/jpeg:https://eadn-wc05-15902914.nxedge.io/wp-content/uploads/2024/07/450646835_10161350820473718_8879867982867279794_n.jpg
ORGANIZER;CN="Kiwanis Club%2C":MAILTO:(505) 228-7189
END:VEVENT
BEGIN:VEVENT
DTSTART;TZID=America/Phoenix:20231029T140000
DTEND;TZID=America/Phoenix:20231029T170000
DTSTAMP:20260421T201920
CREATED:20230912T221922Z
LAST-MODIFIED:20230912T221935Z
UID:10015317-1698588000-1698598800@myflr.org
SUMMARY:Harvest Festival
DESCRIPTION:FREE community outreach (fun for the whole family) with door prizes\, games\, fun jumps\, rock climbing\, and lots of candy! There is a special area for toddlers@! Food Trucks will be available! Everyone is welcome! \nThis is organized by First Baptist Church of Rio Rancho! \nFor questions or more information go to: http://www.fbcrr.com
URL:https://myflr.org/event/harvest-festival/
LOCATION:Haynes Park\, 2006 Grande Blvd SE\, Rio Rancho\, 87124\, United States
CATEGORIES:New Mexico
ATTACH;FMTTYPE=image/png:https://eadn-wc05-15902914.nxedge.io/wp-content/uploads/2023/09/2023-Harvest-Festival-Poster.png
END:VEVENT
BEGIN:VEVENT
DTSTART;TZID=America/Phoenix:20230820T120000
DTEND;TZID=America/Phoenix:20230820T160000
DTSTAMP:20260421T201920
CREATED:20230809T215745Z
LAST-MODIFIED:20230809T215953Z
UID:10013533-1692532800-1692547200@myflr.org
SUMMARY:Rio Rancho Mayor’s Sunday Funday 2023
DESCRIPTION:Mayor’s Sunday is Funday\nSunday\, August 20\, 2023 \n12pm-4pm-Haynes Park-2006 Grande Blvd SE\, Rio Rancho\, NM 87124 \n91.5 FM Family Life Radio will be there with our blue tent\, music\, games and prizes! Come see us at Booth #40! \nThis year’s Mayor’s Sunday is Funday will be the 18th annual event that brings our community together for an afternoon of fun and sharing what’s going on in Rio Rancho. In 2022\, well over 6500 of our neighbors came together to enjoy one of the coolest and most exciting events of the summer. Our theme this year is Community Unity. \nParking Along Grande Blvd                             \nParking is available at identified lots along Grande Blvd between Sarah Rd and 19th Ave and the First Baptist Church(after noon). Free shuttles will be available to get you to or closer to the park. Boys and Girls Club buses will take you to the park entrance and back.  There is also an entrance to the park off 528. You can cross at the light at 19th Ave where it is a short walk to the park. \nhttps://rioranchofunday.com/entertainment \nhttps://rioranchofunday.com/raffle \nhttps://rioranchofunday.com/booths-%26-map \n 
URL:https://myflr.org/event/rio-rancho-mayors-sunday-funday-2023/
LOCATION:Haynes Park\, 2006 Grande Blvd SE\, Rio Rancho\, 87124\, United States
CATEGORIES:Featured,New Mexico
ATTACH;FMTTYPE=image/gif:https://eadn-wc05-15902914.nxedge.io/wp-content/uploads/2023/08/SundayFundayAugust20.2023.gif
END:VEVENT
END:VCALENDAR