
BEGIN:VCALENDAR
VERSION:2.0
PRODID:-//Family Life Radio - ECPv6.15.20//NONSGML v1.0//EN
CALSCALE:GREGORIAN
METHOD:PUBLISH
X-WR-CALNAME:Family Life Radio
X-ORIGINAL-URL:https://myflr.org
X-WR-CALDESC:Events for Family Life Radio
REFRESH-INTERVAL;VALUE=DURATION:PT1H
X-Robots-Tag:noindex
X-PUBLISHED-TTL:PT1H
BEGIN:VTIMEZONE
TZID:America/Phoenix
BEGIN:STANDARD
TZOFFSETFROM:-0700
TZOFFSETTO:-0700
TZNAME:MST
DTSTART:20220101T000000
END:STANDARD
END:VTIMEZONE
BEGIN:VTIMEZONE
TZID:America/Denver
BEGIN:DAYLIGHT
TZOFFSETFROM:-0700
TZOFFSETTO:-0600
TZNAME:MDT
DTSTART:20240310T090000
END:DAYLIGHT
BEGIN:STANDARD
TZOFFSETFROM:-0600
TZOFFSETTO:-0700
TZNAME:MST
DTSTART:20241103T080000
END:STANDARD
BEGIN:DAYLIGHT
TZOFFSETFROM:-0700
TZOFFSETTO:-0600
TZNAME:MDT
DTSTART:20250309T090000
END:DAYLIGHT
BEGIN:STANDARD
TZOFFSETFROM:-0600
TZOFFSETTO:-0700
TZNAME:MST
DTSTART:20251102T080000
END:STANDARD
BEGIN:DAYLIGHT
TZOFFSETFROM:-0700
TZOFFSETTO:-0600
TZNAME:MDT
DTSTART:20260308T090000
END:DAYLIGHT
BEGIN:STANDARD
TZOFFSETFROM:-0600
TZOFFSETTO:-0700
TZNAME:MST
DTSTART:20261101T080000
END:STANDARD
END:VTIMEZONE
BEGIN:VEVENT
DTSTART;TZID=America/Phoenix:20250908T190000
DTEND;TZID=America/Phoenix:20250908T203000
DTSTAMP:20260421T141840
CREATED:20250902T235701Z
LAST-MODIFIED:20250902T235701Z
UID:10051517-1757358000-1757363400@myflr.org
SUMMARY:Community Bible Study - Study of Psalms
DESCRIPTION:Community Bible Study is celebrating 50 years of making disciples of the Lord Jesus Christ\, through caring\, in-depth Bible study. Join the celebration in the Albuquerque area this fall as we study the hymnbook and prayerbook of God’s people from ancient times and into the present. Community Bible Study is a non-denominational evening co-ed class that meets at Heights Cumberland Presbyterian Church located at 8600 Academy Road NE. The first class begins on Monday\, September 8 at 7:00 PM.
URL:https://myflr.org/event/community-bible-study-study-of-psalms/
LOCATION:Heights Cumberland Presbyterian Church\, 8600 Academy Rd NE.\, Albuquerque\, NM\, 87111\, United States
CATEGORIES:New Mexico
END:VEVENT
BEGIN:VEVENT
DTSTART;TZID=America/Denver:20250329T090000
DTEND;TZID=America/Denver:20250329T170000
DTSTAMP:20260421T141840
CREATED:20250218T215904Z
LAST-MODIFIED:20250218T215904Z
UID:10039886-1743238800-1743267600@myflr.org
SUMMARY:The Giant is Awakening
DESCRIPTION:50th Anniversary of Billy Graham in NM
URL:https://myflr.org/event/the-giant-is-awakening/2025-03-29/
LOCATION:Heights Cumberland Presbyterian Church\, 8600 Academy Rd NE.\, Albuquerque\, NM\, 87111\, United States
CATEGORIES:New Mexico
ATTACH;FMTTYPE=image/png:https://eadn-wc05-15902914.nxedge.io/wp-content/uploads/2025/02/IMG_0693.png
ORGANIZER;CN="Family Life Radio Albuquerque":MAILTO:NewMexico@flc.org
END:VEVENT
BEGIN:VEVENT
DTSTART;TZID=America/Phoenix:20230713T173000
DTEND;TZID=America/Phoenix:20230713T200000
DTSTAMP:20260421T141840
CREATED:20230601T200558Z
LAST-MODIFIED:20230607T212501Z
UID:10010315-1689269400-1689278400@myflr.org
SUMMARY:Power Up! VBS Family Camp
DESCRIPTION:Come join us as we Power Up with God for a video game-themed\, fun-filled vacation Bible school for grades K-5. “God’s power has given us everything we need to lead a godly life.” (2 Peter 1:3a) \nThis 4-night FREE family event includes dinner\, worship\, music\, crafts\, and games. Parents are encouraged to attend and we will have a parent discipleship class running while the kids are in VBS. \nHeights Cumberland Presbyterian Church \n8600 Academy Rd NE. \nCall 505-821-1993 or go to HERE to register. \n 
URL:https://myflr.org/event/power-up-vbs-family-camp/2023-07-13/
LOCATION:Heights Cumberland Presbyterian Church\, 8600 Academy Rd NE.\, Albuquerque\, NM\, 87111\, United States
CATEGORIES:New Mexico
ATTACH;FMTTYPE=image/png:https://eadn-wc05-15902914.nxedge.io/wp-content/uploads/2023/05/VBS-Banner-2.png
END:VEVENT
END:VCALENDAR