
BEGIN:VCALENDAR
VERSION:2.0
PRODID:-//Family Life Radio - ECPv6.15.20//NONSGML v1.0//EN
CALSCALE:GREGORIAN
METHOD:PUBLISH
X-ORIGINAL-URL:https://myflr.org
X-WR-CALDESC:Events for Family Life Radio
REFRESH-INTERVAL;VALUE=DURATION:PT1H
X-Robots-Tag:noindex
X-PUBLISHED-TTL:PT1H
BEGIN:VTIMEZONE
TZID:America/Phoenix
BEGIN:STANDARD
TZOFFSETFROM:-0700
TZOFFSETTO:-0700
TZNAME:MST
DTSTART:20240101T000000
END:STANDARD
END:VTIMEZONE
BEGIN:VEVENT
DTSTART;TZID=America/Phoenix:20250405T090000
DTEND;TZID=America/Phoenix:20250405T150000
DTSTAMP:20260421T163853
CREATED:20250324T143246Z
LAST-MODIFIED:20250324T143246Z
UID:10040384-1743843600-1743865200@myflr.org
SUMMARY:Hemlock Music Boosters Spring Craft Show
DESCRIPTION:Fundraiser event for The Hemlock Bands\nSaturday\, April 5th\, from 9 am – 3 pm\nAt the Hemlock Middle School\nUnique gifts for Mothers Day\, Baked Goods\, and SO much more!
URL:https://myflr.org/event/hemlock-music-boosters-spring-craft-show/
LOCATION:Hemlock Middle School (Hemlock\, MI)\, 525 N Maple St\, Hemlock\, MI\, 48626\, United States
CATEGORIES:Michigan
ATTACH;FMTTYPE=image/jpeg:https://eadn-wc05-15902914.nxedge.io/wp-content/uploads/2025/03/PXL_20250319_221209345.MP2_-v2-scaled.jpg
END:VEVENT
END:VCALENDAR