
BEGIN:VCALENDAR
VERSION:2.0
PRODID:-//Family Life Radio - ECPv6.15.20//NONSGML v1.0//EN
CALSCALE:GREGORIAN
METHOD:PUBLISH
X-ORIGINAL-URL:https://myflr.org
X-WR-CALDESC:Events for Family Life Radio
REFRESH-INTERVAL;VALUE=DURATION:PT1H
X-Robots-Tag:noindex
X-PUBLISHED-TTL:PT1H
BEGIN:VTIMEZONE
TZID:America/Detroit
BEGIN:DAYLIGHT
TZOFFSETFROM:-0500
TZOFFSETTO:-0400
TZNAME:EDT
DTSTART:20230312T070000
END:DAYLIGHT
BEGIN:STANDARD
TZOFFSETFROM:-0400
TZOFFSETTO:-0500
TZNAME:EST
DTSTART:20231105T060000
END:STANDARD
BEGIN:DAYLIGHT
TZOFFSETFROM:-0500
TZOFFSETTO:-0400
TZNAME:EDT
DTSTART:20240310T070000
END:DAYLIGHT
BEGIN:STANDARD
TZOFFSETFROM:-0400
TZOFFSETTO:-0500
TZNAME:EST
DTSTART:20241103T060000
END:STANDARD
BEGIN:DAYLIGHT
TZOFFSETFROM:-0500
TZOFFSETTO:-0400
TZNAME:EDT
DTSTART:20250309T070000
END:DAYLIGHT
BEGIN:STANDARD
TZOFFSETFROM:-0400
TZOFFSETTO:-0500
TZNAME:EST
DTSTART:20251102T060000
END:STANDARD
END:VTIMEZONE
BEGIN:VEVENT
DTSTART;TZID=America/Detroit:20240510T180000
DTEND;TZID=America/Detroit:20240510T200000
DTSTAMP:20260421T082606
CREATED:20240408T201535Z
LAST-MODIFIED:20240408T201535Z
UID:10022966-1715364000-1715371200@myflr.org
SUMMARY:Life Is Beautiful
DESCRIPTION:Pregnancy Center of Eaton County invites you a special LIFE IS BEAUTIFUL fundraising event! To be held at Hidden Creek Farms (2181 E Vermontville Hwy) in Charlotte – Friday May 10th\, 2024 from 6 – 9 pm Free ice cream social\, live music and food\, silent and live auction. WE have free kid activities including face painting and a balloon artist. Also this year we are including a free photo booth! SO FUN! Support young families and have a great family night out! Call 517-543-7077 Admission is free!
URL:https://myflr.org/event/life-is-beautiful/
LOCATION:Hidden Creek Farms (Charlotte\, MI)\, 2181 E Vermontville Hwy\, Charlotte\, MI\, 48813\, United States
CATEGORIES:Michigan
ATTACH;FMTTYPE=image/jpeg:https://eadn-wc05-15902914.nxedge.io/wp-content/uploads/2024/04/Aution-Flyer-5-scaled.jpeg
ORGANIZER;CN="Pregnancy Center of Eaton County":MAILTO:director@pcecmi.org
END:VEVENT
END:VCALENDAR