
BEGIN:VCALENDAR
VERSION:2.0
PRODID:-//Family Life Radio - ECPv6.15.20//NONSGML v1.0//EN
CALSCALE:GREGORIAN
METHOD:PUBLISH
X-WR-CALNAME:Family Life Radio
X-ORIGINAL-URL:https://myflr.org
X-WR-CALDESC:Events for Family Life Radio
REFRESH-INTERVAL;VALUE=DURATION:PT1H
X-Robots-Tag:noindex
X-PUBLISHED-TTL:PT1H
BEGIN:VTIMEZONE
TZID:America/Chicago
BEGIN:DAYLIGHT
TZOFFSETFROM:-0600
TZOFFSETTO:-0500
TZNAME:CDT
DTSTART:20240310T080000
END:DAYLIGHT
BEGIN:STANDARD
TZOFFSETFROM:-0500
TZOFFSETTO:-0600
TZNAME:CST
DTSTART:20241103T070000
END:STANDARD
BEGIN:DAYLIGHT
TZOFFSETFROM:-0600
TZOFFSETTO:-0500
TZNAME:CDT
DTSTART:20250309T080000
END:DAYLIGHT
BEGIN:STANDARD
TZOFFSETFROM:-0500
TZOFFSETTO:-0600
TZNAME:CST
DTSTART:20251102T070000
END:STANDARD
BEGIN:DAYLIGHT
TZOFFSETFROM:-0600
TZOFFSETTO:-0500
TZNAME:CDT
DTSTART:20260308T080000
END:DAYLIGHT
BEGIN:STANDARD
TZOFFSETFROM:-0500
TZOFFSETTO:-0600
TZNAME:CST
DTSTART:20261101T070000
END:STANDARD
END:VTIMEZONE
BEGIN:VTIMEZONE
TZID:America/Detroit
BEGIN:DAYLIGHT
TZOFFSETFROM:-0500
TZOFFSETTO:-0400
TZNAME:EDT
DTSTART:20240310T070000
END:DAYLIGHT
BEGIN:STANDARD
TZOFFSETFROM:-0400
TZOFFSETTO:-0500
TZNAME:EST
DTSTART:20241103T060000
END:STANDARD
BEGIN:DAYLIGHT
TZOFFSETFROM:-0500
TZOFFSETTO:-0400
TZNAME:EDT
DTSTART:20250309T070000
END:DAYLIGHT
BEGIN:STANDARD
TZOFFSETFROM:-0400
TZOFFSETTO:-0500
TZNAME:EST
DTSTART:20251102T060000
END:STANDARD
BEGIN:DAYLIGHT
TZOFFSETFROM:-0500
TZOFFSETTO:-0400
TZNAME:EDT
DTSTART:20260308T070000
END:DAYLIGHT
BEGIN:STANDARD
TZOFFSETFROM:-0400
TZOFFSETTO:-0500
TZNAME:EST
DTSTART:20261101T060000
END:STANDARD
END:VTIMEZONE
BEGIN:VTIMEZONE
TZID:America/Phoenix
BEGIN:STANDARD
TZOFFSETFROM:-0700
TZOFFSETTO:-0700
TZNAME:MST
DTSTART:20220101T000000
END:STANDARD
END:VTIMEZONE
BEGIN:VEVENT
DTSTART;TZID=America/Chicago:20251123T190000
DTEND;TZID=America/Chicago:20251123T210000
DTSTAMP:20260421T122247
CREATED:20251015T144342Z
LAST-MODIFIED:20251020T123809Z
UID:10057010-1763924400-1763931600@myflr.org
SUMMARY:JOSH BALDWIN - "MADE FOR MORE" TOUR
DESCRIPTION:November 23\, 2025\n7:00 pm\nHiland Park Baptist Church\nPanama City\, FL \nGet ready for an unforgettable evening of music and worship! Josh Baldwin is hitting the road on his Made For More Tour\, joined by Chris Ekiss. Experience heartfelt worship through his songs like “Stand In Your Love\,” “Evidence\,” and “Made For More.” \nTicket info @ https://www.ticketmaster.com/event/22006305ED8B15BE?CAMEFROM=CFC_TPR_WEB_RADIO_1 \nEvent info @ https://tprlive.co/products/josh-baldwin-made-for-more-tour-panama-city-fl-november-23-2025
URL:https://myflr.org/event/josh-baldwin-made-for-more-tour/
LOCATION:Hiland Park Baptist Church (Panama City\, FL)\, 2611 US-231\, Panama City\, FL\, 32405\, United States
CATEGORIES:Featured,Florida
ATTACH;FMTTYPE=image/jpeg:https://eadn-wc05-15902914.nxedge.io/wp-content/uploads/2025/10/1080x1080_PC.jpg
ORGANIZER;CN="TPR Live":MAILTO:info@tprlive.co
END:VEVENT
BEGIN:VEVENT
DTSTART;TZID=America/Chicago:20251014T170000
DTEND;TZID=America/Chicago:20251014T203000
DTSTAMP:20260421T122247
CREATED:20251009T195514Z
LAST-MODIFIED:20251009T195514Z
UID:10056667-1760461200-1760473800@myflr.org
SUMMARY:16th Annual Mens Wild Beast Feast
DESCRIPTION:Wild Game Dinner starts with a car show at 5pm Dinner at 6pm and proffesional angler and avid hunter Hank Parker\nwill speak at 7pm and share his testimony. Prizes will be given out and grand prize is a 15ft jon boat with motor and trailer.
URL:https://myflr.org/event/16th-annual-mens-wild-beast-feast/
LOCATION:Hiland Park Baptist Church (Panama City\, FL)\, 2611 US-231\, Panama City\, FL\, 32405\, United States
CATEGORIES:Florida
END:VEVENT
BEGIN:VEVENT
DTSTART;TZID=America/Detroit:20250306T190000
DTEND;TZID=America/Detroit:20250306T220000
DTSTAMP:20260421T122247
CREATED:20250117T220612Z
LAST-MODIFIED:20250117T220635Z
UID:10038814-1741287600-1741298400@myflr.org
SUMMARY:Kirk Cameron: Strong Families\, Strong Communities Tour – Panama City
DESCRIPTION:SCHEDULE (subject to change):5:00 PM – VIP doors5:15 PM – Q + A begins6:00 PM – Early Entry doors6:15 PM – General Admission doors7:00 PM – Event begins———————————Join actor Kirk Cameron for an inspiring evening of worship and teaching as he unveils the transformative insights of his new book\, “Born to Be Brave.” In a time of exciting cultural transition\, Cameron delivers a compelling message of hope and courage\, urging Christians to reclaim a vision of victory to strengthen our families and our communities. Drawing on biblical insights and personal stories\, Cameron will gather the family of faith to encourage us to live compassionately\, act with unwavering confidence and courage\, to not just “stand strong\,” but win the hearts and minds of this generation. The night also includes worship from special guest Matt Hammitt. Don’t miss this opportunity to be inspired and walk away equipped to make a meaningful impact on our communities and beyond.———————————For the protection of our ticket buyers and event participants\, third party selling of tickets will not be permitted for any TPR. event pages. There has been an increase in fraudulent and unlawful scams around concert ticket sales online. To ensure everyone has an official ticket to the event through proper channels\, we recommend you purchase your tickets through the official ticketing outlet for your event. Any purchases through 3rd parties or 3rd party ticketing sites are not guaranteed by TPR. and limits your ability to receive up to date information for the event and any necessary assistance.
URL:https://myflr.org/event/kirk-cameron-strong-families-tour-strong-communities-panama-city/
LOCATION:Hiland Park Baptist Church (Panama City\, FL)\, 2611 US-231\, Panama City\, FL\, 32405\, United States
CATEGORIES:Featured,Florida
ATTACH;FMTTYPE=image/jpeg:https://eadn-wc05-15902914.nxedge.io/wp-content/uploads/2025/01/KirkCameron_SFSC2025_PanamaCity_1080x1080-copy.jpg
END:VEVENT
BEGIN:VEVENT
DTSTART;TZID=America/Phoenix:20231019T190000
DTEND;TZID=America/Phoenix:20231019T220000
DTSTAMP:20260421T122247
CREATED:20230801T142944Z
LAST-MODIFIED:20230801T144715Z
UID:10013134-1697742000-1697752800@myflr.org
SUMMARY:CAIN – LIVE AND IN COLOR TOUR – WARNER ROBINS
DESCRIPTION:CAIN has added new fall dates to their Live And In Color Tour! The band is being joined by Katy Nichole and David Leonard for an inspiring and fun night of worship. \n\nJoin us at Second Baptist Church in Warner Robins this October!\nAnd don’t forget to wear BLUE   \n\n\n\nTHU ∙ OCT 19\, 2023 ∙ 7:00 PM \nDoors open at 6:00 pm\n\nSecond Baptist Church\n2504 Moody Road\n\nWarner Robins\, GA 31088 US\n\n\n\n\nTickets on sale now! \nEvent info at https://www.facebook.com/events/1404967273750530\nTicket info at https://www.itickets.com/events/473816
URL:https://myflr.org/event/cain-live-and-in-color-tour-warner-robins/
LOCATION:Hiland Park Baptist Church (Panama City\, FL)\, 2611 US-231\, Panama City\, FL\, 32405\, United States
CATEGORIES:Featured,Georgia
ATTACH;FMTTYPE=image/jpeg:https://eadn-wc05-15902914.nxedge.io/wp-content/uploads/2023/08/Cain-Live-and-In-Color-11x17-Poster-5_23-FINAL-copy.jpg
END:VEVENT
BEGIN:VEVENT
DTSTART;TZID=America/Phoenix:20230921T190000
DTEND;TZID=America/Phoenix:20230921T220000
DTSTAMP:20260421T122247
CREATED:20230801T142344Z
LAST-MODIFIED:20230801T144732Z
UID:10013133-1695322800-1695333600@myflr.org
SUMMARY:CAIN – LIVE AND IN COLOR TOUR – PANAMA CITY
DESCRIPTION:CAIN has added new fall dates to their Live And In Color Tour! The band is being joined by Katy Nichole and David Leonard for an inspiring and fun night of worship.\nJoin us at Hiland Park Baptist Church in Panama City this September!\nAnd don’t forget to wear GREEN \nTHU ∙ SEP 21\, 2023 ∙ 7:00 PM \nDoors open at 6:00 pm\n\nHiland Park Baptist Church\n2611 North Highway 231\n\n\nPanama City\, FL 32405 US \nTickets on sale now! \nEvent info at https://www.facebook.com/events/1259519611354500\nTicket info at https://www.itickets.com/events/473735
URL:https://myflr.org/event/cain-live-and-in-color-tour-panama-city/
LOCATION:Hiland Park Baptist Church (Panama City\, FL)\, 2611 US-231\, Panama City\, FL\, 32405\, United States
CATEGORIES:Featured,Florida
ATTACH;FMTTYPE=image/jpeg:https://eadn-wc05-15902914.nxedge.io/wp-content/uploads/2023/08/Cain-Live-and-In-Color-11x17-Poster-5_23-FINAL-copy.jpg
END:VEVENT
BEGIN:VEVENT
DTSTART;TZID=America/Phoenix:20230806T190000
DTEND;TZID=America/Phoenix:20230806T220000
DTSTAMP:20260421T122247
CREATED:20230530T201410Z
LAST-MODIFIED:20230530T203134Z
UID:10010297-1691348400-1691359200@myflr.org
SUMMARY:KARI JOBE & CODY CARNES – PANAMA CITY
DESCRIPTION:SUN ∙ AUG 06\, 2023 ∙ 7:00 PM\nDoors open at 6:00 pm\nHiland Park Baptist Church\n2611 North Highway 231\nPanama City\, FL 32405 \n\n\n\nPRE-SALE May 30-June 1 with promo code: SUMMER @ https://www.rushconcerts.com/events/bands/kari-jobe (free signed tour poster included!)\nPUBLIC SALE June 2\, 10:00 am ET @ https://www.rushconcerts.com/events/bands/kari-jobe \n\n\n\nVIP Packages\nIncludes concert ticket \n\n\nWorship & Conversations Q&A Platinum\n$134.00\n\n\nWorship & Conversations Q&A Diamond\n$150.00\n\n\nULTIMATE Package\n$195.00\n\n\nMusician’s Experience\n$228.00\n\n\n\n\nTICKETS\n\n\nArtist Circle\n$55.00\n\n\nEarly Entry\n$39.00\n\n\nGeneral Admission\n$33.00\n\n\nGroups (10+)\n$25.00\n\n\n\n\nAdd Ons\nDoes NOT include a concert ticket. These are just add-ons to your concert tickets. \n\n\nWorship & Conversations Q&A Add-On\n$75.00\n\n\nTour Exclusive Merch Bundle Add-On\n$49.99\n\n\n\n\n\nAnnouncing the Christian concert of the summer featuring Kari Jobe & Cody Carnes! Prepare for a powerful night of worship and inspiration that you will not want to miss. These talented artists will come together to create an unforgettable experience\, lifting your spirits and drawing you closer to God through their music. \nJoin Kari Jobe\, known for her soul-stirring vocals and worshipful anthems like “The Blessing” and “I Am Not Alone.” Cody Carnes will lead you in heartfelt worship with songs such as “Firm Foundation” and “Run to the Father\,” leaving you in awe of God’s presence. \nMark your calendars and invite your friends and family to these incredible nights. It’s an opportunity to encounter God\, be uplifted in faith\, and experience the power of worship in a collective setting. Get ready to be moved\, inspired\, and filled with hope as these talented artists pour out their hearts for the glory of God. \nThis tour is made possible by World Vision. World Vision is a global humanitarian organization that focuses on child sponsorship\, disaster relief\, and community development. While they primarily work in areas such as poverty alleviation and providing aid to children and families in need
URL:https://myflr.org/event/kari-jobe-cody-carnes-panama-city/
LOCATION:Hiland Park Baptist Church (Panama City\, FL)\, 2611 US-231\, Panama City\, FL\, 32405\, United States
CATEGORIES:Featured,Florida
ATTACH;FMTTYPE=image/jpeg:https://eadn-wc05-15902914.nxedge.io/wp-content/uploads/2023/05/Kari-Jobe-Cody-Carnes-SQ.jpg
END:VEVENT
BEGIN:VEVENT
DTSTART;TZID=America/Phoenix:20230629T190000
DTEND;TZID=America/Phoenix:20230629T220000
DTSTAMP:20260421T122247
CREATED:20230519T140832Z
LAST-MODIFIED:20230530T203233Z
UID:10009509-1688065200-1688076000@myflr.org
SUMMARY:AFTER THE DOWNBEAT with DAVID PHELPS
DESCRIPTION:AdmissionSeating is first come\, first serve.\n\nEarly Entry Artist Circle / 5:45 PM\n$40.00\nGeneral Admission\n$28.00\nGeneral Admission Group (10+)\n$25.00\n\nFamily and Friends Four Pack (4+)$25.00 \nEvent info at www.davidphelps.com/tour/after-the-downbeat-with-david-phelps-3/ \nTicket info at www.itickets.com/events/473128
URL:https://myflr.org/event/after-the-downbeat-with-david-phelps/
LOCATION:Hiland Park Baptist Church (Panama City\, FL)\, 2611 US-231\, Panama City\, FL\, 32405\, United States
CATEGORIES:Featured,Florida
ATTACH;FMTTYPE=image/jpeg:https://eadn-wc05-15902914.nxedge.io/wp-content/uploads/2023/05/David-Phelps-Image-SQ.jpg
END:VEVENT
END:VCALENDAR