
BEGIN:VCALENDAR
VERSION:2.0
PRODID:-//Family Life Radio - ECPv6.15.20//NONSGML v1.0//EN
CALSCALE:GREGORIAN
METHOD:PUBLISH
X-ORIGINAL-URL:https://myflr.org
X-WR-CALDESC:Events for Family Life Radio
REFRESH-INTERVAL;VALUE=DURATION:PT1H
X-Robots-Tag:noindex
X-PUBLISHED-TTL:PT1H
BEGIN:VTIMEZONE
TZID:America/Phoenix
BEGIN:STANDARD
TZOFFSETFROM:-0700
TZOFFSETTO:-0700
TZNAME:MST
DTSTART:20250101T000000
END:STANDARD
END:VTIMEZONE
BEGIN:VEVENT
DTSTART;TZID=America/Phoenix:20260224T140000
DTEND;TZID=America/Phoenix:20260224T160000
DTSTAMP:20260420T220908
CREATED:20260120T001049Z
LAST-MODIFIED:20260120T001049Z
UID:10058083-1771941600-1771948800@myflr.org
SUMMARY:Living & Active
DESCRIPTION:Peer mentoring and social interactions for people with physical disabilities\, their care providers\, and anyone interested in making friends with disabled people and those who work to help them. This is a recurring event happening the second and fourth Tuesdays of every month.
URL:https://myflr.org/event/living-active-6/
LOCATION:Hildebrand Memorial Library\, 1033 Wisconsin Ave\, Boscobel\, WI\, 53805\, United States
CATEGORIES:Wisconsin
ATTACH;FMTTYPE=image/jpeg:https://eadn-wc05-15902914.nxedge.io/wp-content/uploads/2026/01/100_0148-3-scaled.jpg
ORGANIZER;CN="Living &amp%3B Active":MAILTO:inChristalone2022@protonmail.com
END:VEVENT
BEGIN:VEVENT
DTSTART;TZID=America/Phoenix:20260210T140000
DTEND;TZID=America/Phoenix:20260210T160000
DTSTAMP:20260420T220908
CREATED:20260120T001209Z
LAST-MODIFIED:20260120T001209Z
UID:10058082-1770732000-1770739200@myflr.org
SUMMARY:Living & Active
DESCRIPTION:Peer mentoring and social interactions for people with physical disabilities\, their care providers\, and anyone interested in making friends with disabled people and those who work to help them. This is a recurring event happening the second and fourth Tuesdays of every month.
URL:https://myflr.org/event/living-active-7/
LOCATION:Hildebrand Memorial Library\, 1033 Wisconsin Ave\, Boscobel\, WI\, 53805\, United States
CATEGORIES:Wisconsin
ATTACH;FMTTYPE=image/jpeg:https://eadn-wc05-15902914.nxedge.io/wp-content/uploads/2026/01/100_0148-2-scaled.jpg
ORGANIZER;CN="Living &amp%3B Active":MAILTO:inChristalone2022@protonmail.com
END:VEVENT
BEGIN:VEVENT
DTSTART;TZID=America/Phoenix:20260127T140000
DTEND;TZID=America/Phoenix:20260127T160000
DTSTAMP:20260420T220908
CREATED:20260120T000743Z
LAST-MODIFIED:20260120T000743Z
UID:10058088-1769522400-1769529600@myflr.org
SUMMARY:Living & Active
DESCRIPTION:Peer mentoring and social interactions for people with physical disabilities\, their care providers\, and anyone interested in making friends with disabled people and those who work to help them. This is a recurring event happening the second and fourth Tuesdays of every month.
URL:https://myflr.org/event/living-active/
LOCATION:Hildebrand Memorial Library\, 1033 Wisconsin Ave\, Boscobel\, WI\, 53805\, United States
CATEGORIES:Wisconsin
ATTACH;FMTTYPE=image/jpeg:https://eadn-wc05-15902914.nxedge.io/wp-content/uploads/2026/01/100_0148-8-scaled.jpg
ORGANIZER;CN="Living &amp%3B Active":MAILTO:inChristalone2022@protonmail.com
END:VEVENT
END:VCALENDAR