
BEGIN:VCALENDAR
VERSION:2.0
PRODID:-//Family Life Radio - ECPv6.15.20//NONSGML v1.0//EN
CALSCALE:GREGORIAN
METHOD:PUBLISH
X-WR-CALNAME:Family Life Radio
X-ORIGINAL-URL:https://myflr.org
X-WR-CALDESC:Events for Family Life Radio
REFRESH-INTERVAL;VALUE=DURATION:PT1H
X-Robots-Tag:noindex
X-PUBLISHED-TTL:PT1H
BEGIN:VTIMEZONE
TZID:America/Phoenix
BEGIN:STANDARD
TZOFFSETFROM:-0700
TZOFFSETTO:-0700
TZNAME:MST
DTSTART:20220101T000000
END:STANDARD
END:VTIMEZONE
BEGIN:VTIMEZONE
TZID:America/Denver
BEGIN:DAYLIGHT
TZOFFSETFROM:-0700
TZOFFSETTO:-0600
TZNAME:MDT
DTSTART:20230312T090000
END:DAYLIGHT
BEGIN:STANDARD
TZOFFSETFROM:-0600
TZOFFSETTO:-0700
TZNAME:MST
DTSTART:20231105T080000
END:STANDARD
BEGIN:DAYLIGHT
TZOFFSETFROM:-0700
TZOFFSETTO:-0600
TZNAME:MDT
DTSTART:20240310T090000
END:DAYLIGHT
BEGIN:STANDARD
TZOFFSETFROM:-0600
TZOFFSETTO:-0700
TZNAME:MST
DTSTART:20241103T080000
END:STANDARD
BEGIN:DAYLIGHT
TZOFFSETFROM:-0700
TZOFFSETTO:-0600
TZNAME:MDT
DTSTART:20250309T090000
END:DAYLIGHT
BEGIN:STANDARD
TZOFFSETFROM:-0600
TZOFFSETTO:-0700
TZNAME:MST
DTSTART:20251102T080000
END:STANDARD
END:VTIMEZONE
BEGIN:VEVENT
DTSTART;TZID=America/Phoenix:20251015T183000
DTEND;TZID=America/Phoenix:20251015T200000
DTSTAMP:20260421T103735
CREATED:20240806T172636Z
LAST-MODIFIED:20240806T172636Z
UID:10032528-1760553000-1760558400@myflr.org
SUMMARY:Wed Night Marriage Class – The Art of Marriage | Aug 28 – Oct 16
DESCRIPTION:If you have been married 50 years or 1 year you can benefit and grow in God’s design for marriage. We hope to see you there!\nAug 28 – Oct 16\n6:30pm-8:00pm\nRegister at the link below!\n** Childcare is offered for kids not yet eligible for AWANA. If you need childcare please note the child’s name\, gender\, and date of birth in the comment section of the form. The deadline to sign-up for childcare is Wednesday August 21.\nhttps://www.hoffmantownchurch.org/…/art-of-marriage-event/
URL:https://myflr.org/event/wed-night-marriage-class-the-art-of-marriage-aug-28-oct-16/2025-10-15/
LOCATION:Hoffmantown Church (Albuquerque\, NM)\, 8888 Harper Road NE\, Albuquerque\, 87111
CATEGORIES:New Mexico
ATTACH;FMTTYPE=image/png:https://eadn-wc05-15902914.nxedge.io/wp-content/uploads/2024/08/ArtoMar24.png
END:VEVENT
BEGIN:VEVENT
DTSTART;TZID=America/Phoenix:20250823T080000
DTEND;TZID=America/Phoenix:20250823T110000
DTSTAMP:20260421T103735
CREATED:20250729T212300Z
LAST-MODIFIED:20250802T001410Z
UID:10049773-1755936000-1755946800@myflr.org
SUMMARY:Care Net Pregnancy Centers of Albuquerque's annual Walk for Life 2025
DESCRIPTION:Care Net Pregnancy Centers of Albuquerque is holding our Annual Walk for Life\, Saturday\, August 23rd at Hoffmantown Church! Registration check in begins at 8am and the walk will start at 9am. Let’s walk around the Academy School and end at Hoffmantown Church parking lot.\n\nGrab a friend\, or two\, gather a team from your office\, your connect group or home fellowship and get sponsorships for this years Walk for Life! Help us fight the battle & save babies!\n\nREGISTER NOWhttps://secure.fundeasy.com/ministrysync/event/?e=30311\n\n\nFamily Life Radio will be there with our tent\, music and free items! We can’t wait to see you!
URL:https://myflr.org/event/care-net-pregnancy-centers-of-albuquerques-annual-walk-for-life/
LOCATION:Hoffmantown Church (Albuquerque\, NM)\, 8888 Harper Road NE\, Albuquerque\, 87111
CATEGORIES:Featured,New Mexico
ATTACH;FMTTYPE=image/jpeg:https://eadn-wc05-15902914.nxedge.io/wp-content/uploads/2025/07/Poster-1-scaled.jpg
END:VEVENT
BEGIN:VEVENT
DTSTART;TZID=America/Phoenix:20241214T183000
DTEND;TZID=America/Phoenix:20241214T203000
DTSTAMP:20260421T103735
CREATED:20241204T223117Z
LAST-MODIFIED:20241204T223117Z
UID:10037511-1734201000-1734208200@myflr.org
SUMMARY:Free Christmas Concert – The Star Still Shines – 6:30pm
DESCRIPTION:You don’t want to miss Christmas at Hoffmantown this year! On December 13 & 14 at 6:30pm\, our choir & orchestra will present “The Star Still Shines: A Southern Gospel Christmas”. It’s sure to be a fun\, toe-tapping time as we celebrate the Savior’s birth and the hope He continues to offer the world today. The 8th Annual Nativity Gallery will also be on display in the Fellowship Mall before and after the performances\, starting at 6:00pm. Refreshments and live music will be included. \nThis event does not offer childcare. \nTickets are not required\, no cost to enter.
URL:https://myflr.org/event/free-christmas-concert-the-star-still-shines-630pm/2024-12-14/
LOCATION:Hoffmantown Church (Albuquerque\, NM)\, 8888 Harper Road NE\, Albuquerque\, 87111
CATEGORIES:New Mexico
ATTACH;FMTTYPE=image/jpeg:https://eadn-wc05-15902914.nxedge.io/wp-content/uploads/2024/11/xmas-2024-banner-small.jpg
ORGANIZER;CN="Hoffmantown Church":MAILTO:info@hoffmantown.org
END:VEVENT
BEGIN:VEVENT
DTSTART;TZID=America/Phoenix:20241213T183000
DTEND;TZID=America/Phoenix:20241214T203000
DTSTAMP:20260421T103735
CREATED:20241204T223117Z
LAST-MODIFIED:20241204T223117Z
UID:10037510-1734114600-1734208200@myflr.org
SUMMARY:Free Christmas Concert – The Star Still Shines – 6:30pm
DESCRIPTION:You don’t want to miss Christmas at Hoffmantown this year! On December 13 & 14 at 6:30pm\, our choir & orchestra will present “The Star Still Shines: A Southern Gospel Christmas”. It’s sure to be a fun\, toe-tapping time as we celebrate the Savior’s birth and the hope He continues to offer the world today. The 8th Annual Nativity Gallery will also be on display in the Fellowship Mall before and after the performances\, starting at 6:00pm. Refreshments and live music will be included. \nThis event does not offer childcare. \nTickets are not required\, no cost to enter.
URL:https://myflr.org/event/free-christmas-concert-the-star-still-shines-630pm/2024-12-13/
LOCATION:Hoffmantown Church (Albuquerque\, NM)\, 8888 Harper Road NE\, Albuquerque\, 87111
CATEGORIES:New Mexico
ATTACH;FMTTYPE=image/jpeg:https://eadn-wc05-15902914.nxedge.io/wp-content/uploads/2024/11/xmas-2024-banner-small.jpg
ORGANIZER;CN="Hoffmantown Church":MAILTO:info@hoffmantown.org
END:VEVENT
BEGIN:VEVENT
DTSTART;TZID=America/Phoenix:20241102T083000
DTEND;TZID=America/Phoenix:20241102T160000
DTSTAMP:20260421T103735
CREATED:20241030T224152Z
LAST-MODIFIED:20241030T224152Z
UID:10037346-1730536200-1730563200@myflr.org
SUMMARY:AWAKE Christian Educators Experience
DESCRIPTION:Do you want to experience more of Jesus in you and with you at your school? Join us for AWAKE-a one-day transformational experience for Christian educators that opens our eyes to how God is using us as His ambassadors and then frees us to work more powerfully with Jesus. Is He inviting you to come AWAKE to your calling?\nTHE AWAKE EXPERIENCE INCLUDES…\n-Intentional time alone with God\n-Discussion & connection with other Christian educators\n-Bible study and applying Scriptural truths to our lives\n-Training in legal freedoms for public school educators\n-Discovering truths that will transform the way we see our jobs as educators
URL:https://myflr.org/event/awake-christian-educators-experience/
LOCATION:Hoffmantown Church (Albuquerque\, NM)\, 8888 Harper Road NE\, Albuquerque\, 87111
CATEGORIES:New Mexico
ORGANIZER;CN="Christian Educators":MAILTO:https://christianeducators.org/lift-contact/
END:VEVENT
BEGIN:VEVENT
DTSTART;TZID=America/Phoenix:20241102T080000
DTEND;TZID=America/Phoenix:20241102T160000
DTSTAMP:20260421T103735
CREATED:20240909T190442Z
LAST-MODIFIED:20240909T190518Z
UID:10033855-1730534400-1730563200@myflr.org
SUMMARY:AWAKE: Christian Educators 1 Day Experience
DESCRIPTION:A one-day transformational experience for Christian educators that opens our eyes to how God is using us as His ambassadors and then frees us to work more powerfully with Jesus. \nNote: The image upload did not accept my .jpg. If you contact Stephanie for the flyer or myself at leannstubbs.abq@gmail.com\, we can get you a copy of the flyer. Otherwise\, the website below includes the same information. \n  \nhttps://christianeducators.org/awakeNM
URL:https://myflr.org/event/awake-christian-educators-1-day-experience/
LOCATION:Hoffmantown Church (Albuquerque\, NM)\, 8888 Harper Road NE\, Albuquerque\, 87111
CATEGORIES:New Mexico
ORGANIZER;CN="Christian Educators":MAILTO:stephmc7@gmail.com
END:VEVENT
BEGIN:VEVENT
DTSTART;TZID=America/Phoenix:20241018T183000
DTEND;TZID=America/Phoenix:20241018T200000
DTSTAMP:20260421T103735
CREATED:20241001T222526Z
LAST-MODIFIED:20241001T222526Z
UID:10036368-1729276200-1729281600@myflr.org
SUMMARY:Protect Young Eyes: How to Have a Tech Ready Home
DESCRIPTION:No Filter – Creating a Tech Ready Home in an Ever-Changing Digital World \nAlthough it’s not possible to create an internet-safe home\, it is possible to create one that is internet SAFER. This presentation breaks down some foundational ideas:\n– Do you know what’s better than any parental control?\n– Do you know why your router is the most important digital device in your home?\n– Do you understand the toxic trio?\n– Do you know why TikTok is so intoxicating to young brains?\nGet ready for a ton of practical tips\, solutions\, and ideas you can implement. \nThis seminar is recommended for adults with kids birth – high school- children and students are discouraged from attending.
URL:https://myflr.org/event/protect-young-eyes-how-to-have-a-tech-ready-home/
LOCATION:Hoffmantown Church (Albuquerque\, NM)\, 8888 Harper Road NE\, Albuquerque\, 87111
CATEGORIES:New Mexico
ATTACH;FMTTYPE=image/png:https://eadn-wc05-15902914.nxedge.io/wp-content/uploads/2024/09/1.png
ORGANIZER;CN="Hoffmantown Kids Ministry":MAILTO:kids@hoffmantown.org
END:VEVENT
BEGIN:VEVENT
DTSTART;TZID=America/Phoenix:20240906T180000
DTEND;TZID=America/Phoenix:20240906T203000
DTSTAMP:20260421T103735
CREATED:20240820T170340Z
LAST-MODIFIED:20240820T170340Z
UID:10033199-1725645600-1725654600@myflr.org
SUMMARY:Birds & Bees Seminar
DESCRIPTION:The Birds & Bees Ministry will be leading a live seminar September 6 from 6:00 – 8:30 PM at Hoffmantown Church \nMary Flo Ridley with Birds & Bees will lead a live program that equips you to have age-appropriate conversations with your children about sex. Birds & Bees’ goal is to replace that one talk with several smaller talks so that your kids can hear your voice and values. \nThe live program walks you through the six-step strategy that takes you from early pre-school years to pre-adolesence.\nMany people come to this program nervous and intimidated about the topic and leave feeling encouraged and powerful!\n*Recommended for families with kids birth – 10 years old
URL:https://myflr.org/event/birds-bees-seminar/
LOCATION:Hoffmantown Church (Albuquerque\, NM)\, 8888 Harper Road NE\, Albuquerque\, 87111
CATEGORIES:New Mexico
ATTACH;FMTTYPE=image/png:https://eadn-wc05-15902914.nxedge.io/wp-content/uploads/2024/08/Birds-Bees-Graphic.png
ORGANIZER;CN="Hoffmantown Kids Ministry":MAILTO:kids@hoffmantown.org
END:VEVENT
BEGIN:VEVENT
DTSTART;TZID=America/Phoenix:20240810T080000
DTEND;TZID=America/Phoenix:20240810T110000
DTSTAMP:20260421T103735
CREATED:20240715T224845Z
LAST-MODIFIED:20240715T224845Z
UID:10031181-1723276800-1723287600@myflr.org
SUMMARY:Walk for Life 2024
DESCRIPTION:Family Life Radio 91.5 FM and Care Net Pregnancy Center of Albuquerque invite you… \nWalk for Life 2024 \nSaturday\, August 10th\, 2024 \n8:00am \nHoffmantown Church-8888 Harper Rd NE ABQ\, NM 87111 \nWe are so excited to host our 41st Annual Walk for Life event altogether\, six centers in one location at Hoffmantown Church. We had so much fun seeing you all last year in one location and we want to continue this year. \nWith your help\, a bigger crowd walking and standing up for LIFE in our city we are all leaving a Legacy for Life. Please gather your team or sign up as an individual walker! Then start to obtain your pledges and we will see you on August 10th! \nRegister today at: event.fundeasy.com/27781 \nSueños Coffee Co. and RED TACO SHOP will be serving up tasty treats that you don’t want to miss! Face Painting for the kids\, fun and fellowship afterwards…along with music\, prizes and games with Family Life Radio! We’re Celebrating Life Together!
URL:https://myflr.org/event/walk-for-life-2024/
LOCATION:Hoffmantown Church (Albuquerque\, NM)\, 8888 Harper Road NE\, Albuquerque\, 87111
CATEGORIES:Featured,New Mexico
ATTACH;FMTTYPE=image/jpeg:https://eadn-wc05-15902914.nxedge.io/wp-content/uploads/2024/07/Walk-for-LIfe-2024-Graphic.jpg
ORGANIZER;CN="Care Net of Albuquerque":MAILTO:outreach@carenetabq.org
END:VEVENT
BEGIN:VEVENT
DTSTART;TZID=America/Denver:20240413T100000
DTEND;TZID=America/Denver:20240413T120000
DTSTAMP:20260421T103735
CREATED:20240328T222003Z
LAST-MODIFIED:20240328T222003Z
UID:10022916-1713002400-1713009600@myflr.org
SUMMARY:Kids Express Preschool Open House
DESCRIPTION:Come join us for the Kids Express Open House on Saturday\, April 13th from 10 AM to 12 PM. This is a great opportunity to:\n– Tour our facilities\n– Meet our staff\n– Learn about our programs and curriculum\n– Get information on enrollment \nKids Express aims to provide quality care in a positive\, Christian atmosphere which will promote the spiritual\, cognitive\, and socio-emotional growth of children through the participation in educationally sound learning activities. \nDon’t miss this chance to see what makes Kids Express special! We look forward to welcoming you and your family.
URL:https://myflr.org/event/kids-express-preschool-open-house/
LOCATION:Hoffmantown Church (Albuquerque\, NM)\, 8888 Harper Road NE\, Albuquerque\, 87111
CATEGORIES:New Mexico
ATTACH;FMTTYPE=image/png:https://eadn-wc05-15902914.nxedge.io/wp-content/uploads/2024/03/IMG_2790.png
END:VEVENT
BEGIN:VEVENT
DTSTART;TZID=America/Phoenix:20240226T180000
DTEND;TZID=America/Phoenix:20240227T210000
DTSTAMP:20260421T103735
CREATED:20240206T225451Z
LAST-MODIFIED:20240206T225459Z
UID:10019602-1708970400-1709067600@myflr.org
SUMMARY:New Mexico Evangelism Conference 2024
DESCRIPTION:New Mexico Evangelism Conference 2024 \nFebruary 26-27\, 2024 \nHoffmantown Church-8888 Harper Dr. NE ABQ\, NM 87111 \nClick here to register for the NMEC \nChildren’s Ministry Leaders Lunch. \nCoffee With the Crew. \nNew Mexico Singing Churchmen will lead off the Tuesday evening session of the Evangelism Conference.
URL:https://myflr.org/event/new-mexico-evangelism-conference-2024/
LOCATION:Hoffmantown Church (Albuquerque\, NM)\, 8888 Harper Road NE\, Albuquerque\, 87111
CATEGORIES:New Mexico
ATTACH;FMTTYPE=image/png:https://eadn-wc05-15902914.nxedge.io/wp-content/uploads/2024/02/NM-Evangelism-Conference-2024.png
END:VEVENT
BEGIN:VEVENT
DTSTART;TZID=America/Phoenix:20231209T183000
DTEND;TZID=America/Phoenix:20231209T200000
DTSTAMP:20260421T103735
CREATED:20231117T213341Z
LAST-MODIFIED:20231117T213341Z
UID:10018490-1702146600-1702152000@myflr.org
SUMMARY:The Miracle of Christmas – Christmas at Hoffmantown
DESCRIPTION:Come and experience Jesus\, The Miracle of Christmas\, as Hoffmantown Church presents an evening of Christmas sights and sounds you won’t soon forget. Our Worship Choir and Orchestra will perform beautiful and exciting arrangements\, featuring both old and new Christmas songs. You and your family/friends won’t want to miss making this a part of your Christmas memories this year. \nDecember 8 & 9\, 2023 from 6:30-8pm \nHoffmantown Church 8888 Harper NE ABQ\, NM  \nAlso\, join us in the Fellowship Mall before and after the performance for our 7th annual Nativity Gallery. This display will open and refreshments will be provided before each performance. \nTickets are not required\, no cost to enter.
URL:https://myflr.org/event/the-miracle-of-christmas-christmas-at-hoffmantown/2023-12-09/
LOCATION:Hoffmantown Church (Albuquerque\, NM)\, 8888 Harper Road NE\, Albuquerque\, 87111
CATEGORIES:New Mexico
ATTACH;FMTTYPE=image/jpeg:https://eadn-wc05-15902914.nxedge.io/wp-content/uploads/2023/11/miracle-of-christmas.jpg
END:VEVENT
BEGIN:VEVENT
DTSTART;TZID=America/Phoenix:20230812T080000
DTEND;TZID=America/Phoenix:20230812T120000
DTSTAMP:20260421T103735
CREATED:20230711T221801Z
LAST-MODIFIED:20230711T221801Z
UID:10012448-1691827200-1691841600@myflr.org
SUMMARY:Walk For Life 2023
DESCRIPTION:Walk for LIFE is HERE!\nCare Net Pregnancy Centers of Albuquerque is hosting our\nAnnual Walk for Life Fundraiser!  \nWe are so excited to host this years event altogether\, six centers in one location.  Since we are continuing our celebration of being established in Albuquerque and the surrounding areas for 40 years\, we knew it would be fun to host all our centers for one walk.  A bigger crowd walking and standing up for LIFE in our city! \n Please gather your team and sign up!  As soon as you create your team\, you can begin obtaining your pledges.\n \nThis years walk is going to be a great event. 91.5 FM Family Life Radio\, food trucks\, a small car show and fun for the entire family!\n Plan on getting to the walk early this year.  \nWalkers get a FREE T-Shirt or Water Bottle (while supplies last).  Register below!  https://secure.fundeasy.com/ministrysync/event/website/home/?e=25801\nWe can’t wait to see you there!\n 
URL:https://myflr.org/event/walk-for-life-2023/
LOCATION:Hoffmantown Church (Albuquerque\, NM)\, 8888 Harper Road NE\, Albuquerque\, 87111
CATEGORIES:Featured,New Mexico
ATTACH;FMTTYPE=image/jpeg:https://eadn-wc05-15902914.nxedge.io/wp-content/uploads/2023/07/WFL-Mini-2023.jpg
END:VEVENT
BEGIN:VEVENT
DTSTART;TZID=America/Phoenix:20230714T190000
DTEND;TZID=America/Phoenix:20230714T190000
DTSTAMP:20260421T103735
CREATED:20230620T230638Z
LAST-MODIFIED:20230706T223702Z
UID:10010618-1689361200-1689361200@myflr.org
SUMMARY:ALBUQUERQUE GODS TALENT
DESCRIPTION:5th Annual Christian Talent Search for Mid though High School Students\nAudition deadline June 30\, 2023
URL:https://myflr.org/event/albuquerque-gods-talent-2/
LOCATION:Hoffmantown Church (Albuquerque\, NM)\, 8888 Harper Road NE\, Albuquerque\, 87111
CATEGORIES:New Mexico
ATTACH;FMTTYPE=image/jpeg:https://eadn-wc05-15902914.nxedge.io/wp-content/uploads/2023/06/AGT-NO-LOGO-1.jpeg
END:VEVENT
BEGIN:VEVENT
DTSTART;TZID=America/Phoenix:20230606T080000
DTEND;TZID=America/Phoenix:20230606T170000
DTSTAMP:20260421T103735
CREATED:20230607T211129Z
LAST-MODIFIED:20230607T211149Z
UID:10010600-1686038400-1686070800@myflr.org
SUMMARY:ALBUQUERQUE GODS TALENT
DESCRIPTION:MID & HIGH SCHOOL STUDENT TALENT SEARCH (free to enter & attend)\nhttps://www.abqgodstalent.com\nFriday\, July 14\, 7:00pm held in the main sanctuary of Hoffmantown Church\naudition deadline June 30\, submitted on youtube
URL:https://myflr.org/event/albuquerque-gods-talent/
LOCATION:Hoffmantown Church (Albuquerque\, NM)\, 8888 Harper Road NE\, Albuquerque\, 87111
CATEGORIES:New Mexico
ATTACH;FMTTYPE=image/jpeg:https://eadn-wc05-15902914.nxedge.io/wp-content/uploads/2023/06/AGT-NO-LOGO.jpeg
END:VEVENT
END:VCALENDAR