
BEGIN:VCALENDAR
VERSION:2.0
PRODID:-//Family Life Radio - ECPv6.15.20//NONSGML v1.0//EN
CALSCALE:GREGORIAN
METHOD:PUBLISH
X-WR-CALNAME:Family Life Radio
X-ORIGINAL-URL:https://myflr.org
X-WR-CALDESC:Events for Family Life Radio
REFRESH-INTERVAL;VALUE=DURATION:PT1H
X-Robots-Tag:noindex
X-PUBLISHED-TTL:PT1H
BEGIN:VTIMEZONE
TZID:America/Phoenix
BEGIN:STANDARD
TZOFFSETFROM:-0700
TZOFFSETTO:-0700
TZNAME:MST
DTSTART:20240101T000000
END:STANDARD
END:VTIMEZONE
BEGIN:VEVENT
DTSTART;TZID=America/Phoenix:20250510T093000
DTEND;TZID=America/Phoenix:20250510T110000
DTSTAMP:20260421T141814
CREATED:20241218T145650Z
LAST-MODIFIED:20241218T145650Z
UID:10037594-1746869400-1746874800@myflr.org
SUMMARY:Jesus Cares
DESCRIPTION:A gathering of learning and fun activities for those with cognitive development disabilities. Participants will engage in bible stories\, sing songs\, eat snacks\, crafts and fellowship together around the Word of God. Participants are required to bring a caregiver.
URL:https://myflr.org/event/jesus-cares/2025-05-10/
LOCATION:Holy Scripture Lutheran Church (Midland\, MI)\, 4525 W Main St\, Midland\, 48640\, United States
CATEGORIES:Michigan
ATTACH;FMTTYPE=image/jpeg:https://eadn-wc05-15902914.nxedge.io/wp-content/uploads/2024/12/IMG_3462-scaled.jpeg
END:VEVENT
END:VCALENDAR