
BEGIN:VCALENDAR
VERSION:2.0
PRODID:-//Family Life Radio - ECPv6.15.20//NONSGML v1.0//EN
CALSCALE:GREGORIAN
METHOD:PUBLISH
X-WR-CALNAME:Family Life Radio
X-ORIGINAL-URL:https://myflr.org
X-WR-CALDESC:Events for Family Life Radio
REFRESH-INTERVAL;VALUE=DURATION:PT1H
X-Robots-Tag:noindex
X-PUBLISHED-TTL:PT1H
BEGIN:VTIMEZONE
TZID:America/Detroit
BEGIN:DAYLIGHT
TZOFFSETFROM:-0500
TZOFFSETTO:-0400
TZNAME:EDT
DTSTART:20230312T070000
END:DAYLIGHT
BEGIN:STANDARD
TZOFFSETFROM:-0400
TZOFFSETTO:-0500
TZNAME:EST
DTSTART:20231105T060000
END:STANDARD
BEGIN:DAYLIGHT
TZOFFSETFROM:-0500
TZOFFSETTO:-0400
TZNAME:EDT
DTSTART:20240310T070000
END:DAYLIGHT
BEGIN:STANDARD
TZOFFSETFROM:-0400
TZOFFSETTO:-0500
TZNAME:EST
DTSTART:20241103T060000
END:STANDARD
BEGIN:DAYLIGHT
TZOFFSETFROM:-0500
TZOFFSETTO:-0400
TZNAME:EDT
DTSTART:20250309T070000
END:DAYLIGHT
BEGIN:STANDARD
TZOFFSETFROM:-0400
TZOFFSETTO:-0500
TZNAME:EST
DTSTART:20251102T060000
END:STANDARD
END:VTIMEZONE
BEGIN:VEVENT
DTSTART;TZID=America/Detroit:20240511T093000
DTEND;TZID=America/Detroit:20240511T133000
DTSTAMP:20260421T122252
CREATED:20240423T151114Z
LAST-MODIFIED:20240423T152352Z
UID:10024596-1715419800-1715434200@myflr.org
SUMMARY:Daughters of the King (Mothers Day Brunch) – Sterling Heights
DESCRIPTION:Come and join us Saturday May 11th\, for our 2nd Annual Daughters of the King Mothers Day Brunch. This year we will be featuring Dr. Rev. Arnetta Bailey as our guest speaker. Come and join us for food\, fellowship\, worship and a word from the Lord. Tickets are 12.50 and can be purchased either through our link on Eventbrite\, our church website www.hopecrossing.church or by calling the Church.
URL:https://myflr.org/event/daughters-of-the-king-mothers-day-brunch-sterling-heights-5/
LOCATION:Hope Crossing\, 37845 Dodge Park Road\, Sterling Heights\, MI\, 48312\, United States
CATEGORIES:Michigan
ATTACH;FMTTYPE=image/png:https://eadn-wc05-15902914.nxedge.io/wp-content/uploads/2024/04/A18917FC-0A34-4E1D-B873-8580B842037A.png
END:VEVENT
END:VCALENDAR