
BEGIN:VCALENDAR
VERSION:2.0
PRODID:-//Family Life Radio - ECPv6.15.20//NONSGML v1.0//EN
CALSCALE:GREGORIAN
METHOD:PUBLISH
X-ORIGINAL-URL:https://myflr.org
X-WR-CALDESC:Events for Family Life Radio
REFRESH-INTERVAL;VALUE=DURATION:PT1H
X-Robots-Tag:noindex
X-PUBLISHED-TTL:PT1H
BEGIN:VTIMEZONE
TZID:America/Phoenix
BEGIN:STANDARD
TZOFFSETFROM:-0700
TZOFFSETTO:-0700
TZNAME:MST
DTSTART:20240101T000000
END:STANDARD
END:VTIMEZONE
BEGIN:VEVENT
DTSTART;TZID=America/Phoenix:20250123T080000
DTEND;TZID=America/Phoenix:20250123T173000
DTSTAMP:20260421T163754
CREATED:20250106T171912Z
LAST-MODIFIED:20250106T171912Z
UID:10038381-1737619200-1737653400@myflr.org
SUMMARY:Cover to Cover – Virtual Through the bible Discipleship Information Session
DESCRIPTION:Do you ever wonder when you will become spiritually mature? Like\, when you will get it? Like\, when you will know what to do\, know when to do it\, and have way less questions about how to live? What if I told you that you could get there in one (1) year? \nThis IS a unique group\, and a unique method. This is NOT about knowing everything about a verse or a passage\, so no Bible-School degree is required. This IS about getting what God wants you to get\, when HE wants you to get it\, and diligently following Him. This IS about learning directly from the Spirit of God through the Word of God. This method leverages both the benefits of individual discipleship and group learning\, just like Jesus did\, it is powerful\, and you can do this successfully. \nWe are going to spend a year reading the Bible cover to cover\, as a group\, on zoom. You will learn to identify and apply God’s truth in your life\, in real time\, and at the end of the year\, you will be prepared to live your best life ever. I am excited to go on this journey\, and I would love for you to join me.
URL:https://myflr.org/event/cover-to-cover-virtual-through-the-bible-discipleship-information-session/
LOCATION:Virtual Event\, 2837 Cormorant Road\, Delray Beach\, FL\, 33444\, United States
ATTACH;FMTTYPE=image/png:https://eadn-wc05-15902914.nxedge.io/wp-content/uploads/2024/12/Discipleship-Info-Metting-Jan-23-2024pdf.png
ORGANIZER;CN="Cover to Cover Discipleship":MAILTO:c2cdiscipleship@gmail.com
END:VEVENT
END:VCALENDAR