
BEGIN:VCALENDAR
VERSION:2.0
PRODID:-//Family Life Radio - ECPv6.15.20//NONSGML v1.0//EN
CALSCALE:GREGORIAN
METHOD:PUBLISH
X-WR-CALNAME:Family Life Radio
X-ORIGINAL-URL:https://myflr.org
X-WR-CALDESC:Events for Family Life Radio
REFRESH-INTERVAL;VALUE=DURATION:PT1H
X-Robots-Tag:noindex
X-PUBLISHED-TTL:PT1H
BEGIN:VTIMEZONE
TZID:America/Phoenix
BEGIN:STANDARD
TZOFFSETFROM:-0700
TZOFFSETTO:-0700
TZNAME:MST
DTSTART:20240101T000000
END:STANDARD
END:VTIMEZONE
BEGIN:VEVENT
DTSTART;TZID=America/Phoenix:20250907T110000
DTEND;TZID=America/Phoenix:20250907T140000
DTSTAMP:20260421T050206
CREATED:20250904T131515Z
LAST-MODIFIED:20250904T131515Z
UID:10051533-1757242800-1757253600@myflr.org
SUMMARY:Community Church Picnic - Ypsilanti
DESCRIPTION:At our 11:00 A.M. service we will have gospel singers Michael Bailey and Kristen Stanton. After service around 12:30 we will have our annual picnic hot dogs\, hamburgers\, all the fixings and sides.
URL:https://myflr.org/event/community-church-picnic-ypsilanti/
LOCATION:Immanuel Baptist Church (Ypsilanti\, MI)\, 1565 E. Forest Ave\, Ypsilanti\, MI\, 48197\, United States
CATEGORIES:Michigan
ATTACH;FMTTYPE=image/jpeg:https://eadn-wc05-15902914.nxedge.io/wp-content/uploads/2025/09/IMG_0229.jpeg
END:VEVENT
END:VCALENDAR