
BEGIN:VCALENDAR
VERSION:2.0
PRODID:-//Family Life Radio - ECPv6.15.20//NONSGML v1.0//EN
CALSCALE:GREGORIAN
METHOD:PUBLISH
X-WR-CALNAME:Family Life Radio
X-ORIGINAL-URL:https://myflr.org
X-WR-CALDESC:Events for Family Life Radio
REFRESH-INTERVAL;VALUE=DURATION:PT1H
X-Robots-Tag:noindex
X-PUBLISHED-TTL:PT1H
BEGIN:VTIMEZONE
TZID:America/Phoenix
BEGIN:STANDARD
TZOFFSETFROM:-0700
TZOFFSETTO:-0700
TZNAME:MST
DTSTART:20250101T000000
END:STANDARD
END:VTIMEZONE
BEGIN:VTIMEZONE
TZID:America/Detroit
BEGIN:DAYLIGHT
TZOFFSETFROM:-0500
TZOFFSETTO:-0400
TZNAME:EDT
DTSTART:20240310T070000
END:DAYLIGHT
BEGIN:STANDARD
TZOFFSETFROM:-0400
TZOFFSETTO:-0500
TZNAME:EST
DTSTART:20241103T060000
END:STANDARD
BEGIN:DAYLIGHT
TZOFFSETFROM:-0500
TZOFFSETTO:-0400
TZNAME:EDT
DTSTART:20250309T070000
END:DAYLIGHT
BEGIN:STANDARD
TZOFFSETFROM:-0400
TZOFFSETTO:-0500
TZNAME:EST
DTSTART:20251102T060000
END:STANDARD
BEGIN:DAYLIGHT
TZOFFSETFROM:-0500
TZOFFSETTO:-0400
TZNAME:EDT
DTSTART:20260308T070000
END:DAYLIGHT
BEGIN:STANDARD
TZOFFSETFROM:-0400
TZOFFSETTO:-0500
TZNAME:EST
DTSTART:20261101T060000
END:STANDARD
END:VTIMEZONE
BEGIN:VEVENT
DTSTART;TZID=America/Phoenix:20260202T180000
DTEND;TZID=America/Phoenix:20260202T200000
DTSTAMP:20260421T170828
CREATED:20251120T160135Z
LAST-MODIFIED:20251120T160135Z
UID:10057593-1770055200-1770062400@myflr.org
SUMMARY:Christian Music Skate
DESCRIPTION:Come and enjoy music and skating
URL:https://myflr.org/event/christian-music-skate/2026-02-02/
LOCATION:Ionia Skateland (Ionia\, MI)\, 820 Jefferson Rd\, Ionia\, MI\, 48846\, United States
CATEGORIES:Michigan
END:VEVENT
BEGIN:VEVENT
DTSTART;TZID=America/Detroit:20251013T180000
DTEND;TZID=America/Detroit:20251013T200000
DTSTAMP:20260421T170828
CREATED:20250211T143959Z
LAST-MODIFIED:20250919T173731Z
UID:10039355-1760378400-1760385600@myflr.org
SUMMARY:CHRISTIAN MUSIC SKATE NIGHT – IONIA SKATELAND
DESCRIPTION:Christian Music Skate Night – Ionia Skateland \nCome join Family Life Radio at Christian Music Skate Night at Ionia Skateland on October 13 from 6PM – 8PM! \nEntry is $5.00 and that includes skate rental! \nSkate to some of your favorite songs on Family Life Radio\, plus come use our photo booth!
URL:https://myflr.org/event/christian-music-skate-night-ionia-skateland-2/
LOCATION:Ionia Skateland (Ionia\, MI)\, 820 Jefferson Rd\, Ionia\, MI\, 48846\, United States
CATEGORIES:Featured,Michigan
ATTACH;FMTTYPE=image/jpeg:https://eadn-wc05-15902914.nxedge.io/wp-content/uploads/2025/02/Ionia-Christian-Music-Skate-Night-Oct.jpg
END:VEVENT
END:VCALENDAR